Workbook

Sheet 申込作成要領
A1: 参加申込書 及び パンフレット作成要領
A3: （2026年 第105回 全国高校サッカ-選手権大会 沖縄県大会）
A4: 【作成についての注意点】
A5: 1．沖縄県サッカー協会ホームページから「2026選手権申し込み・パンフレット」をダウンロードして下さい。
A6: ※人数によってデータが分かれています。各チームの人数に合ったＥｘｃｅｌデータをダウンロードして下さい。
A7: 2．『参加申込書』『パンフレット』のシートへ入力をお願いします。
A8: 3．『参加申込書』は30名ずつの記載となりシートが分かれています。
A9: 4．『参加申込書』の一部は『パンフレット』へリンクしています。※パンフレットにも入力項目はあります。
A10: 5．シートの入力箇所以外は保護がかかっています。何かあれば要領下記のﾒｰﾙｱﾄﾞﾚｽまで連絡下さい。
A11: 6．『パンフレット』の一部は『メンバー用紙及び交代用紙』へリンクしています。各チーム活用ください。
A12: 7．作成作業終了後に『申込作成要領』右のチェック欄で確認をお願いします。※印刷の必要はありません。
A13: ※『合同チームへの注意点』・・・「参加申込書」は各校で作成し、「ﾊﾟﾝﾌﾚｯﾄ」は合同で１部作成して下さい。
A15: 【作成の流れ】 参加申込書→作業1・2 パンフレット→作業3・4 印刷、確認、メール送信→作業5.6 | J15: チェック
A16: 1．『参加申込書』へ学校名、監督名、引率教諭、コーチ、マネージャー、郵便番号、住所、サッカー協会に登録したチーム番号(7ケタ)を入力してください。 | J16: 1 | N16: ○
A17: ※1．郵便番号と住所は別枠で入力して下さい。別々でパンフレットにリンクしています。 | J17: ↓
A18: ↓
A20: 2．『参加申込書』へ位置、氏名、学年、生年月日、身長、体重、サッカー協会へ登録した選手登録番号（10ケタ)を入力後、シート最下部の日付、学校名、校長名を入力し、公印を押して下さい。 | J20: 2
A21: ※1．『参加申込書』の一部は『パンフレット』へリンクしています。
A22: ※2．『参加申込書』と『パンフレット（合同チーム用）』はリンクしていません。お手数ですが入力宜しくお願いします。
A23: ※3．身長、体重は小数以下は含めずに入力して下さい。【例：身長１７２．５→１７２】
A24: ※4．申込みの人数に応じて作成枚数が異なります。『参加申込書』の右下の申込の確認欄への入力もお願いします。【例：申込み人数が１２０人（４枚必要）でありその１枚目であれば １ 枚目/ 4 枚中】
A25: ↓
A26: 3．『パンフレット』へ直接入力をして下さい。（５ヶ所） | J26: 3
A27: ※1．①校章（左上）、②チームプロフィール、③ユニホーム（色）、④前所属、⑤チーム集合写真（末尾） | J27: ↓
A28: ※2．校章やチーム集合写真の余白はトリミングをして、枠内に収まるようにお願いします。
A29: ※3．パンフレットは白黒写真になることを前提に、なるべく明るい場所で撮影して下さい。
A30: ※4．前所属チーム名が長い場合は枠の関係上小さく表示されます。
A31: ※5．合同チームは、合同でパンフレットを1部作成して下さい。
A32: ※6．『パンフレット』と『メンバー及び交代用紙』、『パンフレット（合同チーム用）』と『メンバー及び交代用紙（合同チーム用）』の一部はリンクしています。活用ください。
A33: ↓
A34: 4．申込用紙・パンフレットを印刷して確認して下さい。 | J34: 4
A35: ↓ | J35: ↓
A36: 5．『参加申込書』を1部印刷し、公印を押した上でＰＤＦ化する。【県立学校】は県サッカー協会ホームページの申込フォームもしくは下記のURLより、必要事項の入力及び作成したＰＤＦファイルのアップロード後、送信して下さい。【県立学校以外】は、作成したＰＤＦファイルを県高体連サッカー専門部(soccer.oki@as.open.ed.jp)へメールで送信して下さい。 申込フォームURL:https://forms.cloud.microsoft/r/3SqYBcrCe5 提出〆切：9/11(金)12：00 | J36: 5
A37: ※1．押印は公印のみです。監督、引率教諭は必要ありません。 | J37: ↓
A38: ※2．印刷範囲の確認をしてください。プリンターによって印刷範囲が変わる場合があります。
A39: ※3．提出の際には、その他の書類のアップロード(メールの場合は添付)も忘れないようにして下さい。
A40: ※4．『参加申込書』は申込みする人数に応じて枚数が異なります。御確認お願いします。また、参加申込書が複数枚になる場合は、１つのＰＤＦデータにまとめてアップロード(添付)して下さい。
A41: ↓
A42: 6．入力済の「2026選手権申込・パンフレット(〇〇名用)」(Excel)のデータファイル（Excel）を下記メールアドレスへ9/11 (金) 12：00までに送信。 | J42: 6
A43: ※1 メールの件名・添付ファイル名は 「学校番号学校名・2026選手権」 として下さい。 例→｢00沖縄高校・2026選手権｣
A44: ※2 メールアドレスは以下のアドレス部分をコピーして使用できます。
A45: パンフレットのデータ（Excel）の送信先メールアドレス：【 | F45: ooshmori@open.ed.jp | J45: 】
A46: ※1 5、6については時間厳守です。守られなかった場合は、参加できないことがあります。
A47: 提出締切【9月11日(金)12：00 参加申込書(formsかメール送信)、ﾊﾟﾝﾌﾚｯﾄﾃﾞｰﾀ(メール送信)
A48: ※2「参加申込書受信確認」,「ﾊﾟﾝﾌﾚｯﾄﾃﾞｰﾀ受信確認」の返信メールを行います。※受信翌日までに行いますが遅れる場合があります。
A49: ※３ 参加申込書類･パンフレットデータの送信先が異なりますので、ご注意下さい。 参加申込書類(県立学校以外)：soccer.oki@as.open.ed.jp ※県立学校は必ずformsで回答下さい。 パンフレットデータ(全学校)：ooshmori@open.ed.jp

Sheet 参加申込書(NO1~30)
A1: 2026年 第105回 全国高校サッカ-選手権大会 沖縄県大会
A2: 参 加 申 込 書
A3: 学校名 | F3: 監督名 | M3: 引率教諭
A4: コーチ | F4: コーチ
A5: コーチ | F5: マネージャー | M5: ・ | V5: GK | W5: 1 | X5: 150 | Y5: 45 | Z5: 2006 | AA5: 1 | AB5: 1
A6: 住 所 | C6: 〒 | K6: チーム番号(7ケタ) | V6: DF | W6: 2 | X6: 151 | Y6: 46 | Z6: 2007 | AA6: 2 | AB6: 2
A7: 通番 | B7: 位置 | D7: 氏 名 | F7: 学年 | G7: 生年月日(西暦) | L7: 身 長 (cm) | M7: 体 重 (kg) | N7: 選手登録番号 (10ケタ) | V7: MF | W7: 3 | X7: 152 | Y7: 47 | Z7: 2008 | AA7: 3 | AB7: 3
V8: FW | W8: 4 | X8: 153 | Y8: 48 | Z8: 2009 | AA8: 4 | AB8: 4
A9: 1 | H9: . | J9: . | W9: 5 | X9: 154 | Y9: 49 | Z9: 2010 | AA9: 5 | AB9: 5
A10: 2 | H10: . | J10: . | W10: 6 | X10: 155 | Y10: 50 | Z10: 2011 | AA10: 6 | AB10: 6
A11: 3 | H11: . | J11: . | W11: 7 | X11: 156 | Y11: 51 | AA11: 7 | AB11: 7
A12: 4 | H12: . | J12: . | W12: 8 | X12: 157 | Y12: 52 | AA12: 8 | AB12: 8
A13: 5 | H13: . | J13: . | W13: 9 | X13: 158 | Y13: 53 | AA13: 9 | AB13: 9
A14: 6 | H14: . | J14: . | W14: 10 | X14: 159 | Y14: 54 | AA14: 10 | AB14: 10
A15: 7 | H15: . | J15: . | W15: 11 | X15: 160 | Y15: 55 | AA15: 11 | AB15: 11
A16: 8 | H16: . | J16: . | W16: 12 | X16: 161 | Y16: 56 | AA16: 12 | AB16: 12
A17: 9 | H17: . | J17: . | W17: 13 | X17: 162 | Y17: 57 | AB17: 13
A18: 10 | H18: . | J18: . | W18: 14 | X18: 163 | Y18: 58 | AB18: 14
A19: 11 | H19: . | J19: . | W19: 15 | X19: 164 | Y19: 59 | AB19: 15
A20: 12 | H20: . | J20: . | W20: 16 | X20: 165 | Y20: 60 | AB20: 16
A21: 13 | H21: . | J21: . | W21: 17 | X21: 166 | Y21: 61 | AB21: 17
A22: 14 | H22: . | J22: . | W22: 18 | X22: 167 | Y22: 62 | AB22: 18
A23: 15 | H23: . | J23: . | W23: 19 | X23: 168 | Y23: 63 | AB23: 19
A24: 16 | H24: . | J24: . | W24: 20 | X24: 169 | Y24: 64 | AB24: 20
A25: 17 | H25: . | J25: . | W25: 21 | X25: 170 | Y25: 65 | AB25: 21
A26: 18 | H26: . | J26: . | W26: 22 | X26: 171 | Y26: 66 | AB26: 22
A27: 19 | H27: . | J27: . | W27: 23 | X27: 172 | Y27: 67 | AB27: 23
A28: 20 | H28: . | J28: . | W28: 24 | X28: 173 | Y28: 68 | AB28: 24
... A34: 26 | H34: . | J34: . | W34: 30 | X34: 179 | Y34: 74 | AB34: 30
A35: 27 | H35: . | J35: . | X35: 180 | Y35: 75 | AB35: 31
A36: 28 | H36: . | J36: . | X36: 181 | Y36: 76
A37: 29 | H37: . | J37: . | X37: 182 | Y37: 77
A38: 30 | H38: . | J38: . | X38: 183 | Y38: 78
A39: ※通番は背番号ではありません。 | X39: 184 | Y39: 79
X40: 185 | Y40: 80
B41: 上記の者は本校在学生徒であり、健康診断の結果異常なく標記大会に出場することを認め | X41: 186 | Y41: 81
B42: 参加申込みいたします。 | X42: 187 | Y42: 82
B43: 2026 年 月 日 | X43: 188 | Y43: 83
D44: 学校名 | H44: 校長 | N44: 印 | X44: 189 | Y44: 84
B45: （一社）沖縄県サッカー協会 | X45: 190 | Y45: 85
B46: 会 長 田平 敬志 殿 | M46: 1枚目 / 3枚中 | X46: 191 | Y46: 86
X47: 192 | Y47: 87
X48: 193 | Y48: 88
X49: 194 | Y49: 89
X50: 195 | Y50: 90
X51: 196 | Y51: 91
X52: 197 | Y52: 92
X53: 198 | Y53: 93
X54: 199 | Y54: 94
X55: 200 | Y55: 95
X56: 201 | Y56: 96
X57: 202 | Y57: 97
X58: 203 | Y58: 98
... X60: 205 | Y60: 100

Sheet 参加申込書(NO31~60)
A1: 2026年 第105回 全国高校サッカ-選手権大会 沖縄県大会
A2: 参 加 申 込 書
A3: 学校名 | C3: =IF('参加申込書(NO1~30)'!C3="","",'参加申込書(NO1~30)'!C3) | F3: 監督名 | H3: =IF('参加申込書(NO1~30)'!H3="","",'参加申込書(NO1~30)'!H3) | M3: 引率教諭 | N3: =IF('参加申込書(NO1~30)'!N3="","",'参加申込書(NO1~30)'!N3)
A4: コーチ | C4: =IF('参加申込書(NO1~30)'!C4="","",'参加申込書(NO1~30)'!C4) | F4: コーチ | H4: =IF('参加申込書(NO1~30)'!H4="","",'参加申込書(NO1~30)'!H4)
A5: コーチ | C5: =IF('参加申込書(NO1~30)'!C5="","",'参加申込書(NO1~30)'!C5) | F5: マネージャー | H5: =IF('参加申込書(NO1~30)'!H5="","",'参加申込書(NO1~30)'!H5) | M5: ・ | N5: =IF('参加申込書(NO1~30)'!N5="","",'参加申込書(NO1~30)'!N5) | V5: GK | W5: 1 | X5: 150 | Y5: 45 | Z5: 2006 | AA5: 1 | AB5: 1
A6: 住 所 | C6: 〒 | D6: =IF('参加申込書(NO1~30)'!D6="","",'参加申込書(NO1~30)'!D6) | E6: =IF('参加申込書(NO1~30)'!E6="","",'参加申込書(NO1~30)'!E6) | K6: チーム番号(7ケタ) | N6: =IF('参加申込書(NO1~30)'!N6="","",'参加申込書(NO1~30)'!N6) | V6: DF | W6: 2 | X6: 151 | Y6: 46 | Z6: 2007 | AA6: 2 | AB6: 2
A7: 通番 | B7: 位置 | D7: 氏 名 | F7: 学年 | G7: 生年月日(西暦) | L7: 身 長 (cm) | M7: 体 重 (kg) | N7: 選手登録番号 (10ケタ) | V7: MF | W7: 3 | X7: 152 | Y7: 47 | Z7: 2008 | AA7: 3 | AB7: 3
V8: FW | W8: 4 | X8: 153 | Y8: 48 | Z8: 2009 | AA8: 4 | AB8: 4
A9: 31 | H9: . | J9: . | W9: 5 | X9: 154 | Y9: 49 | Z9: 2010 | AA9: 5 | AB9: 5
A10: 32 | H10: . | J10: . | W10: 6 | X10: 155 | Y10: 50 | Z10: 2011 | AA10: 6 | AB10: 6
A11: 33 | H11: . | J11: . | W11: 7 | X11: 156 | Y11: 51 | AA11: 7 | AB11: 7
A12: 34 | H12: . | J12: . | W12: 8 | X12: 157 | Y12: 52 | AA12: 8 | AB12: 8
A13: 35 | H13: . | J13: . | W13: 9 | X13: 158 | Y13: 53 | AA13: 9 | AB13: 9
A14: 36 | H14: . | J14: . | W14: 10 | X14: 159 | Y14: 54 | AA14: 10 | AB14: 10
A15: 37 | H15: . | J15: . | W15: 11 | X15: 160 | Y15: 55 | AA15: 11 | AB15: 11
A16: 38 | H16: . | J16: . | W16: 12 | X16: 161 | Y16: 56 | AA16: 12 | AB16: 12
A17: 39 | H17: . | J17: . | W17: 13 | X17: 162 | Y17: 57 | AB17: 13
A18: 40 | H18: . | J18: . | W18: 14 | X18: 163 | Y18: 58 | AB18: 14
A19: 41 | H19: . | J19: . | W19: 15 | X19: 164 | Y19: 59 | AB19: 15
A20: 42 | H20: . | J20: . | W20: 16 | X20: 165 | Y20: 60 | AB20: 16
A21: 43 | H21: . | J21: . | W21: 17 | X21: 166 | Y21: 61 | AB21: 17
A22: 44 | H22: . | J22: . | W22: 18 | X22: 167 | Y22: 62 | AB22: 18
A23: 45 | H23: . | J23: . | W23: 19 | X23: 168 | Y23: 63 | AB23: 19
A24: 46 | H24: . | J24: . | W24: 20 | X24: 169 | Y24: 64 | AB24: 20
A25: 47 | H25: . | J25: . | W25: 21 | X25: 170 | Y25: 65 | AB25: 21
A26: 48 | H26: . | J26: . | W26: 22 | X26: 171 | Y26: 66 | AB26: 22
A27: 49 | H27: . | J27: . | W27: 23 | X27: 172 | Y27: 67 | AB27: 23
A28: 50 | H28: . | J28: . | W28: 24 | X28: 173 | Y28: 68 | AB28: 24
... A34: 56 | H34: . | J34: . | W34: 30 | X34: 179 | Y34: 74 | AB34: 30
A35: 57 | H35: . | J35: . | X35: 180 | Y35: 75 | AB35: 31
A36: 58 | H36: . | J36: . | X36: 181 | Y36: 76
A37: 59 | H37: . | J37: . | X37: 182 | Y37: 77
A38: 60 | H38: . | J38: . | X38: 183 | Y38: 78
A39: ※通番は背番号ではありません。 | X39: 184 | Y39: 79
X40: 185 | Y40: 80
B41: 上記の者は本校在学生徒であり、健康診断の結果異常なく標記大会に出場することを認め | X41: 186 | Y41: 81
B42: 参加申込みいたします。 | X42: 187 | Y42: 82
B43: =IF('参加申込書(NO1~30)'!B43="","",'参加申込書(NO1~30)'!B43) -> 2026 年 月 日 | X43: 188 | Y43: 83
D44: 学校名 | E44: =IF('参加申込書(NO1~30)'!E44="","",'参加申込書(NO1~30)'!E44) | H44: 校長 | J44: =IF('参加申込書(NO1~30)'!J44="","",'参加申込書(NO1~30)'!J44) | N44: 印 | X44: 189 | Y44: 84
B45: （一社）沖縄県サッカー協会 | X45: 190 | Y45: 85
B46: 会 長 田平 敬志 殿 | M46: 2枚目 / 3枚中 | X46: 191 | Y46: 86
X47: 192 | Y47: 87
X48: 193 | Y48: 88
X49: 194 | Y49: 89
X50: 195 | Y50: 90
X51: 196 | Y51: 91
X52: 197 | Y52: 92
X53: 198 | Y53: 93
X54: 199 | Y54: 94
X55: 200 | Y55: 95
X56: 201 | Y56: 96
X57: 202 | Y57: 97
X58: 203 | Y58: 98
... X60: 205 | Y60: 100

Sheet 参加申込書(NO61~90)
A1: 2026年 第105回 全国高校サッカ-選手権大会 沖縄県大会
A2: 参 加 申 込 書
A3: 学校名 | C3: =IF('参加申込書(NO1~30)'!C3="","",'参加申込書(NO1~30)'!C3) | F3: 監督名 | H3: =IF('参加申込書(NO1~30)'!H3:L3="","",'参加申込書(NO1~30)'!H3:L3) | M3: 引率教諭 | N3: =IF('参加申込書(NO1~30)'!N3="","",'参加申込書(NO1~30)'!N3)
A4: コーチ | C4: =IF('参加申込書(NO1~30)'!C4="","",'参加申込書(NO1~30)'!C4) | F4: コーチ | H4: =IF('参加申込書(NO1~30)'!H4:L4="","",'参加申込書(NO1~30)'!H4:L4)
A5: コーチ | C5: =IF('参加申込書(NO1~30)'!C5="","",'参加申込書(NO1~30)'!C5) | F5: マネージャー | H5: =IF('参加申込書(NO1~30)'!H5:L5="","",'参加申込書(NO1~30)'!H5:L5) | M5: ・ | N5: =IF('参加申込書(NO1~30)'!N5="","",'参加申込書(NO1~30)'!N5) | V5: GK | W5: 1 | X5: 150 | Y5: 45 | Z5: 2006 | AA5: 1 | AB5: 1
A6: 住 所 | C6: 〒 | D6: =IF('参加申込書(NO1~30)'!D6="","",'参加申込書(NO1~30)'!D6) | E6: =IF('参加申込書(NO1~30)'!E6="","",'参加申込書(NO1~30)'!E6) | K6: チーム番号(7ケタ) | N6: =IF('参加申込書(NO1~30)'!N6="","",'参加申込書(NO1~30)'!N6) | V6: DF | W6: 2 | X6: 151 | Y6: 46 | Z6: 2007 | AA6: 2 | AB6: 2
A7: 通番 | B7: 位置 | D7: 氏 名 | F7: 学年 | G7: 生年月日(西暦) | L7: 身 長 (cm) | M7: 体 重 (kg) | N7: 選手登録番号 (10ケタ) | V7: MF | W7: 3 | X7: 152 | Y7: 47 | Z7: 2008 | AA7: 3 | AB7: 3
V8: FW | W8: 4 | X8: 153 | Y8: 48 | Z8: 2009 | AA8: 4 | AB8: 4
A9: 61 | H9: . | J9: . | W9: 5 | X9: 154 | Y9: 49 | Z9: 2010 | AA9: 5 | AB9: 5
A10: 62 | H10: . | J10: . | W10: 6 | X10: 155 | Y10: 50 | Z10: 2011 | AA10: 6 | AB10: 6
A11: 63 | H11: . | J11: . | W11: 7 | X11: 156 | Y11: 51 | AA11: 7 | AB11: 7
A12: 64 | H12: . | J12: . | W12: 8 | X12: 157 | Y12: 52 | AA12: 8 | AB12: 8
A13: 65 | H13: . | J13: . | W13: 9 | X13: 158 | Y13: 53 | AA13: 9 | AB13: 9
A14: 66 | H14: . | J14: . | W14: 10 | X14: 159 | Y14: 54 | AA14: 10 | AB14: 10
A15: 67 | H15: . | J15: . | W15: 11 | X15: 160 | Y15: 55 | AA15: 11 | AB15: 11
A16: 68 | H16: . | J16: . | W16: 12 | X16: 161 | Y16: 56 | AA16: 12 | AB16: 12
A17: 69 | H17: . | J17: . | W17: 13 | X17: 162 | Y17: 57 | AB17: 13
A18: 70 | H18: . | J18: . | W18: 14 | X18: 163 | Y18: 58 | AB18: 14
A19: 71 | H19: . | J19: . | W19: 15 | X19: 164 | Y19: 59 | AB19: 15
A20: 72 | H20: . | J20: . | W20: 16 | X20: 165 | Y20: 60 | AB20: 16
A21: 73 | H21: . | J21: . | W21: 17 | X21: 166 | Y21: 61 | AB21: 17
A22: 74 | H22: . | J22: . | W22: 18 | X22: 167 | Y22: 62 | AB22: 18
A23: 75 | H23: . | J23: . | W23: 19 | X23: 168 | Y23: 63 | AB23: 19
A24: 76 | H24: . | J24: . | W24: 20 | X24: 169 | Y24: 64 | AB24: 20
A25: 77 | H25: . | J25: . | W25: 21 | X25: 170 | Y25: 65 | AB25: 21
A26: 78 | H26: . | J26: . | W26: 22 | X26: 171 | Y26: 66 | AB26: 22
A27: 79 | H27: . | J27: . | W27: 23 | X27: 172 | Y27: 67 | AB27: 23
A28: 80 | H28: . | J28: . | W28: 24 | X28: 173 | Y28: 68 | AB28: 24
... A34: 86 | H34: . | J34: . | W34: 30 | X34: 179 | Y34: 74 | AB34: 30
A35: 87 | H35: . | J35: . | X35: 180 | Y35: 75 | AB35: 31
A36: 88 | H36: . | J36: . | X36: 181 | Y36: 76
A37: 89 | H37: . | J37: . | X37: 182 | Y37: 77
A38: 90 | H38: . | J38: . | X38: 183 | Y38: 78
A39: ※通番は背番号ではありません。 | X39: 184 | Y39: 79
X40: 185 | Y40: 80
B41: 上記の者は本校在学生徒であり、健康診断の結果異常なく標記大会に出場することを認め | X41: 186 | Y41: 81
B42: 参加申込みいたします。 | X42: 187 | Y42: 82
B43: =IF('参加申込書(NO1~30)'!B43="","",'参加申込書(NO1~30)'!B43) -> 2026 年 月 日 | X43: 188 | Y43: 83
D44: 学校名 | E44: =IF('参加申込書(NO1~30)'!E44="","",'参加申込書(NO1~30)'!E44) | H44: 校長 | J44: ='参加申込書(NO31~60)'!J44 | N44: 印 | X44: 189 | Y44: 84
B45: （一社）沖縄県サッカー協会 | X45: 190 | Y45: 85
B46: 会 長 田平 敬志 殿 | M46: 3枚目 / 3枚中 | X46: 191 | Y46: 86
X47: 192 | Y47: 87
X48: 193 | Y48: 88
X49: 194 | Y49: 89
X50: 195 | Y50: 90
X51: 196 | Y51: 91
X52: 197 | Y52: 92
X53: 198 | Y53: 93
X54: 199 | Y54: 94
X55: 200 | Y55: 95
X56: 201 | Y56: 96
X57: 202 | Y57: 97
X58: 203 | Y58: 98
... X60: 205 | Y60: 100

Sheet パンフレット（90名用）
B1: トーナメント番号【 】
B2: ☆ 校章 ☆ | C2: =IF('参加申込書(NO1~30)'!C3="","",'参加申込書(NO1~30)'!C3) | L2: 〒 | M2: =IF('参加申込書(NO1~30)'!D6="","",'参加申込書(NO1~30)'!D6)
L3: =IF('参加申込書(NO1~30)'!E6="","",'参加申込書(NO1~30)'!E6)
B5: チームスタッフ（ベンチ） | G5: チームプロフィール | M5: ユニホーム
B6: 引率教諭 | D6: =IF('参加申込書(NO1~30)'!N3="","",'参加申込書(NO1~30)'!N3) | G6: (チームの歴史、戦績) | N6: ﾌｨｰﾙﾄﾞﾌﾟﾚｲﾔｰ | P6: ｺﾞｰﾙｷｰﾊﾟｰ
B7: 監 督 | D7: =IF('参加申込書(NO1~30)'!H3="","",'参加申込書(NO1~30)'!H3) | N7: 正 | O7: 副 | P7: 正 | Q7: 副
B8: コーチ | D8: =IF('参加申込書(NO1~30)'!C4="","",'参加申込書(NO1~30)'!C4) | M8: ｼｬﾂ
B9: コーチ | D9: =IF('参加申込書(NO1~30)'!H4="","",'参加申込書(NO1~30)'!H4)
B10: コーチ | D10: =IF('参加申込書(NO1~30)'!C5="","",'参加申込書(NO1~30)'!C5) | M10: ﾊﾟﾝﾂ
B11: マネージャー | D11: =IF('参加申込書(NO1~30)'!H5="","",'参加申込書(NO1~30)'!H5)
B12: マネージャー | D12: =IF('参加申込書(NO1~30)'!N5="","",'参加申込書(NO1~30)'!N5) | M12: ｿｯｸｽ
B14: ※通番は背番号ではありません。
B15: 通番 | C15: 位置 | D15: 氏 名 | I15: 学年 | J15: 身長 (cm) | K15: 体重 (kg) | L15: 前所属（クラブチームはクラブ名） | T15: 通番 | U15: 位置 | V15: 氏 名 | AA15: 学年 | AB15: 身長 (cm) | AC15: 体重 (kg)
L16: 中学校 | O16: 小学校
B17: 1 | C17: =VLOOKUP(B17,'参加申込書(NO1~30)'!$A$9:$N$38,2,FALSE) -> 0 | D17: =VLOOKUP(B17,'参加申込書(NO1~30)'!$A$9:$N$38,4,FALSE) -> 0 | I17: =VLOOKUP(B17,'参加申込書(NO1~30)'!$A$9:$N$38,6,FALSE) -> 0 | J17: =VLOOKUP(B17,'参加申込書(NO1~30)'!$A$9:$N$38,12,FALSE) -> 0 | K17: =VLOOKUP(B17,'参加申込書(NO1~30)'!$A$9:$N$38,13,FALSE) -> 0 | T17: =B17 -> 1 | U17: =C17 -> 0 | V17: =D17 -> 0 | W17: =E17 -> 0 | X17: =F17 -> 0 | Y17: =G17 -> 0 | Z17: =H17 -> 0 | AA17: =I17 -> 0 | ... AC17: =K17 -> 0
B18: 2 | C18: =VLOOKUP(B18,'参加申込書(NO1~30)'!$A$9:$N$38,2,FALSE) -> 0 | D18: =VLOOKUP(B18,'参加申込書(NO1~30)'!$A$9:$N$38,4,FALSE) -> 0 | I18: =VLOOKUP(B18,'参加申込書(NO1~30)'!$A$9:$N$38,6,FALSE) -> 0 | J18: =VLOOKUP(B18,'参加申込書(NO1~30)'!$A$9:$N$38,12,FALSE) -> 0 | K18: =VLOOKUP(B18,'参加申込書(NO1~30)'!$A$9:$N$38,13,FALSE) -> 0 | T18: =B18 -> 2 | U18: =C18 -> 0 | V18: =D18 -> 0 | W18: =E18 -> 0 | X18: =F18 -> 0 | Y18: =G18 -> 0 | Z18: =H18 -> 0 | AA18: =I18 -> 0 | ... AC18: =K18 -> 0
B19: 3 | C19: =VLOOKUP(B19,'参加申込書(NO1~30)'!$A$9:$N$38,2,FALSE) -> 0 | D19: =VLOOKUP(B19,'参加申込書(NO1~30)'!$A$9:$N$38,4,FALSE) -> 0 | I19: =VLOOKUP(B19,'参加申込書(NO1~30)'!$A$9:$N$38,6,FALSE) -> 0 | J19: =VLOOKUP(B19,'参加申込書(NO1~30)'!$A$9:$N$38,12,FALSE) -> 0 | K19: =VLOOKUP(B19,'参加申込書(NO1~30)'!$A$9:$N$38,13,FALSE) -> 0 | T19: =B19 -> 3 | U19: =C19 -> 0 | V19: =D19 -> 0 | W19: =E19 -> 0 | X19: =F19 -> 0 | Y19: =G19 -> 0 | Z19: =H19 -> 0 | AA19: =I19 -> 0 | ... AC19: =K19 -> 0
B20: 4 | C20: =VLOOKUP(B20,'参加申込書(NO1~30)'!$A$9:$N$38,2,FALSE) -> 0 | D20: =VLOOKUP(B20,'参加申込書(NO1~30)'!$A$9:$N$38,4,FALSE) -> 0 | I20: =VLOOKUP(B20,'参加申込書(NO1~30)'!$A$9:$N$38,6,FALSE) -> 0 | J20: =VLOOKUP(B20,'参加申込書(NO1~30)'!$A$9:$N$38,12,FALSE) -> 0 | K20: =VLOOKUP(B20,'参加申込書(NO1~30)'!$A$9:$N$38,13,FALSE) -> 0 | T20: =B20 -> 4 | U20: =C20 -> 0 | V20: =D20 -> 0 | W20: =E20 -> 0 | X20: =F20 -> 0 | Y20: =G20 -> 0 | Z20: =H20 -> 0 | AA20: =I20 -> 0 | ... AC20: =K20 -> 0
B21: 5 | C21: =VLOOKUP(B21,'参加申込書(NO1~30)'!$A$9:$N$38,2,FALSE) -> 0 | D21: =VLOOKUP(B21,'参加申込書(NO1~30)'!$A$9:$N$38,4,FALSE) -> 0 | I21: =VLOOKUP(B21,'参加申込書(NO1~30)'!$A$9:$N$38,6,FALSE) -> 0 | J21: =VLOOKUP(B21,'参加申込書(NO1~30)'!$A$9:$N$38,12,FALSE) -> 0 | K21: =VLOOKUP(B21,'参加申込書(NO1~30)'!$A$9:$N$38,13,FALSE) -> 0 | T21: =B21 -> 5 | U21: =C21 -> 0 | V21: =D21 -> 0 | W21: =E21 -> 0 | X21: =F21 -> 0 | Y21: =G21 -> 0 | Z21: =H21 -> 0 | AA21: =I21 -> 0 | ... AC21: =K21 -> 0
B22: 6 | C22: =VLOOKUP(B22,'参加申込書(NO1~30)'!$A$9:$N$38,2,FALSE) -> 0 | D22: =VLOOKUP(B22,'参加申込書(NO1~30)'!$A$9:$N$38,4,FALSE) -> 0 | I22: =VLOOKUP(B22,'参加申込書(NO1~30)'!$A$9:$N$38,6,FALSE) -> 0 | J22: =VLOOKUP(B22,'参加申込書(NO1~30)'!$A$9:$N$38,12,FALSE) -> 0 | K22: =VLOOKUP(B22,'参加申込書(NO1~30)'!$A$9:$N$38,13,FALSE) -> 0 | T22: =B22 -> 6 | U22: =C22 -> 0 | V22: =D22 -> 0 | W22: =E22 -> 0 | X22: =F22 -> 0 | Y22: =G22 -> 0 | Z22: =H22 -> 0 | AA22: =I22 -> 0 | ... AC22: =K22 -> 0
B23: 7 | C23: =VLOOKUP(B23,'参加申込書(NO1~30)'!$A$9:$N$38,2,FALSE) -> 0 | D23: =VLOOKUP(B23,'参加申込書(NO1~30)'!$A$9:$N$38,4,FALSE) -> 0 | I23: =VLOOKUP(B23,'参加申込書(NO1~30)'!$A$9:$N$38,6,FALSE) -> 0 | J23: =VLOOKUP(B23,'参加申込書(NO1~30)'!$A$9:$N$38,12,FALSE) -> 0 | K23: =VLOOKUP(B23,'参加申込書(NO1~30)'!$A$9:$N$38,13,FALSE) -> 0 | T23: =B23 -> 7 | U23: =C23 -> 0 | V23: =D23 -> 0 | W23: =E23 -> 0 | X23: =F23 -> 0 | Y23: =G23 -> 0 | Z23: =H23 -> 0 | AA23: =I23 -> 0 | ... AC23: =K23 -> 0
B24: 8 | C24: =VLOOKUP(B24,'参加申込書(NO1~30)'!$A$9:$N$38,2,FALSE) -> 0 | D24: =VLOOKUP(B24,'参加申込書(NO1~30)'!$A$9:$N$38,4,FALSE) -> 0 | I24: =VLOOKUP(B24,'参加申込書(NO1~30)'!$A$9:$N$38,6,FALSE) -> 0 | J24: =VLOOKUP(B24,'参加申込書(NO1~30)'!$A$9:$N$38,12,FALSE) -> 0 | K24: =VLOOKUP(B24,'参加申込書(NO1~30)'!$A$9:$N$38,13,FALSE) -> 0 | T24: =B24 -> 8 | U24: =C24 -> 0 | V24: =D24 -> 0 | W24: =E24 -> 0 | X24: =F24 -> 0 | Y24: =G24 -> 0 | Z24: =H24 -> 0 | AA24: =I24 -> 0 | ... AC24: =K24 -> 0
B25: 9 | C25: =VLOOKUP(B25,'参加申込書(NO1~30)'!$A$9:$N$38,2,FALSE) -> 0 | D25: =VLOOKUP(B25,'参加申込書(NO1~30)'!$A$9:$N$38,4,FALSE) -> 0 | I25: =VLOOKUP(B25,'参加申込書(NO1~30)'!$A$9:$N$38,6,FALSE) -> 0 | J25: =VLOOKUP(B25,'参加申込書(NO1~30)'!$A$9:$N$38,12,FALSE) -> 0 | K25: =VLOOKUP(B25,'参加申込書(NO1~30)'!$A$9:$N$38,13,FALSE) -> 0 | T25: =B25 -> 9 | U25: =C25 -> 0 | V25: =D25 -> 0 | W25: =E25 -> 0 | X25: =F25 -> 0 | Y25: =G25 -> 0 | Z25: =H25 -> 0 | AA25: =I25 -> 0 | ... AC25: =K25 -> 0
B26: 10 | C26: =VLOOKUP(B26,'参加申込書(NO1~30)'!$A$9:$N$38,2,FALSE) -> 0 | D26: =VLOOKUP(B26,'参加申込書(NO1~30)'!$A$9:$N$38,4,FALSE) -> 0 | I26: =VLOOKUP(B26,'参加申込書(NO1~30)'!$A$9:$N$38,6,FALSE) -> 0 | J26: =VLOOKUP(B26,'参加申込書(NO1~30)'!$A$9:$N$38,12,FALSE) -> 0 | K26: =VLOOKUP(B26,'参加申込書(NO1~30)'!$A$9:$N$38,13,FALSE) -> 0 | T26: =B26 -> 10 | U26: =C26 -> 0 | V26: =D26 -> 0 | W26: =E26 -> 0 | X26: =F26 -> 0 | Y26: =G26 -> 0 | Z26: =H26 -> 0 | AA26: =I26 -> 0 | ... AC26: =K26 -> 0
B27: 11 | C27: =VLOOKUP(B27,'参加申込書(NO1~30)'!$A$9:$N$38,2,FALSE) -> 0 | D27: =VLOOKUP(B27,'参加申込書(NO1~30)'!$A$9:$N$38,4,FALSE) -> 0 | I27: =VLOOKUP(B27,'参加申込書(NO1~30)'!$A$9:$N$38,6,FALSE) -> 0 | J27: =VLOOKUP(B27,'参加申込書(NO1~30)'!$A$9:$N$38,12,FALSE) -> 0 | K27: =VLOOKUP(B27,'参加申込書(NO1~30)'!$A$9:$N$38,13,FALSE) -> 0 | T27: =B27 -> 11 | U27: =C27 -> 0 | V27: =D27 -> 0 | W27: =E27 -> 0 | X27: =F27 -> 0 | Y27: =G27 -> 0 | Z27: =H27 -> 0 | AA27: =I27 -> 0 | ... AC27: =K27 -> 0
B28: 12 | C28: =VLOOKUP(B28,'参加申込書(NO1~30)'!$A$9:$N$38,2,FALSE) -> 0 | D28: =VLOOKUP(B28,'参加申込書(NO1~30)'!$A$9:$N$38,4,FALSE) -> 0 | I28: =VLOOKUP(B28,'参加申込書(NO1~30)'!$A$9:$N$38,6,FALSE) -> 0 | J28: =VLOOKUP(B28,'参加申込書(NO1~30)'!$A$9:$N$38,12,FALSE) -> 0 | K28: =VLOOKUP(B28,'参加申込書(NO1~30)'!$A$9:$N$38,13,FALSE) -> 0 | T28: =B28 -> 12 | U28: =C28 -> 0 | V28: =D28 -> 0 | W28: =E28 -> 0 | X28: =F28 -> 0 | Y28: =G28 -> 0 | Z28: =H28 -> 0 | AA28: =I28 -> 0 | ... AC28: =K28 -> 0
... B46: 30 | C46: =VLOOKUP(B46,'参加申込書(NO1~30)'!$A$9:$N$38,2,FALSE) -> 0 | D46: =VLOOKUP(B46,'参加申込書(NO1~30)'!$A$9:$N$38,4,FALSE) -> 0 | I46: =VLOOKUP(B46,'参加申込書(NO1~30)'!$A$9:$N$38,6,FALSE) -> 0 | J46: =VLOOKUP(B46,'参加申込書(NO1~30)'!$A$9:$N$38,12,FALSE) -> 0 | K46: =VLOOKUP(B46,'参加申込書(NO1~30)'!$A$9:$N$38,13,FALSE) -> 0 | T46: =B46 -> 30 | U46: =C46 -> 0 | V46: =D46 -> 0 | W46: =E46 -> 0 | X46: =F46 -> 0 | Y46: =G46 -> 0 | Z46: =H46 -> 0 | AA46: =I46 -> 0 | ... AC46: =K46 -> 0
T47: =B66 -> 31 | U47: =C66 -> 0 | V47: =D66 -> 0 | W47: =E66 -> 0 | X47: =F66 -> 0 | Y47: =G66 -> 0 | Z47: =H66 -> 0 | AA47: =I66 -> 0 | ... AC47: =K66 -> 0
B48: チーム集合写真を枠内に貼り付けてください セルに埋め込みでなく前面に貼っていただけると、 様々なPCで作業しやすいです。 ※１．写真の余白はトリミングをして、枠内に収まるようにお願いします。 ※２．合同チームは合同で１部作成して下さい。 ※３．パンフレットは白黒で印刷されます。 ※４.表の空欄は、専門部パンフレット係で削除しますので、そのままで結構です。 | T48: =B67 -> 32 | U48: =C67 -> 0 | V48: =D67 -> 0 | W48: =E67 -> 0 | X48: =F67 -> 0 | Y48: =G67 -> 0 | Z48: =H67 -> 0 | AA48: =I67 -> 0 | ... AC48: =K67 -> 0
T49: =B68 -> 33 | U49: =C68 -> 0 | V49: =D68 -> 0 | W49: =E68 -> 0 | X49: =F68 -> 0 | Y49: =G68 -> 0 | Z49: =H68 -> 0 | AA49: =I68 -> 0 | ... AC49: =K68 -> 0
T50: =B69 -> 34 | U50: =C69 -> 0 | V50: =D69 -> 0 | W50: =E69 -> 0 | X50: =F69 -> 0 | Y50: =G69 -> 0 | Z50: =H69 -> 0 | AA50: =I69 -> 0 | ... AC50: =K69 -> 0
T51: =B70 -> 35 | U51: =C70 -> 0 | V51: =D70 -> 0 | W51: =E70 -> 0 | X51: =F70 -> 0 | Y51: =G70 -> 0 | Z51: =H70 -> 0 | AA51: =I70 -> 0 | ... AC51: =K70 -> 0
T52: =B71 -> 36 | U52: =C71 -> 0 | V52: =D71 -> 0 | W52: =E71 -> 0 | X52: =F71 -> 0 | Y52: =G71 -> 0 | Z52: =H71 -> 0 | AA52: =I71 -> 0 | ... AC52: =K71 -> 0
T53: =B72 -> 37 | U53: =C72 -> 0 | V53: =D72 -> 0 | W53: =E72 -> 0 | X53: =F72 -> 0 | Y53: =G72 -> 0 | Z53: =H72 -> 0 | AA53: =I72 -> 0 | ... AC53: =K72 -> 0
T54: =B73 -> 38 | U54: =C73 -> 0 | V54: =D73 -> 0 | W54: =E73 -> 0 | X54: =F73 -> 0 | Y54: =G73 -> 0 | Z54: =H73 -> 0 | AA54: =I73 -> 0 | ... AC54: =K73 -> 0
T55: =B74 -> 39 | U55: =C74 -> 0 | V55: =D74 -> 0 | W55: =E74 -> 0 | X55: =F74 -> 0 | Y55: =G74 -> 0 | Z55: =H74 -> 0 | AA55: =I74 -> 0 | ... AC55: =K74 -> 0
T56: =B75 -> 40 | U56: =C75 -> 0 | V56: =D75 -> 0 | W56: =E75 -> 0 | X56: =F75 -> 0 | Y56: =G75 -> 0 | Z56: =H75 -> 0 | AA56: =I75 -> 0 | ... AC56: =K75 -> 0
T57: =B76 -> 41 | U57: =C76 -> 0 | V57: =D76 -> 0 | W57: =E76 -> 0 | X57: =F76 -> 0 | Y57: =G76 -> 0 | Z57: =H76 -> 0 | AA57: =I76 -> 0 | ... AC57: =K76 -> 0
T58: =B77 -> 42 | U58: =C77 -> 0 | V58: =D77 -> 0 | W58: =E77 -> 0 | X58: =F77 -> 0 | Y58: =G77 -> 0 | Z58: =H77 -> 0 | AA58: =I77 -> 0 | ... AC58: =K77 -> 0
T59: =B78 -> 43 | U59: =C78 -> 0 | V59: =D78 -> 0 | W59: =E78 -> 0 | X59: =F78 -> 0 | Y59: =G78 -> 0 | Z59: =H78 -> 0 | AA59: =I78 -> 0 | ... AC59: =K78 -> 0
T60: =B79 -> 44 | U60: =C79 -> 0 | V60: =D79 -> 0 | W60: =E79 -> 0 | X60: =F79 -> 0 | Y60: =G79 -> 0 | Z60: =H79 -> 0 | AA60: =I79 -> 0 | ... AC60: =K79 -> 0
P61: １枚目/2枚中
B63: ☆ 校章 ☆ | C63: =C2 | L63: 〒 | M63: =M2 | T63: =B80 -> 45 | U63: =C80 -> 0 | V63: =D80 -> 0 | W63: =E80 -> 0 | X63: =F80 -> 0 | Y63: =G80 -> 0 | Z63: =H80 -> 0 | AA63: =I80 -> 0 | ... AC63: =K80 -> 0
L64: =L3 | T64: =B81 -> 46 | U64: =C81 -> 0 | V64: =D81 -> 0 | W64: =E81 -> 0 | X64: =F81 -> 0 | Y64: =G81 -> 0 | Z64: =H81 -> 0 | AA64: =I81 -> 0 | ... AC64: =K81 -> 0
T65: =B82 -> 47 | U65: =C82 -> 0 | V65: =D82 -> 0 | W65: =E82 -> 0 | X65: =F82 -> 0 | Y65: =G82 -> 0 | Z65: =H82 -> 0 | AA65: =I82 -> 0 | ... AC65: =K82 -> 0
B66: 31 | C66: =VLOOKUP(B66,'参加申込書(NO31~60)'!$A$9:$N$38,2,FALSE) -> 0 | D66: =VLOOKUP(B66,'参加申込書(NO31~60)'!$A$9:$N$38,4,FALSE) -> 0 | I66: =VLOOKUP(B66,'参加申込書(NO31~60)'!$A$9:$N$38,6,FALSE) -> 0 | J66: =VLOOKUP(B66,'参加申込書(NO31~60)'!$A$9:$N$38,12,FALSE) -> 0 | K66: =VLOOKUP(B66,'参加申込書(NO31~60)'!$A$9:$N$38,13,FALSE) -> 0 | T66: =B83 -> 48 | U66: =C83 -> 0 | V66: =D83 -> 0 | W66: =E83 -> 0 | X66: =F83 -> 0 | Y66: =G83 -> 0 | Z66: =H83 -> 0 | AA66: =I83 -> 0 | ... AC66: =K83 -> 0
B67: 32 | C67: =VLOOKUP(B67,'参加申込書(NO31~60)'!$A$9:$N$38,2,FALSE) -> 0 | D67: =VLOOKUP(B67,'参加申込書(NO31~60)'!$A$9:$N$38,4,FALSE) -> 0 | I67: =VLOOKUP(B67,'参加申込書(NO31~60)'!$A$9:$N$38,6,FALSE) -> 0 | J67: =VLOOKUP(B67,'参加申込書(NO31~60)'!$A$9:$N$38,12,FALSE) -> 0 | K67: =VLOOKUP(B67,'参加申込書(NO31~60)'!$A$9:$N$38,13,FALSE) -> 0 | T67: =B84 -> 49 | U67: =C84 -> 0 | V67: =D84 -> 0 | W67: =E84 -> 0 | X67: =F84 -> 0 | Y67: =G84 -> 0 | Z67: =H84 -> 0 | AA67: =I84 -> 0 | ... AC67: =K84 -> 0
B68: 33 | C68: =VLOOKUP(B68,'参加申込書(NO31~60)'!$A$9:$N$38,2,FALSE) -> 0 | D68: =VLOOKUP(B68,'参加申込書(NO31~60)'!$A$9:$N$38,4,FALSE) -> 0 | I68: =VLOOKUP(B68,'参加申込書(NO31~60)'!$A$9:$N$38,6,FALSE) -> 0 | J68: =VLOOKUP(B68,'参加申込書(NO31~60)'!$A$9:$N$38,12,FALSE) -> 0 | K68: =VLOOKUP(B68,'参加申込書(NO31~60)'!$A$9:$N$38,13,FALSE) -> 0 | T68: =B85 -> 50 | U68: =C85 -> 0 | V68: =D85 -> 0 | W68: =E85 -> 0 | X68: =F85 -> 0 | Y68: =G85 -> 0 | Z68: =H85 -> 0 | AA68: =I85 -> 0 | ... AC68: =K85 -> 0
B69: 34 | C69: =VLOOKUP(B69,'参加申込書(NO31~60)'!$A$9:$N$38,2,FALSE) -> 0 | D69: =VLOOKUP(B69,'参加申込書(NO31~60)'!$A$9:$N$38,4,FALSE) -> 0 | I69: =VLOOKUP(B69,'参加申込書(NO31~60)'!$A$9:$N$38,6,FALSE) -> 0 | J69: =VLOOKUP(B69,'参加申込書(NO31~60)'!$A$9:$N$38,12,FALSE) -> 0 | K69: =VLOOKUP(B69,'参加申込書(NO31~60)'!$A$9:$N$38,13,FALSE) -> 0 | T69: =B86 -> 51 | U69: =C86 -> 0 | V69: =D86 -> 0 | W69: =E86 -> 0 | X69: =F86 -> 0 | Y69: =G86 -> 0 | Z69: =H86 -> 0 | AA69: =I86 -> 0 | ... AC69: =K86 -> 0
B70: 35 | C70: =VLOOKUP(B70,'参加申込書(NO31~60)'!$A$9:$N$38,2,FALSE) -> 0 | D70: =VLOOKUP(B70,'参加申込書(NO31~60)'!$A$9:$N$38,4,FALSE) -> 0 | I70: =VLOOKUP(B70,'参加申込書(NO31~60)'!$A$9:$N$38,6,FALSE) -> 0 | J70: =VLOOKUP(B70,'参加申込書(NO31~60)'!$A$9:$N$38,12,FALSE) -> 0 | K70: =VLOOKUP(B70,'参加申込書(NO31~60)'!$A$9:$N$38,13,FALSE) -> 0 | T70: =B87 -> 52 | U70: =C87 -> 0 | V70: =D87 -> 0 | W70: =E87 -> 0 | X70: =F87 -> 0 | Y70: =G87 -> 0 | Z70: =H87 -> 0 | AA70: =I87 -> 0 | ... AC70: =K87 -> 0
B71: 36 | C71: =VLOOKUP(B71,'参加申込書(NO31~60)'!$A$9:$N$38,2,FALSE) -> 0 | D71: =VLOOKUP(B71,'参加申込書(NO31~60)'!$A$9:$N$38,4,FALSE) -> 0 | I71: =VLOOKUP(B71,'参加申込書(NO31~60)'!$A$9:$N$38,6,FALSE) -> 0 | J71: =VLOOKUP(B71,'参加申込書(NO31~60)'!$A$9:$N$38,12,FALSE) -> 0 | K71: =VLOOKUP(B71,'参加申込書(NO31~60)'!$A$9:$N$38,13,FALSE) -> 0 | T71: =B88 -> 53 | U71: =C88 -> 0 | V71: =D88 -> 0 | W71: =E88 -> 0 | X71: =F88 -> 0 | Y71: =G88 -> 0 | Z71: =H88 -> 0 | AA71: =I88 -> 0 | ... AC71: =K88 -> 0
B72: 37 | C72: =VLOOKUP(B72,'参加申込書(NO31~60)'!$A$9:$N$38,2,FALSE) -> 0 | D72: =VLOOKUP(B72,'参加申込書(NO31~60)'!$A$9:$N$38,4,FALSE) -> 0 | I72: =VLOOKUP(B72,'参加申込書(NO31~60)'!$A$9:$N$38,6,FALSE) -> 0 | J72: =VLOOKUP(B72,'参加申込書(NO31~60)'!$A$9:$N$38,12,FALSE) -> 0 | K72: =VLOOKUP(B72,'参加申込書(NO31~60)'!$A$9:$N$38,13,FALSE) -> 0 | T72: =B89 -> 54 | U72: =C89 -> 0 | V72: =D89 -> 0 | W72: =E89 -> 0 | X72: =F89 -> 0 | Y72: =G89 -> 0 | Z72: =H89 -> 0 | AA72: =I89 -> 0 | ... AC72: =K89 -> 0
B73: 38 | C73: =VLOOKUP(B73,'参加申込書(NO31~60)'!$A$9:$N$38,2,FALSE) -> 0 | D73: =VLOOKUP(B73,'参加申込書(NO31~60)'!$A$9:$N$38,4,FALSE) -> 0 | I73: =VLOOKUP(B73,'参加申込書(NO31~60)'!$A$9:$N$38,6,FALSE) -> 0 | J73: =VLOOKUP(B73,'参加申込書(NO31~60)'!$A$9:$N$38,12,FALSE) -> 0 | K73: =VLOOKUP(B73,'参加申込書(NO31~60)'!$A$9:$N$38,13,FALSE) -> 0 | T73: =B90 -> 55 | U73: =C90 -> 0 | V73: =D90 -> 0 | W73: =E90 -> 0 | X73: =F90 -> 0 | Y73: =G90 -> 0 | Z73: =H90 -> 0 | AA73: =I90 -> 0 | ... AC73: =K90 -> 0
B74: 39 | C74: =VLOOKUP(B74,'参加申込書(NO31~60)'!$A$9:$N$38,2,FALSE) -> 0 | D74: =VLOOKUP(B74,'参加申込書(NO31~60)'!$A$9:$N$38,4,FALSE) -> 0 | I74: =VLOOKUP(B74,'参加申込書(NO31~60)'!$A$9:$N$38,6,FALSE) -> 0 | J74: =VLOOKUP(B74,'参加申込書(NO31~60)'!$A$9:$N$38,12,FALSE) -> 0 | K74: =VLOOKUP(B74,'参加申込書(NO31~60)'!$A$9:$N$38,13,FALSE) -> 0 | T74: =B91 -> 56 | U74: =C91 -> 0 | V74: =D91 -> 0 | W74: =E91 -> 0 | X74: =F91 -> 0 | Y74: =G91 -> 0 | Z74: =H91 -> 0 | AA74: =I91 -> 0 | ... AC74: =K91 -> 0
B75: 40 | C75: =VLOOKUP(B75,'参加申込書(NO31~60)'!$A$9:$N$38,2,FALSE) -> 0 | D75: =VLOOKUP(B75,'参加申込書(NO31~60)'!$A$9:$N$38,4,FALSE) -> 0 | I75: =VLOOKUP(B75,'参加申込書(NO31~60)'!$A$9:$N$38,6,FALSE) -> 0 | J75: =VLOOKUP(B75,'参加申込書(NO31~60)'!$A$9:$N$38,12,FALSE) -> 0 | K75: =VLOOKUP(B75,'参加申込書(NO31~60)'!$A$9:$N$38,13,FALSE) -> 0 | T75: =B92 -> 57 | U75: =C92 -> 0 | V75: =D92 -> 0 | W75: =E92 -> 0 | X75: =F92 -> 0 | Y75: =G92 -> 0 | Z75: =H92 -> 0 | AA75: =I92 -> 0 | ... AC75: =K92 -> 0
B76: 41 | C76: =VLOOKUP(B76,'参加申込書(NO31~60)'!$A$9:$N$38,2,FALSE) -> 0 | D76: =VLOOKUP(B76,'参加申込書(NO31~60)'!$A$9:$N$38,4,FALSE) -> 0 | I76: =VLOOKUP(B76,'参加申込書(NO31~60)'!$A$9:$N$38,6,FALSE) -> 0 | J76: =VLOOKUP(B76,'参加申込書(NO31~60)'!$A$9:$N$38,12,FALSE) -> 0 | K76: =VLOOKUP(B76,'参加申込書(NO31~60)'!$A$9:$N$38,13,FALSE) -> 0 | T76: =B93 -> 58 | U76: =C93 -> 0 | V76: =D93 -> 0 | W76: =E93 -> 0 | X76: =F93 -> 0 | Y76: =G93 -> 0 | Z76: =H93 -> 0 | AA76: =I93 -> 0 | ... AC76: =K93 -> 0
B77: 42 | C77: =VLOOKUP(B77,'参加申込書(NO31~60)'!$A$9:$N$38,2,FALSE) -> 0 | D77: =VLOOKUP(B77,'参加申込書(NO31~60)'!$A$9:$N$38,4,FALSE) -> 0 | I77: =VLOOKUP(B77,'参加申込書(NO31~60)'!$A$9:$N$38,6,FALSE) -> 0 | J77: =VLOOKUP(B77,'参加申込書(NO31~60)'!$A$9:$N$38,12,FALSE) -> 0 | K77: =VLOOKUP(B77,'参加申込書(NO31~60)'!$A$9:$N$38,13,FALSE) -> 0 | T77: =B94 -> 59 | U77: =C94 -> 0 | V77: =D94 -> 0 | W77: =E94 -> 0 | X77: =F94 -> 0 | Y77: =G94 -> 0 | Z77: =H94 -> 0 | AA77: =I94 -> 0 | ... AC77: =K94 -> 0
... B95: 60 | C95: =VLOOKUP(B95,'参加申込書(NO31~60)'!$A$9:$N$38,2,FALSE) -> 0 | D95: =VLOOKUP(B95,'参加申込書(NO31~60)'!$A$9:$N$38,4,FALSE) -> 0 | I95: =VLOOKUP(B95,'参加申込書(NO31~60)'!$A$9:$N$38,6,FALSE) -> 0 | J95: =VLOOKUP(B95,'参加申込書(NO31~60)'!$A$9:$N$38,12,FALSE) -> 0 | K95: =VLOOKUP(B95,'参加申込書(NO31~60)'!$A$9:$N$38,13,FALSE) -> 0 | T95: =B112 -> 77 | U95: =C112 -> 0 | V95: =D112 -> 0 | W95: =E112 -> 0 | X95: =F112 -> 0 | Y95: =G112 -> 0 | Z95: =H112 -> 0 | AA95: =I112 -> 0 | ... AC95: =K112 -> 0
B96: 61 | C96: =VLOOKUP(B96,'参加申込書(NO61~90)'!$A$9:$N$38,2,FALSE) -> 0 | D96: =VLOOKUP(B96,'参加申込書(NO61~90)'!$A$9:$N$38,4,FALSE) -> 0 | I96: =VLOOKUP(B96,'参加申込書(NO61~90)'!$A$9:$N$38,6,FALSE) -> 0 | J96: =VLOOKUP(B96,'参加申込書(NO61~90)'!$A$9:$N$38,12,FALSE) -> 0 | K96: =VLOOKUP(B96,'参加申込書(NO61~90)'!$A$9:$N$38,13,FALSE) -> 0 | T96: =B113 -> 78 | U96: =C113 -> 0 | V96: =D113 -> 0 | W96: =E113 -> 0 | X96: =F113 -> 0 | Y96: =G113 -> 0 | Z96: =H113 -> 0 | AA96: =I113 -> 0 | ... AC96: =K113 -> 0
B97: 62 | C97: =VLOOKUP(B97,'参加申込書(NO61~90)'!$A$9:$N$38,2,FALSE) -> 0 | D97: =VLOOKUP(B97,'参加申込書(NO61~90)'!$A$9:$N$38,4,FALSE) -> 0 | I97: =VLOOKUP(B97,'参加申込書(NO61~90)'!$A$9:$N$38,6,FALSE) -> 0 | J97: =VLOOKUP(B97,'参加申込書(NO61~90)'!$A$9:$N$38,12,FALSE) -> 0 | K97: =VLOOKUP(B97,'参加申込書(NO61~90)'!$A$9:$N$38,13,FALSE) -> 0 | T97: =B114 -> 79 | U97: =C114 -> 0 | V97: =D114 -> 0 | W97: =E114 -> 0 | X97: =F114 -> 0 | Y97: =G114 -> 0 | Z97: =H114 -> 0 | AA97: =I114 -> 0 | ... AC97: =K114 -> 0
B98: 63 | C98: =VLOOKUP(B98,'参加申込書(NO61~90)'!$A$9:$N$38,2,FALSE) -> 0 | D98: =VLOOKUP(B98,'参加申込書(NO61~90)'!$A$9:$N$38,4,FALSE) -> 0 | I98: =VLOOKUP(B98,'参加申込書(NO61~90)'!$A$9:$N$38,6,FALSE) -> 0 | J98: =VLOOKUP(B98,'参加申込書(NO61~90)'!$A$9:$N$38,12,FALSE) -> 0 | K98: =VLOOKUP(B98,'参加申込書(NO61~90)'!$A$9:$N$38,13,FALSE) -> 0 | T98: =B115 -> 80 | U98: =C115 -> 0 | V98: =D115 -> 0 | W98: =E115 -> 0 | X98: =F115 -> 0 | Y98: =G115 -> 0 | Z98: =H115 -> 0 | AA98: =I115 -> 0 | ... AC98: =K115 -> 0
B99: 64 | C99: =VLOOKUP(B99,'参加申込書(NO61~90)'!$A$9:$N$38,2,FALSE) -> 0 | D99: =VLOOKUP(B99,'参加申込書(NO61~90)'!$A$9:$N$38,4,FALSE) -> 0 | I99: =VLOOKUP(B99,'参加申込書(NO61~90)'!$A$9:$N$38,6,FALSE) -> 0 | J99: =VLOOKUP(B99,'参加申込書(NO61~90)'!$A$9:$N$38,12,FALSE) -> 0 | K99: =VLOOKUP(B99,'参加申込書(NO61~90)'!$A$9:$N$38,13,FALSE) -> 0 | T99: =B116 -> 81 | U99: =C116 -> 0 | V99: =D116 -> 0 | W99: =E116 -> 0 | X99: =F116 -> 0 | Y99: =G116 -> 0 | Z99: =H116 -> 0 | AA99: =I116 -> 0 | ... AC99: =K116 -> 0
B100: 65 | C100: =VLOOKUP(B100,'参加申込書(NO61~90)'!$A$9:$N$38,2,FALSE) -> 0 | D100: =VLOOKUP(B100,'参加申込書(NO61~90)'!$A$9:$N$38,4,FALSE) -> 0 | I100: =VLOOKUP(B100,'参加申込書(NO61~90)'!$A$9:$N$38,6,FALSE) -> 0 | J100: =VLOOKUP(B100,'参加申込書(NO61~90)'!$A$9:$N$38,12,FALSE) -> 0 | K100: =VLOOKUP(B100,'参加申込書(NO61~90)'!$A$9:$N$38,13,FALSE) -> 0 | T100: =B117 -> 82 | U100: =C117 -> 0 | V100: =D117 -> 0 | W100: =E117 -> 0 | X100: =F117 -> 0 | Y100: =G117 -> 0 | Z100: =H117 -> 0 | AA100: =I117 -> 0 | ... AC100: =K117 -> 0
B101: 66 | C101: =VLOOKUP(B101,'参加申込書(NO61~90)'!$A$9:$N$38,2,FALSE) -> 0 | D101: =VLOOKUP(B101,'参加申込書(NO61~90)'!$A$9:$N$38,4,FALSE) -> 0 | I101: =VLOOKUP(B101,'参加申込書(NO61~90)'!$A$9:$N$38,6,FALSE) -> 0 | J101: =VLOOKUP(B101,'参加申込書(NO61~90)'!$A$9:$N$38,12,FALSE) -> 0 | K101: =VLOOKUP(B101,'参加申込書(NO61~90)'!$A$9:$N$38,13,FALSE) -> 0 | T101: =B118 -> 83 | U101: =C118 -> 0 | V101: =D118 -> 0 | W101: =E118 -> 0 | X101: =F118 -> 0 | Y101: =G118 -> 0 | Z101: =H118 -> 0 | AA101: =I118 -> 0 | ... AC101: =K118 -> 0
B102: 67 | C102: =VLOOKUP(B102,'参加申込書(NO61~90)'!$A$9:$N$38,2,FALSE) -> 0 | D102: =VLOOKUP(B102,'参加申込書(NO61~90)'!$A$9:$N$38,4,FALSE) -> 0 | I102: =VLOOKUP(B102,'参加申込書(NO61~90)'!$A$9:$N$38,6,FALSE) -> 0 | J102: =VLOOKUP(B102,'参加申込書(NO61~90)'!$A$9:$N$38,12,FALSE) -> 0 | K102: =VLOOKUP(B102,'参加申込書(NO61~90)'!$A$9:$N$38,13,FALSE) -> 0 | T102: =B119 -> 84 | U102: =C119 -> 0 | V102: =D119 -> 0 | W102: =E119 -> 0 | X102: =F119 -> 0 | Y102: =G119 -> 0 | Z102: =H119 -> 0 | AA102: =I119 -> 0 | ... AC102: =K119 -> 0
B103: 68 | C103: =VLOOKUP(B103,'参加申込書(NO61~90)'!$A$9:$N$38,2,FALSE) -> 0 | D103: =VLOOKUP(B103,'参加申込書(NO61~90)'!$A$9:$N$38,4,FALSE) -> 0 | I103: =VLOOKUP(B103,'参加申込書(NO61~90)'!$A$9:$N$38,6,FALSE) -> 0 | J103: =VLOOKUP(B103,'参加申込書(NO61~90)'!$A$9:$N$38,12,FALSE) -> 0 | K103: =VLOOKUP(B103,'参加申込書(NO61~90)'!$A$9:$N$38,13,FALSE) -> 0 | T103: =B120 -> 85 | U103: =C120 -> 0 | V103: =D120 -> 0 | W103: =E120 -> 0 | X103: =F120 -> 0 | Y103: =G120 -> 0 | Z103: =H120 -> 0 | AA103: =I120 -> 0 | ... AC103: =K120 -> 0
B104: 69 | C104: =VLOOKUP(B104,'参加申込書(NO61~90)'!$A$9:$N$38,2,FALSE) -> 0 | D104: =VLOOKUP(B104,'参加申込書(NO61~90)'!$A$9:$N$38,4,FALSE) -> 0 | I104: =VLOOKUP(B104,'参加申込書(NO61~90)'!$A$9:$N$38,6,FALSE) -> 0 | J104: =VLOOKUP(B104,'参加申込書(NO61~90)'!$A$9:$N$38,12,FALSE) -> 0 | K104: =VLOOKUP(B104,'参加申込書(NO61~90)'!$A$9:$N$38,13,FALSE) -> 0 | T104: =B121 -> 86 | U104: =C121 -> 0 | V104: =D121 -> 0 | W104: =E121 -> 0 | X104: =F121 -> 0 | Y104: =G121 -> 0 | Z104: =H121 -> 0 | AA104: =I121 -> 0 | ... AC104: =K121 -> 0
B105: 70 | C105: =VLOOKUP(B105,'参加申込書(NO61~90)'!$A$9:$N$38,2,FALSE) -> 0 | D105: =VLOOKUP(B105,'参加申込書(NO61~90)'!$A$9:$N$38,4,FALSE) -> 0 | I105: =VLOOKUP(B105,'参加申込書(NO61~90)'!$A$9:$N$38,6,FALSE) -> 0 | J105: =VLOOKUP(B105,'参加申込書(NO61~90)'!$A$9:$N$38,12,FALSE) -> 0 | K105: =VLOOKUP(B105,'参加申込書(NO61~90)'!$A$9:$N$38,13,FALSE) -> 0 | T105: =B122 -> 87 | U105: =C122 -> 0 | V105: =D122 -> 0 | W105: =E122 -> 0 | X105: =F122 -> 0 | Y105: =G122 -> 0 | Z105: =H122 -> 0 | AA105: =I122 -> 0 | ... AC105: =K122 -> 0
B106: 71 | C106: =VLOOKUP(B106,'参加申込書(NO61~90)'!$A$9:$N$38,2,FALSE) -> 0 | D106: =VLOOKUP(B106,'参加申込書(NO61~90)'!$A$9:$N$38,4,FALSE) -> 0 | I106: =VLOOKUP(B106,'参加申込書(NO61~90)'!$A$9:$N$38,6,FALSE) -> 0 | J106: =VLOOKUP(B106,'参加申込書(NO61~90)'!$A$9:$N$38,12,FALSE) -> 0 | K106: =VLOOKUP(B106,'参加申込書(NO61~90)'!$A$9:$N$38,13,FALSE) -> 0 | T106: =B123 -> 88 | U106: =C123 -> 0 | V106: =D123 -> 0 | W106: =E123 -> 0 | X106: =F123 -> 0 | Y106: =G123 -> 0 | Z106: =H123 -> 0 | AA106: =I123 -> 0 | ... AC106: =K123 -> 0
B107: 72 | C107: =VLOOKUP(B107,'参加申込書(NO61~90)'!$A$9:$N$38,2,FALSE) -> 0 | D107: =VLOOKUP(B107,'参加申込書(NO61~90)'!$A$9:$N$38,4,FALSE) -> 0 | I107: =VLOOKUP(B107,'参加申込書(NO61~90)'!$A$9:$N$38,6,FALSE) -> 0 | J107: =VLOOKUP(B107,'参加申込書(NO61~90)'!$A$9:$N$38,12,FALSE) -> 0 | K107: =VLOOKUP(B107,'参加申込書(NO61~90)'!$A$9:$N$38,13,FALSE) -> 0 | T107: =B124 -> 89 | U107: =C124 -> 0 | V107: =D124 -> 0 | W107: =E124 -> 0 | X107: =F124 -> 0 | Y107: =G124 -> 0 | Z107: =H124 -> 0 | AA107: =I124 -> 0 | ... AC107: =K124 -> 0
B108: 73 | C108: =VLOOKUP(B108,'参加申込書(NO61~90)'!$A$9:$N$38,2,FALSE) -> 0 | D108: =VLOOKUP(B108,'参加申込書(NO61~90)'!$A$9:$N$38,4,FALSE) -> 0 | I108: =VLOOKUP(B108,'参加申込書(NO61~90)'!$A$9:$N$38,6,FALSE) -> 0 | J108: =VLOOKUP(B108,'参加申込書(NO61~90)'!$A$9:$N$38,12,FALSE) -> 0 | K108: =VLOOKUP(B108,'参加申込書(NO61~90)'!$A$9:$N$38,13,FALSE) -> 0 | T108: =B125 -> 90 | U108: =C125 -> 0 | V108: =D125 -> 0 | W108: =E125 -> 0 | X108: =F125 -> 0 | Y108: =G125 -> 0 | Z108: =H125 -> 0 | AA108: =I125 -> 0 | ... AC108: =K125 -> 0
B109: 74 | C109: =VLOOKUP(B109,'参加申込書(NO61~90)'!$A$9:$N$38,2,FALSE) -> 0 | D109: =VLOOKUP(B109,'参加申込書(NO61~90)'!$A$9:$N$38,4,FALSE) -> 0 | I109: =VLOOKUP(B109,'参加申込書(NO61~90)'!$A$9:$N$38,6,FALSE) -> 0 | J109: =VLOOKUP(B109,'参加申込書(NO61~90)'!$A$9:$N$38,12,FALSE) -> 0 | K109: =VLOOKUP(B109,'参加申込書(NO61~90)'!$A$9:$N$38,13,FALSE) -> 0
B110: 75 | C110: =VLOOKUP(B110,'参加申込書(NO61~90)'!$A$9:$N$38,2,FALSE) -> 0 | D110: =VLOOKUP(B110,'参加申込書(NO61~90)'!$A$9:$N$38,4,FALSE) -> 0 | I110: =VLOOKUP(B110,'参加申込書(NO61~90)'!$A$9:$N$38,6,FALSE) -> 0 | J110: =VLOOKUP(B110,'参加申込書(NO61~90)'!$A$9:$N$38,12,FALSE) -> 0 | K110: =VLOOKUP(B110,'参加申込書(NO61~90)'!$A$9:$N$38,13,FALSE) -> 0
B111: 76 | C111: =VLOOKUP(B111,'参加申込書(NO61~90)'!$A$9:$N$38,2,FALSE) -> 0 | D111: =VLOOKUP(B111,'参加申込書(NO61~90)'!$A$9:$N$38,4,FALSE) -> 0 | I111: =VLOOKUP(B111,'参加申込書(NO61~90)'!$A$9:$N$38,6,FALSE) -> 0 | J111: =VLOOKUP(B111,'参加申込書(NO61~90)'!$A$9:$N$38,12,FALSE) -> 0 | K111: =VLOOKUP(B111,'参加申込書(NO61~90)'!$A$9:$N$38,13,FALSE) -> 0
B112: 77 | C112: =VLOOKUP(B112,'参加申込書(NO61~90)'!$A$9:$N$38,2,FALSE) -> 0 | D112: =VLOOKUP(B112,'参加申込書(NO61~90)'!$A$9:$N$38,4,FALSE) -> 0 | I112: =VLOOKUP(B112,'参加申込書(NO61~90)'!$A$9:$N$38,6,FALSE) -> 0 | J112: =VLOOKUP(B112,'参加申込書(NO61~90)'!$A$9:$N$38,12,FALSE) -> 0 | K112: =VLOOKUP(B112,'参加申込書(NO61~90)'!$A$9:$N$38,13,FALSE) -> 0
B113: 78 | C113: =VLOOKUP(B113,'参加申込書(NO61~90)'!$A$9:$N$38,2,FALSE) -> 0 | D113: =VLOOKUP(B113,'参加申込書(NO61~90)'!$A$9:$N$38,4,FALSE) -> 0 | I113: =VLOOKUP(B113,'参加申込書(NO61~90)'!$A$9:$N$38,6,FALSE) -> 0 | J113: =VLOOKUP(B113,'参加申込書(NO61~90)'!$A$9:$N$38,12,FALSE) -> 0 | K113: =VLOOKUP(B113,'参加申込書(NO61~90)'!$A$9:$N$38,13,FALSE) -> 0
B114: 79 | C114: =VLOOKUP(B114,'参加申込書(NO61~90)'!$A$9:$N$38,2,FALSE) -> 0 | D114: =VLOOKUP(B114,'参加申込書(NO61~90)'!$A$9:$N$38,4,FALSE) -> 0 | I114: =VLOOKUP(B114,'参加申込書(NO61~90)'!$A$9:$N$38,6,FALSE) -> 0 | J114: =VLOOKUP(B114,'参加申込書(NO61~90)'!$A$9:$N$38,12,FALSE) -> 0 | K114: =VLOOKUP(B114,'参加申込書(NO61~90)'!$A$9:$N$38,13,FALSE) -> 0
B115: 80 | C115: =VLOOKUP(B115,'参加申込書(NO61~90)'!$A$9:$N$38,2,FALSE) -> 0 | D115: =VLOOKUP(B115,'参加申込書(NO61~90)'!$A$9:$N$38,4,FALSE) -> 0 | I115: =VLOOKUP(B115,'参加申込書(NO61~90)'!$A$9:$N$38,6,FALSE) -> 0 | J115: =VLOOKUP(B115,'参加申込書(NO61~90)'!$A$9:$N$38,12,FALSE) -> 0 | K115: =VLOOKUP(B115,'参加申込書(NO61~90)'!$A$9:$N$38,13,FALSE) -> 0
B116: 81 | C116: =VLOOKUP(B116,'参加申込書(NO61~90)'!$A$9:$N$38,2,FALSE) -> 0 | D116: =VLOOKUP(B116,'参加申込書(NO61~90)'!$A$9:$N$38,4,FALSE) -> 0 | I116: =VLOOKUP(B116,'参加申込書(NO61~90)'!$A$9:$N$38,6,FALSE) -> 0 | J116: =VLOOKUP(B116,'参加申込書(NO61~90)'!$A$9:$N$38,12,FALSE) -> 0 | K116: =VLOOKUP(B116,'参加申込書(NO61~90)'!$A$9:$N$38,13,FALSE) -> 0
B117: 82 | C117: =VLOOKUP(B117,'参加申込書(NO61~90)'!$A$9:$N$38,2,FALSE) -> 0 | D117: =VLOOKUP(B117,'参加申込書(NO61~90)'!$A$9:$N$38,4,FALSE) -> 0 | I117: =VLOOKUP(B117,'参加申込書(NO61~90)'!$A$9:$N$38,6,FALSE) -> 0 | J117: =VLOOKUP(B117,'参加申込書(NO61~90)'!$A$9:$N$38,12,FALSE) -> 0 | K117: =VLOOKUP(B117,'参加申込書(NO61~90)'!$A$9:$N$38,13,FALSE) -> 0
B118: 83 | C118: =VLOOKUP(B118,'参加申込書(NO61~90)'!$A$9:$N$38,2,FALSE) -> 0 | D118: =VLOOKUP(B118,'参加申込書(NO61~90)'!$A$9:$N$38,4,FALSE) -> 0 | I118: =VLOOKUP(B118,'参加申込書(NO61~90)'!$A$9:$N$38,6,FALSE) -> 0 | J118: =VLOOKUP(B118,'参加申込書(NO61~90)'!$A$9:$N$38,12,FALSE) -> 0 | K118: =VLOOKUP(B118,'参加申込書(NO61~90)'!$A$9:$N$38,13,FALSE) -> 0
B119: 84 | C119: =VLOOKUP(B119,'参加申込書(NO61~90)'!$A$9:$N$38,2,FALSE) -> 0 | D119: =VLOOKUP(B119,'参加申込書(NO61~90)'!$A$9:$N$38,4,FALSE) -> 0 | I119: =VLOOKUP(B119,'参加申込書(NO61~90)'!$A$9:$N$38,6,FALSE) -> 0 | J119: =VLOOKUP(B119,'参加申込書(NO61~90)'!$A$9:$N$38,12,FALSE) -> 0 | K119: =VLOOKUP(B119,'参加申込書(NO61~90)'!$A$9:$N$38,13,FALSE) -> 0
B120: 85 | C120: =VLOOKUP(B120,'参加申込書(NO61~90)'!$A$9:$N$38,2,FALSE) -> 0 | D120: =VLOOKUP(B120,'参加申込書(NO61~90)'!$A$9:$N$38,4,FALSE) -> 0 | I120: =VLOOKUP(B120,'参加申込書(NO61~90)'!$A$9:$N$38,6,FALSE) -> 0 | J120: =VLOOKUP(B120,'参加申込書(NO61~90)'!$A$9:$N$38,12,FALSE) -> 0 | K120: =VLOOKUP(B120,'参加申込書(NO61~90)'!$A$9:$N$38,13,FALSE) -> 0
... B125: 90 | C125: =VLOOKUP(B125,'参加申込書(NO61~90)'!$A$9:$N$38,2,FALSE) -> 0 | D125: =VLOOKUP(B125,'参加申込書(NO61~90)'!$A$9:$N$38,4,FALSE) -> 0 | I125: =VLOOKUP(B125,'参加申込書(NO61~90)'!$A$9:$N$38,6,FALSE) -> 0 | J125: =VLOOKUP(B125,'参加申込書(NO61~90)'!$A$9:$N$38,12,FALSE) -> 0 | K125: =VLOOKUP(B125,'参加申込書(NO61~90)'!$A$9:$N$38,13,FALSE) -> 0
P127: 2枚目/2枚中

Sheet パンフレット (見本)
B1: トーナメント番号【 】
B2: ☆ 校章 ☆ | C2: 沖縄県立沖縄高等学校 | L2: 〒 | M2: 901-○○○○
L3: 沖縄県○○市○○○○
B5: チームスタッフ（ベンチ） | G5: チームプロフィール | M5: ユニホーム
B6: 引率教諭 | D6: 琉球 太郎１ | G6: (チームの歴史、戦績) | N6: ﾌｨｰﾙﾄﾞﾌﾟﾚｲﾔｰ | P6: ｺﾞｰﾙｷｰﾊﾟｰ
B7: 監 督 | D7: 琉球 太郎２ | G7: 1970年 学校設立と共に創部 | N7: 正 | O7: 副 | P7: 正 | Q7: 副
B8: コーチ | D8: 琉球 太郎３ | G8: 1988年 県新人大会 ベスト４ | M8: ｼｬﾂ | N8: 青 | O8: 緑 | P8: 黄 | Q8: ピンク
B9: コーチ | D9: 琉球 太郎４ | G9: 1988年 県総合体育大会 優勝
B10: コーチ | G10: 1988年 全国総合体育大会 1回戦突破 | M10: ﾊﾟﾝﾂ | N10: 白 | O10: 緑 | P10: 黄 | Q10: ピンク
B11: マネージャー | D11: 琉球 太郎５
B12: マネージャー | M12: ｿｯｸｽ | N12: 赤 | O12: 緑 | P12: 黄 | Q12: ピンク
B14: ※通番は背番号ではありません。
B15: 通番 | C15: 位置 | D15: 氏 名 | I15: 学年 | J15: 身長 (cm) | K15: 体重 (kg) | L15: 前所属（クラブチームはクラブ名）
L16: 中学校 | O16: 小学校
B17: 1 | C17: GK | D17: 沖縄 太郎１ | I17: 3 | J17: 180 | K17: 78 | L17: 琉沖中学校A | O17: 琉球沖小チームA
B18: 2 | C18: DF | D18: 沖縄 太郎２ | I18: 3 | J18: 176 | K18: 77 | L18: 琉沖中学校B | O18: 琉球沖小チームA
B19: 3 | C19: DF | D19: 沖縄 太郎３ | I19: 3 | J19: 172 | K19: 68 | L19: 琉沖中学校A | O19: 琉球沖小チームA
B20: 4 | C20: DF | D20: 沖縄 太郎４ | I20: 3 | J20: 183 | K20: 79 | L20: 琉沖中学校B | O20: 琉球沖小チームA
B21: 5 | C21: DF | D21: 沖縄 太郎５ | I21: 2 | J21: 165 | K21: 60 | L21: 琉沖中学校A | O21: 琉球沖小チームA
B22: 6 | C22: MF | D22: 沖縄 太郎６ | I22: 3 | J22: 178 | K22: 76 | L22: 琉沖中学校B | O22: 琉球沖小チームA
B23: 7 | C23: MF | D23: 沖縄 太郎７ | I23: 3 | J23: 170 | K23: 63 | L23: 琉沖中学校A | O23: 琉球沖小チームA
B24: 8 | C24: MF | D24: 沖縄 太郎８ | I24: 3 | J24: 169 | K24: 67 | L24: 琉沖中学校B | O24: 琉球沖小チームA
B25: 9 | C25: MF | D25: 沖縄 太郎９ | I25: 1 | J25: 173 | K25: 70 | L25: 琉沖中学校A | O25: 琉球沖小チームA
B26: 10 | C26: FW | D26: 沖縄 太郎１０ | I26: 3 | J26: 190 | K26: 75 | L26: 琉沖中学校B | O26: 琉球沖小チームA
B27: 11 | C27: FW | D27: 沖縄 太郎１１ | I27: 2 | J27: 155 | K27: 58 | L27: 琉沖中学校A | O27: 琉球沖小チームA
B28: 12 | C28: GK | D28: 沖縄 太郎１２ | I28: 3 | J28: 173 | K28: 64 | L28: 琉沖中学校B | O28: 琉球沖小チームA
... B30: 14 | C30: DF | D30: 沖縄 太郎１４ | I30: 3 | J30: 168 | K30: 60 | L30: 琉沖中学校B | O30: 琉球沖小チームA
B31: 15 | C31: DF | D31: 沖縄 太郎１５ | I31: 3 | J31: 165 | K31: 60 | L31: 琉沖中学校A
B32: 16 | C32: DF | D32: 沖縄 太郎１６ | I32: 2 | J32: 170 | K32: 66 | L32: 琉沖中学校B | O32: 琉球沖小チームA
B33: 17 | C33: DF | D33: 沖縄 太郎１７ | I33: 2 | J33: 181 | K33: 80 | L33: 琉沖中学校A
B34: 18 | C34: DF | D34: 沖縄 太郎１８ | I34: 1 | J34: 164 | K34: 70 | L34: 琉沖中学校B | O34: 琉球沖小チームA
B35: 19 | C35: DF | D35: 沖縄 太郎１９ | I35: 1 | J35: 158 | K35: 60 | L35: 琉沖中学校A | O35: 琉球沖小チームA
B36: 20 | C36: DF | D36: 沖縄 太郎２０ | I36: 1 | J36: 167 | K36: 70 | L36: 琉沖中学校B
B37: 21 | C37: MF | D37: 沖縄 太郎２１ | I37: 3 | J37: 189 | K37: 79 | L37: 琉沖中学校A | O37: 琉球沖小チームA
B38: 22 | C38: MF | D38: 沖縄 太郎２２ | I38: 3 | J38: 176 | K38: 70 | L38: 琉沖中学校B | O38: 琉球沖小チームA
B39: 23 | C39: MF | D39: 沖縄 太郎２３ | I39: 3 | J39: 159 | K39: 55 | L39: 琉沖中学校A | O39: リュウオキクラブチーム
B40: 24 | C40: MF | D40: 沖縄 太郎２４ | I40: 3 | J40: 160 | K40: 60 | L40: 琉沖中学校B | O40: リュウオキクラブチーム
B41: 25 | C41: MF | D41: 沖縄 太郎２５ | I41: 2 | J41: 167 | K41: 62 | L41: リュウオキクラブチーム | O41: リュウオキクラブチーム
B42: 26 | C42: FW | D42: 沖縄 太郎２６ | I42: 3 | J42: 171 | K42: 65 | L42: リュウオキクラブチーム | O42: リュウオキクラブチーム
B43: 27 | C43: FW | D43: 沖縄 太郎２７ | I43: 1 | J43: 157 | K43: 59 | L43: リュウオキクラブチーム
B44: 28 | C44: 0 | D44: 0 | I44: 0 | J44: 0 | K44: 0
B45: 29 | C45: 0 | D45: 0 | I45: 0 | J45: 0 | K45: 0
B46: 30 | C46: 0 | D46: 0 | I46: 0 | J46: 0 | K46: 0

Sheet ﾒﾝﾊﾞｰ及び交代用紙
A1: 2026年 第105回全国高校サッカー選手権大会沖縄県大会メンバー用紙及び交代用紙
B2: 学校名 | E2: =IF('参加申込書(NO1~30)'!C3="","",'参加申込書(NO1~30)'!C3)
A4: 通番 | B4: 背番号 | C4: 位置 | D4: ふりがな | E4: 学年 | F4: 先発 | G4: 交代 要員 | H4: 選手交代（IN→〇 OUT→×）（交代する場面に〇つける） | N4: 脳震盪 | P4: 延長 | R4: R 8 年 月 日
D5: 氏名 | H5: 1人目 前・HT・後・IV・ (延長) | I5: 2人目 前・HT・後・IV・ (延長) | J5: 3人目 前・HT・後・IV・ (延長) | L5: 4人目 前・HT・後・IV・ (延長) | M5: 5人目 前・HT・後・IV・ (延長) | N5: 自 | O5: 相 | P5: ６人目
R6: 自チーム | T6: 対戦チーム
B7: 1 | C7: =IF(A7="","",VLOOKUP(A7,'パンフレット（90名用）'!$T$17:$AC$108,2,FALSE)) | E7: =IF(A7="","",VLOOKUP(A7,'パンフレット（90名用）'!$T$17:$AC$108,8,FALSE))
D8: =IF(A7="","",VLOOKUP(A7,'パンフレット（90名用）'!$T$17:$AC$108,3,FALSE))
B9: 2 | C9: =IF(A9="","",VLOOKUP(A9,'パンフレット（90名用）'!$T$17:$AC$108,2,FALSE)) | E9: =IF(A9="","",VLOOKUP(A9,'パンフレット（90名用）'!$T$17:$AC$108,8,FALSE)) | R9: ユニフォームの色
D10: =IF(A9="","",VLOOKUP(A9,'パンフレット（90名用）'!$T$17:$AC$108,3,FALSE))
B11: 3 | C11: =IF(A11="","",VLOOKUP(A11,'パンフレット（90名用）'!$T$17:$AC$108,2,FALSE)) | E11: =IF(A11="","",VLOOKUP(A11,'パンフレット（90名用）'!$T$17:$AC$108,8,FALSE))
D12: =IF(A11="","",VLOOKUP(A11,'パンフレット（90名用）'!$T$17:$AC$108,3,FALSE)) | S12: シャツ | T12: ショーツ | U12: ソックス
B13: 4 | C13: =IF(A13="","",VLOOKUP(A13,'パンフレット（90名用）'!$T$17:$AC$108,2,FALSE)) | E13: =IF(A13="","",VLOOKUP(A13,'パンフレット（90名用）'!$T$17:$AC$108,8,FALSE)) | R13: FP
D14: =IF(A13="","",VLOOKUP(A13,'パンフレット（90名用）'!$T$17:$AC$108,3,FALSE))
B15: 5 | C15: =IF(A15="","",VLOOKUP(A15,'パンフレット（90名用）'!$T$17:$AC$108,2,FALSE)) | E15: =IF(A15="","",VLOOKUP(A15,'パンフレット（90名用）'!$T$17:$AC$108,8,FALSE)) | R15: GK
D16: =IF(A15="","",VLOOKUP(A15,'パンフレット（90名用）'!$T$17:$AC$108,3,FALSE))
B17: 6 | C17: =IF(A17="","",VLOOKUP(A17,'パンフレット（90名用）'!$T$17:$AC$108,2,FALSE)) | E17: =IF(A17="","",VLOOKUP(A17,'パンフレット（90名用）'!$T$17:$AC$108,8,FALSE))
D18: =IF(A17="","",VLOOKUP(A17,'パンフレット（90名用）'!$T$17:$AC$108,3,FALSE)) | R18: 【注意事項】
B19: 7 | C19: =IF(A19="","",VLOOKUP(A19,'パンフレット（90名用）'!$T$17:$AC$108,2,FALSE)) | E19: =IF(A19="","",VLOOKUP(A19,'パンフレット（90名用）'!$T$17:$AC$108,8,FALSE)) | R19: ①試合開始30分前に本部記録係へ、またはMCMにて提出することとする。 ②選手交代は交代要員の内から5人までとする。脳震盪、延長については追加あり（実施要項要確認）。 ③先発の欄には先発は○、出場停止の場合は×を記入する。 ④交代要員は最大9名とする。 ⑤交代要員の欄には、交代要員は○、交代要員とならない選手には、×を記入する。 ⑥選手交代の欄には、退場の選手に×、入場の選手に○を記入する。 ⑦交代する場面に〇を記入する。(例:後半なら後、延長前半なら延長と前に〇を記入) ⑧準決勝からは、ふりがなと布陣を記入する。
D20: =IF(A19="","",VLOOKUP(A19,'パンフレット（90名用）'!$T$17:$AC$108,3,FALSE))
B21: 8 | C21: =IF(A21="","",VLOOKUP(A21,'パンフレット（90名用）'!$T$17:$AC$108,2,FALSE)) | E21: =IF(A21="","",VLOOKUP(A21,'パンフレット（90名用）'!$T$17:$AC$108,8,FALSE))
D22: =IF(A21="","",VLOOKUP(A21,'パンフレット（90名用）'!$T$17:$AC$108,3,FALSE))
B23: 9 | C23: =IF(A23="","",VLOOKUP(A23,'パンフレット（90名用）'!$T$17:$AC$108,2,FALSE)) | E23: =IF(A23="","",VLOOKUP(A23,'パンフレット（90名用）'!$T$17:$AC$108,8,FALSE))
D24: =IF(A23="","",VLOOKUP(A23,'パンフレット（90名用）'!$T$17:$AC$108,3,FALSE))
B25: 10 | C25: =IF(A25="","",VLOOKUP(A25,'パンフレット（90名用）'!$T$17:$AC$108,2,FALSE)) | E25: =IF(A25="","",VLOOKUP(A25,'パンフレット（90名用）'!$T$17:$AC$108,8,FALSE))
D26: =IF(A25="","",VLOOKUP(A25,'パンフレット（90名用）'!$T$17:$AC$108,3,FALSE))
B27: 11 | C27: =IF(A27="","",VLOOKUP(A27,'パンフレット（90名用）'!$T$17:$AC$108,2,FALSE)) | E27: =IF(A27="","",VLOOKUP(A27,'パンフレット（90名用）'!$T$17:$AC$108,8,FALSE))
D28: =IF(A27="","",VLOOKUP(A27,'パンフレット（90名用）'!$T$17:$AC$108,3,FALSE))
B29: 12 | C29: =IF(A29="","",VLOOKUP(A29,'パンフレット（90名用）'!$T$17:$AC$108,2,FALSE)) | E29: =IF(A29="","",VLOOKUP(A29,'パンフレット（90名用）'!$T$17:$AC$108,8,FALSE))
D30: =IF(A29="","",VLOOKUP(A29,'パンフレット（90名用）'!$T$17:$AC$108,3,FALSE)) | R30: ベンチ入りスタッフ氏名（5名以内)
B31: 13 | C31: =IF(A31="","",VLOOKUP(A31,'パンフレット（90名用）'!$T$17:$AC$108,2,FALSE)) | E31: =IF(A31="","",VLOOKUP(A31,'パンフレット（90名用）'!$T$17:$AC$108,8,FALSE))
D32: =IF(A31="","",VLOOKUP(A31,'パンフレット（90名用）'!$T$17:$AC$108,3,FALSE)) | R32: NO | S32: 氏 名 | U32: 役 職
B33: 14 | C33: =IF(A33="","",VLOOKUP(A33,'パンフレット（90名用）'!$T$17:$AC$108,2,FALSE)) | E33: =IF(A33="","",VLOOKUP(A33,'パンフレット（90名用）'!$T$17:$AC$108,8,FALSE)) | R33: 1
D34: =IF(A33="","",VLOOKUP(A33,'パンフレット（90名用）'!$T$17:$AC$108,3,FALSE))
B35: 15 | C35: =IF(A35="","",VLOOKUP(A35,'パンフレット（90名用）'!$T$17:$AC$108,2,FALSE)) | E35: =IF(A35="","",VLOOKUP(A35,'パンフレット（90名用）'!$T$17:$AC$108,8,FALSE)) | R35: 2
D36: =IF(A35="","",VLOOKUP(A35,'パンフレット（90名用）'!$T$17:$AC$108,3,FALSE))
B37: 16 | C37: =IF(A37="","",VLOOKUP(A37,'パンフレット（90名用）'!$T$17:$AC$108,2,FALSE)) | E37: =IF(A37="","",VLOOKUP(A37,'パンフレット（90名用）'!$T$17:$AC$108,8,FALSE)) | R37: 3
D38: =IF(A37="","",VLOOKUP(A37,'パンフレット（90名用）'!$T$17:$AC$108,3,FALSE))
B39: 17 | C39: =IF(A39="","",VLOOKUP(A39,'パンフレット（90名用）'!$T$17:$AC$108,2,FALSE)) | E39: =IF(A39="","",VLOOKUP(A39,'パンフレット（90名用）'!$T$17:$AC$108,8,FALSE)) | R39: 4
D40: =IF(A39="","",VLOOKUP(A39,'パンフレット（90名用）'!$T$17:$AC$108,3,FALSE))
B41: 18 | C41: =IF(A41="","",VLOOKUP(A41,'パンフレット（90名用）'!$T$17:$AC$108,2,FALSE)) | E41: =IF(A41="","",VLOOKUP(A41,'パンフレット（90名用）'!$T$17:$AC$108,8,FALSE)) | R41: 5
D42: =IF(A41="","",VLOOKUP(A41,'パンフレット（90名用）'!$T$17:$AC$108,3,FALSE))
B43: 19 | C43: =IF(A43="","",VLOOKUP(A43,'パンフレット（90名用）'!$T$17:$AC$108,2,FALSE)) | E43: =IF(A43="","",VLOOKUP(A43,'パンフレット（90名用）'!$T$17:$AC$108,8,FALSE))
D44: =IF(A43="","",VLOOKUP(A43,'パンフレット（90名用）'!$T$17:$AC$108,3,FALSE)) | R44: 監督署名
B45: 20 | C45: =IF(A45="","",VLOOKUP(A45,'パンフレット（90名用）'!$T$17:$AC$108,2,FALSE)) | E45: =IF(A45="","",VLOOKUP(A45,'パンフレット（90名用）'!$T$17:$AC$108,8,FALSE))
D46: =IF(A45="","",VLOOKUP(A45,'パンフレット（90名用）'!$T$17:$AC$108,3,FALSE))
B47: 21 | C47: =IF(A47="","",VLOOKUP(A47,'パンフレット（90名用）'!$T$17:$AC$108,2,FALSE)) | E47: =IF(A47="","",VLOOKUP(A47,'パンフレット（90名用）'!$T$17:$AC$108,8,FALSE))
D48: =IF(A47="","",VLOOKUP(A47,'パンフレット（90名用）'!$T$17:$AC$108,3,FALSE)) | R48: 出場選手は全員、日本サッカー協会登録済みの選手であることを確認しています。
B49: 22 | C49: =IF(A49="","",VLOOKUP(A49,'パンフレット（90名用）'!$T$17:$AC$108,2,FALSE)) | E49: =IF(A49="","",VLOOKUP(A49,'パンフレット（90名用）'!$T$17:$AC$108,8,FALSE))
D50: =IF(A49="","",VLOOKUP(A49,'パンフレット（90名用）'!$T$17:$AC$108,3,FALSE))
B51: 23 | C51: =IF(A51="","",VLOOKUP(A51,'パンフレット（90名用）'!$T$17:$AC$108,2,FALSE)) | E51: =IF(A51="","",VLOOKUP(A51,'パンフレット（90名用）'!$T$17:$AC$108,8,FALSE))
D52: =IF(A51="","",VLOOKUP(A51,'パンフレット（90名用）'!$T$17:$AC$108,3,FALSE)) | R52: 署名：
B53: 24 | C53: =IF(A53="","",VLOOKUP(A53,'パンフレット（90名用）'!$T$17:$AC$108,2,FALSE)) | E53: =IF(A53="","",VLOOKUP(A53,'パンフレット（90名用）'!$T$17:$AC$108,8,FALSE))
D54: =IF(A53="","",VLOOKUP(A53,'パンフレット（90名用）'!$T$17:$AC$108,3,FALSE)) | R54: 布陣
B55: 25 | C55: =IF(A55="","",VLOOKUP(A55,'パンフレット（90名用）'!$T$17:$AC$108,2,FALSE)) | E55: =IF(A55="","",VLOOKUP(A55,'パンフレット（90名用）'!$T$17:$AC$108,8,FALSE))
D56: =IF(A55="","",VLOOKUP(A55,'パンフレット（90名用）'!$T$17:$AC$108,3,FALSE))
B57: 26 | C57: =IF(A57="","",VLOOKUP(A57,'パンフレット（90名用）'!$T$17:$AC$108,2,FALSE)) | E57: =IF(A57="","",VLOOKUP(A57,'パンフレット（90名用）'!$T$17:$AC$108,8,FALSE))
D58: =IF(A57="","",VLOOKUP(A57,'パンフレット（90名用）'!$T$17:$AC$108,3,FALSE))
B59: 27 | C59: =IF(A59="","",VLOOKUP(A59,'パンフレット（90名用）'!$T$17:$AC$108,2,FALSE)) | E59: =IF(A59="","",VLOOKUP(A59,'パンフレット（90名用）'!$T$17:$AC$108,8,FALSE))
D60: =IF(A59="","",VLOOKUP(A59,'パンフレット（90名用）'!$T$17:$AC$108,3,FALSE))
B61: 28 | C61: =IF(A61="","",VLOOKUP(A61,'パンフレット（90名用）'!$T$17:$AC$108,2,FALSE)) | E61: =IF(A61="","",VLOOKUP(A61,'パンフレット（90名用）'!$T$17:$AC$108,8,FALSE))
D62: =IF(A61="","",VLOOKUP(A61,'パンフレット（90名用）'!$T$17:$AC$108,3,FALSE))
B63: 29 | C63: =IF(A63="","",VLOOKUP(A63,'パンフレット（90名用）'!$T$17:$AC$108,2,FALSE)) | E63: =IF(A63="","",VLOOKUP(A63,'パンフレット（90名用）'!$T$17:$AC$108,8,FALSE))
D64: =IF(A63="","",VLOOKUP(A63,'パンフレット（90名用）'!$T$17:$AC$108,3,FALSE))
B65: 30 | C65: =IF(A65="","",VLOOKUP(A65,'パンフレット（90名用）'!$T$17:$AC$108,2,FALSE)) | E65: =IF(A65="","",VLOOKUP(A65,'パンフレット（90名用）'!$T$17:$AC$108,8,FALSE))
D66: =IF(A65="","",VLOOKUP(A65,'パンフレット（90名用）'!$T$17:$AC$108,3,FALSE))
C67: 補助マネージャー氏名(5名以内) | R67: 選手登録確認欄（本部用）
C68: 1 | F68: 2 | J68: 3 | R68: 済 ・ 未
C69: 4 | F69: 5
