Workbook

Sheet 申込書
A1: KYFA第30回九州U-18女子サッカー選手権大会 沖縄県予選申込用紙
A2: チーム名 | AK2: 略称
A3: 連絡先 | E3: 住 所 | AK3: TEL
AK4: PCメール
E5: 代表氏名 | AK5: 連絡先（携帯）
A6: 監 督 | AE6: 主 将
A7: コーチ等役員
A9: No. | E9: 背番号 | I9: Position | M9: 選手名 | AA9: フリガナ | AM9: 学年 | AQ9: 選手登録番号 | BA9: 生年月日
A10: 1
A11: 2
A12: 3
A13: 4
A14: 5
A15: 6
A16: 7
A17: 8
A18: 9
A19: 10
A20: 11
A21: 12
... A39: 30
A40: 帯同審判員 | M40: （ 級） | Y40: （ 級） | AK40: （ 級） | AW40: （ 級）
A41: ※キャプテンのNo.を○で囲んで下さい。 | T41: 必ず３級審判員を登録し、４級審判員は2名以上登録すること。
A42: ﾕﾆﾌｫｰﾑ の色 | G42: F P | Y42: G K | AR42: 上記の通り出場を認める。
G43: シャツ | M43: パンツ | S43: ストッキング | Y43: シャツ | AE43: パンツ | AK43: ストッキング | AR43: 2026 年 月 日
A44: 正
A45: 副 | AR45: 代表者 | BH45: 印

Sheet 申込書 (記入例)
A1: KYFA第30回九州U-18女子サッカー選手権大会 沖縄県予選申込用紙
A2: チーム名 | M2: JFAアカデミー沖縄 女子Ｕｰ１８ | AK2: 略称 | AR2: アカデミー沖縄U１８
A3: 連絡先 | E3: 住 所 | M3: 沖縄県那覇市奥武山 沖縄FA殿内 | AK3: TEL | AR3: 000-000-0000
AK4: PCメール | AR4: 〇〇〇〇@〇〇〇.〇〇.jp
E5: 代表氏名 | M5: 沖縄親方 | AK5: 連絡先（携帯） | AR5: 000-0000-0000
A6: 監 督 | M6: 沖縄親雲上 | AE6: 主 将 | AQ6: 百十踏揚
A7: コーチ等役員
A9: No. | E9: 背番号 | I9: Position | M9: 選手名 | AA9: フリガナ | AM9: 学年 | AQ9: 選手登録番号 | BA9: 生年月日
A10: 1 | E10: 1 | I10: GK | M10: 恩納 なべ | AA10: ウンナ ナビー | AM10: 高3 | AQ10: 0812150299 | BA10: 2009/12/15
A11: 2 | E11: 2 | I11: DF | M11: 吉屋 鶴 | AA11: ヨシヤ チルー | AM11: 高１ | AQ11: 1001280000 | BA11: 2010/01/28
A12: 3
A13: 4
A14: 5
A15: 6
A16: 7
A17: 8
A18: 9
A19: 10
A20: 11
A21: 12
A22: 13
A23: 14
... A39: 30
A40: 帯同審判員 | M40: （ 級） | Y40: （ 級） | AK40: （ 級） | AW40: （ 級）
A41: ※キャプテンのNo.を○で囲んで下さい。 | T41: 必ず３球審判員を登録し、４級審判員は2名以上登録すること。
A42: ﾕﾆﾌｫｰﾑ の色 | G42: F P | Y42: G K | AR42: 上記の通り出場を認める。
G43: シャツ | M43: パンツ | S43: ストッキング | Y43: シャツ | AE43: パンツ | AK43: ストッキング | AR43: 2026 年 月 日
A44: 正
A45: 副 | AR45: 代表者 | BH45: 印

Sheet オーダー用紙
A1: KYFA第30回九州U-18女子サッカー選手権大会 沖縄県予選申込用紙 【オーダー用紙】
A2: チーム名 | M2: =申込書!M2 -> 0 | AK2: 監 督 | AS2: =申込書!M6 -> 0
A3: スタッフ名
A5: No. | E5: 背番号 | I5: Position | M5: 選手名 | Y5: 先発 | AC5: 1回目 | AG5: 2回目 | AK5: 3回目 | AO5: HT | AS5: 延長前 ｲﾝﾀｰﾊﾞﾙ | AW5: 延長時 | BA5: 脳震盪 自チーム | BE5: 脳震盪 相手
A6: 1 | I6: =IF(E6="","",VLOOKUP(E6,申込書!$E$6:$Z$39,5,FALSE)) | M6: =IF(E6="","",VLOOKUP(E6,申込書!$E$6:$Z$39,9,FALSE)) | BI6: ※黄色の部分のみ入力お願いします。
A7: 2 | I7: =IF(E7="","",VLOOKUP(E7,申込書!$E$6:$Z$39,5,FALSE)) | M7: =IF(E7="","",VLOOKUP(E7,申込書!$E$6:$Z$39,9,FALSE)) | BI7: 申込書とリンクしています。
A8: 3 | I8: =IF(E8="","",VLOOKUP(E8,申込書!$E$6:$Z$39,5,FALSE)) | M8: =IF(E8="","",VLOOKUP(E8,申込書!$E$6:$Z$39,9,FALSE)) | BI8: 背番号入れるとPOS・選手名表示されます。
A9: 4 | I9: =IF(E9="","",VLOOKUP(E9,申込書!$E$6:$Z$39,5,FALSE)) | M9: =IF(E9="","",VLOOKUP(E9,申込書!$E$6:$Z$39,9,FALSE))
A10: 5 | I10: =IF(E10="","",VLOOKUP(E10,申込書!$E$6:$Z$39,5,FALSE)) | M10: =IF(E10="","",VLOOKUP(E10,申込書!$E$6:$Z$39,9,FALSE))
A11: 6 | I11: =IF(E11="","",VLOOKUP(E11,申込書!$E$6:$Z$39,5,FALSE)) | M11: =IF(E11="","",VLOOKUP(E11,申込書!$E$6:$Z$39,9,FALSE))
A12: 7 | I12: =IF(E12="","",VLOOKUP(E12,申込書!$E$6:$Z$39,5,FALSE)) | M12: =IF(E12="","",VLOOKUP(E12,申込書!$E$6:$Z$39,9,FALSE))
A13: 8 | I13: =IF(E13="","",VLOOKUP(E13,申込書!$E$6:$Z$39,5,FALSE)) | M13: =IF(E13="","",VLOOKUP(E13,申込書!$E$6:$Z$39,9,FALSE))
A14: 9 | I14: =IF(E14="","",VLOOKUP(E14,申込書!$E$6:$Z$39,5,FALSE)) | M14: =IF(E14="","",VLOOKUP(E14,申込書!$E$6:$Z$39,9,FALSE))
A15: 10 | I15: =IF(E15="","",VLOOKUP(E15,申込書!$E$6:$Z$39,5,FALSE)) | M15: =IF(E15="","",VLOOKUP(E15,申込書!$E$6:$Z$39,9,FALSE))
A16: 11 | I16: =IF(E16="","",VLOOKUP(E16,申込書!$E$6:$Z$39,5,FALSE)) | M16: =IF(E16="","",VLOOKUP(E16,申込書!$E$6:$Z$39,9,FALSE))
A17: 12 | I17: =IF(E17="","",VLOOKUP(E17,申込書!$E$6:$Z$39,5,FALSE)) | M17: =IF(E17="","",VLOOKUP(E17,申込書!$E$6:$Z$39,9,FALSE))
A18: 13 | I18: =IF(E18="","",VLOOKUP(E18,申込書!$E$6:$Z$39,5,FALSE)) | M18: =IF(E18="","",VLOOKUP(E18,申込書!$E$6:$Z$39,9,FALSE))
A19: 14 | I19: =IF(E19="","",VLOOKUP(E19,申込書!$E$6:$Z$39,5,FALSE)) | M19: =IF(E19="","",VLOOKUP(E19,申込書!$E$6:$Z$39,9,FALSE))
A20: 15 | I20: =IF(E20="","",VLOOKUP(E20,申込書!$E$6:$Z$39,5,FALSE)) | M20: =IF(E20="","",VLOOKUP(E20,申込書!$E$6:$Z$39,9,FALSE))
... A25: 20 | I25: =IF(E25="","",VLOOKUP(E25,申込書!$E$6:$Z$39,5,FALSE)) | M25: =IF(E25="","",VLOOKUP(E25,申込書!$E$6:$Z$39,9,FALSE))
A26: 監督署名
A27: ※「先発」欄には、スタメンに「〇」、交代要員に「△」、出場なしに「×」を付けてください。ベンチ入りできる選手は20名です。 ※「先発」欄より右側の欄は、交代時に使用ください。ピッチアウト選手に「×」を、イン選手に「〇」を付けてください、 ※「脳震盪自チーム」の欄は、自チームで脳震盪またはその疑いが発生した場合にご利用ください。 ※「脳震盪相手」の欄は、相手チームが脳震盪またはその疑いが発生し、選手交代をすることで追加された選手交代時 にご利用ください。
