Workbook

Sheet 申込作成要領
A1: 参加申込書 及び パンフレット作成要領
A3: （2026年 第105回 全国高校サッカ-選手権大会 沖縄県大会）
A4: 【作成についての注意点】
A5: 1．沖縄県サッカー協会ホームページから「2026選手権申し込み・パンフレット」をダウンロードして下さい。
A6: ※人数によってデータが分かれています。各チームの人数に合ったＥｘｃｅｌデータをダウンロードして下さい。
A7: 2．『参加申込書』『パンフレット』のシートへ入力をお願いします。
A8: 3．『参加申込書』は30名ずつの記載となりシートが分かれています。
A9: 4．『参加申込書』の一部は『パンフレット』へリンクしています。※パンフレットにも入力項目はあります。
A10: 5．シートの入力箇所以外は保護がかかっています。何かあれば要領下記のﾒｰﾙｱﾄﾞﾚｽまで連絡下さい。
A11: 6．『パンフレット』の一部は『メンバー用紙及び交代用紙』へリンクしています。各チーム活用ください。
A12: 7．作成作業終了後に『申込作成要領』右のチェック欄で確認をお願いします。※印刷の必要はありません。
A13: ※『合同チームへの注意点』・・・「参加申込書」は各校で作成し、「ﾊﾟﾝﾌﾚｯﾄ」は合同で１部作成して下さい。
A15: 【作成の流れ】 参加申込書→作業1・2 パンフレット→作業3・4 印刷、確認、メール送信→作業5.6 | J15: チェック
A16: 1．『参加申込書』へ学校名、監督名、引率教諭、コーチ、マネージャー、郵便番号、住所、サッカー協会に登録したチーム番号(7ケタ)を入力してください。 | J16: 1 | N16: ○
A17: ※1．郵便番号と住所は別枠で入力して下さい。別々でパンフレットにリンクしています。 | J17: ↓
A18: ↓
A20: 2．『参加申込書』へ位置、氏名、学年、生年月日、身長、体重、サッカー協会へ登録した選手登録番号（10ケタ)を入力後、シート最下部の日付、学校名、校長名を入力し、公印を押してください。 | J20: 2
A21: ※1．『参加申込書』の一部は『パンフレット』へリンクしています。
A22: ※2．『参加申込書』と『パンフレット（合同チーム用）』はリンクしていません。お手数ですが入力宜しくお願いします。
A23: ※3．身長、体重は小数以下は含めずに入力して下さい。【例：身長１７２．５→１７２】
A24: ※4．申込みの人数に応じて作成枚数が異なります。『参加申込書』の右下の申込の確認欄への入力もお願いします。【例：申込み人数が１２０人（４枚必要）でありその１枚目であれば １ 枚目/ 4 枚中】
A25: ↓
A26: 3．『パンフレット』へ直接入力をして下さい。（５ヶ所） | J26: 3
A27: ※1．①校章（左上）、②チームプロフィール、③ユニホーム（色）、④前所属、⑤チーム集合写真（1枚目末尾） | J27: ↓
A28: ※2．校章やチーム集合写真の余白はトリミングをして、枠内に収まるようにお願いします。
A29: ※3．パンフレットは白黒写真になることを前提に、なるべく明るい場所で撮影して下さい。
A30: ※4．前所属チーム名が長い場合は枠の関係上小さく表示されます。
A31: ※5．合同チームは、合同でパンフレットを1部作成して下さい。
A32: ※6．『パンフレット』と『メンバー及び交代用紙』、『パンフレット（合同チーム用）』と『メンバー及び交代用紙（合同チーム用）』の一部はリンクしています。活用してください。
A33: ↓
A34: 4．申込用紙・パンフレットを印刷して確認して下さい。 | J34: 4
A35: ↓ | J35: ↓
A36: 5．『参加申込書』を1部印刷し、公印を押した上でＰＤＦ化する。【県立学校】は県サッカー協会ホームページの申込フォームもしくは下記のURLより、必要事項の入力及び作成したＰＤＦファイルのアップロード後、送信して下さい。【県立学校以外】は、作成したＰＤＦファイルを県高体連サッカー専門部(soccer.oki@as.open.ed.jp)へメールで送信して下さい。 申込フォームURL:https://forms.cloud.microsoft/r/3SqYBcrCe5 提出〆切：9/11(金)12：00 | J36: 5
A37: ※1．押印は公印のみです。監督、引率教諭は必要ありません。 | J37: ↓
A38: ※2．印刷範囲の確認をしてください。プリンターによって印刷範囲が変わる場合があります。
A39: ※3．提出の際には、その他の書類のアップロード(メールの場合は添付)も忘れないようにして下さい。
A40: ※4．『参加申込書』は申込みする人数に応じて枚数が異なります。御確認お願いします。また、参加申込書が複数枚になる場合は、１つのＰＤＦデータにまとめてアップロード(添付)して下さい。
A41: ↓
A42: 6．入力済の「2026選手権申込・パンフレット(〇〇名用)」(Excel)のデータファイル（Excel)を下記メールアドレスへ9/11 (金) 12：00までに送信。 | J42: 6
A43: ※1 メールの件名・添付ファイル名は 「学校番号学校名・2026選手権」 として下さい。 例→｢00沖縄高校・2026選手権｣
...

Sheet 参加申込書(NO1~30)
A1: 2026年 第105回 全国高校サッカ-選手権大会 沖縄県大会
A2: 参 加 申 込 書
A3: 学校名 | F3: 監督名 | M3: 引率教諭
A4: コーチ | F4: コーチ
A5: コーチ | F5: マネージャー | M5: ・ | V5: GK | W5: 1 | X5: 150 | Y5: 45 | Z5: 2006 | AA5: 1 | AB5: 1
A6: 住 所 | C6: 〒 | K6: チーム番号(7ケタ) | V6: DF | W6: 2 | X6: 151 | Y6: 46 | Z6: 2007 | AA6: 2 | AB6: 2
A7: 通番 | B7: 位置 | D7: 氏 名 | F7: 学年 | G7: 生年月日(西暦) | L7: 身 長 (cm) | M7: 体 重 (kg) | N7: 選手登録番号 (10ケタ) | V7: MF | W7: 3 | X7: 152 | Y7: 47 | Z7: 2008 | AA7: 3 | AB7: 3
V8: FW | W8: 4 | X8: 153 | Y8: 48 | Z8: 2009 | AA8: 4 | AB8: 4
A9: 1 | H9: . | J9: . | W9: 5 | X9: 154 | Y9: 49 | Z9: 2010 | AA9: 5 | AB9: 5
A10: 2 | H10: . | J10: . | W10: 6 | X10: 155 | Y10: 50 | Z10: 2011 | AA10: 6 | AB10: 6
A11: 3 | H11: . | J11: . | W11: 7 | X11: 156 | Y11: 51 | AA11: 7 | AB11: 7
A12: 4 | H12: . | J12: . | W12: 8 | X12: 157 | Y12: 52 | AA12: 8 | AB12: 8
A13: 5 | H13: . | J13: . | W13: 9 | X13: 158 | Y13: 53 | AA13: 9 | AB13: 9
A14: 6 | H14: . | J14: . | W14: 10 | X14: 159 | Y14: 54 | AA14: 10 | AB14: 10
A15: 7 | H15: . | J15: . | W15: 11 | X15: 160 | Y15: 55 | AA15: 11 | AB15: 11
A16: 8 | H16: . | J16: . | W16: 12 | X16: 161 | Y16: 56 | AA16: 12 | AB16: 12
A17: 9 | H17: . | J17: . | W17: 13 | X17: 162 | Y17: 57 | AB17: 13
A18: 10 | H18: . | J18: . | W18: 14 | X18: 163 | Y18: 58 | AB18: 14
A19: 11 | H19: . | J19: . | W19: 15 | X19: 164 | Y19: 59 | AB19: 15
A20: 12 | H20: . | J20: . | W20: 16 | X20: 165 | Y20: 60 | AB20: 16
A21: 13 | H21: . | J21: . | W21: 17 | X21: 166 | Y21: 61 | AB21: 17
A22: 14 | H22: . | J22: . | W22: 18 | X22: 167 | Y22: 62 | AB22: 18
A23: 15 | H23: . | J23: . | W23: 19 | X23: 168 | Y23: 63 | AB23: 19
A24: 16 | H24: . | J24: . | W24: 20 | X24: 169 | Y24: 64 | AB24: 20
A25: 17 | H25: . | J25: . | W25: 21 | X25: 170 | Y25: 65 | AB25: 21
A26: 18 | H26: . | J26: . | W26: 22 | X26: 171 | Y26: 66 | AB26: 22
A27: 19 | H27: . | J27: . | W27: 23 | X27: 172 | Y27: 67 | AB27: 23
A28: 20 | H28: . | J28: . | W28: 24 | X28: 173 | Y28: 68 | AB28: 24
... A34: 26 | H34: . | J34: . | W34: 30 | X34: 179 | Y34: 74 | AB34: 30
A35: 27 | H35: . | J35: . | X35: 180 | Y35: 75 | AB35: 31
A36: 28 | H36: . | J36: . | X36: 181 | Y36: 76
A37: 29 | H37: . | J37: . | X37: 182 | Y37: 77
A38: 30 | H38: . | J38: . | X38: 183 | Y38: 78
A39: ※通番は背番号ではありません。 | X39: 184 | Y39: 79
X40: 185 | Y40: 80
B41: 上記の者は本校在学生徒であり、健康診断の結果異常なく標記大会に出場することを認め | X41: 186 | Y41: 81
B42: 参加申込みいたします。 | X42: 187 | Y42: 82
B43: 2026 年 月 日 | X43: 188 | Y43: 83
D44: 学校名 | H44: 校長 | N44: 印 | X44: 189 | Y44: 84
B45: （一社）沖縄県サッカー協会 | X45: 190 | Y45: 85
...

Sheet パンフレット (30名用)
B1: トーナメント番号【 】
B2: ☆ 校章 ☆ | C2: =IF('参加申込書(NO1~30)'!C3="","",'参加申込書(NO1~30)'!C3) | L2: 〒 | M2: =IF('参加申込書(NO1~30)'!D6="","",'参加申込書(NO1~30)'!D6)
L3: =IF('参加申込書(NO1~30)'!E6="","",'参加申込書(NO1~30)'!E6)
B5: チームスタッフ（ベンチ） | G5: チームプロフィール | M5: ユニホーム
B6: 引率教諭 | D6: =IF('参加申込書(NO1~30)'!N3="","",'参加申込書(NO1~30)'!N3) | G6: (チームの歴史、戦績) | N6: ﾌｨｰﾙﾄﾞﾌﾟﾚｲﾔｰ | P6: ｺﾞｰﾙｷｰﾊﾟｰ
B7: 監 督 | D7: =IF('参加申込書(NO1~30)'!H3="","",'参加申込書(NO1~30)'!H3) | N7: 正 | O7: 副 | P7: 正 | Q7: 副
B8: コーチ | D8: =IF('参加申込書(NO1~30)'!C4="","",'参加申込書(NO1~30)'!C4) | M8: ｼｬﾂ
B9: コーチ | D9: =IF('参加申込書(NO1~30)'!H4="","",'参加申込書(NO1~30)'!H4)
B10: コーチ | D10: =IF('参加申込書(NO1~30)'!C5="","",'参加申込書(NO1~30)'!C5) | M10: ﾊﾟﾝﾂ
B11: マネージャー | D11: =IF('参加申込書(NO1~30)'!H5="","",'参加申込書(NO1~30)'!H5)
B12: マネージャー | D12: =IF('参加申込書(NO1~30)'!N5="","",'参加申込書(NO1~30)'!N5) | M12: ｿｯｸｽ
B14: ※通番は背番号ではありません。
B15: 通番 | C15: 位置 | D15: 氏 名 | I15: 学年 | J15: 身長 (cm) | K15: 体重 (kg) | L15: 前所属（クラブチームはクラブ名）
L16: 中学校 | O16: 小学校
B17: 1 | C17: =VLOOKUP(B17,'参加申込書(NO1~30)'!$A$9:$N$38,2,FALSE) -> 0 | D17: =VLOOKUP(B17,'参加申込書(NO1~30)'!$A$9:$N$38,4,FALSE) -> 0 | I17: =VLOOKUP(B17,'参加申込書(NO1~30)'!$A$9:$N$38,6,FALSE) -> 0 | J17: =VLOOKUP(B17,'参加申込書(NO1~30)'!$A$9:$N$38,12,FALSE) -> 0 | K17: =VLOOKUP(B17,'参加申込書(NO1~30)'!$A$9:$N$38,13,FALSE) -> 0
B18: 2 | C18: =VLOOKUP(B18,'参加申込書(NO1~30)'!$A$9:$N$38,2,FALSE) -> 0 | D18: =VLOOKUP(B18,'参加申込書(NO1~30)'!$A$9:$N$38,4,FALSE) -> 0 | I18: =VLOOKUP(B18,'参加申込書(NO1~30)'!$A$9:$N$38,6,FALSE) -> 0 | J18: =VLOOKUP(B18,'参加申込書(NO1~30)'!$A$9:$N$38,12,FALSE) -> 0 | K18: =VLOOKUP(B18,'参加申込書(NO1~30)'!$A$9:$N$38,13,FALSE) -> 0
B19: 3 | C19: =VLOOKUP(B19,'参加申込書(NO1~30)'!$A$9:$N$38,2,FALSE) -> 0 | D19: =VLOOKUP(B19,'参加申込書(NO1~30)'!$A$9:$N$38,4,FALSE) -> 0 | I19: =VLOOKUP(B19,'参加申込書(NO1~30)'!$A$9:$N$38,6,FALSE) -> 0 | J19: =VLOOKUP(B19,'参加申込書(NO1~30)'!$A$9:$N$38,12,FALSE) -> 0 | K19: =VLOOKUP(B19,'参加申込書(NO1~30)'!$A$9:$N$38,13,FALSE) -> 0
B20: 4 | C20: =VLOOKUP(B20,'参加申込書(NO1~30)'!$A$9:$N$38,2,FALSE) -> 0 | D20: =VLOOKUP(B20,'参加申込書(NO1~30)'!$A$9:$N$38,4,FALSE) -> 0 | I20: =VLOOKUP(B20,'参加申込書(NO1~30)'!$A$9:$N$38,6,FALSE) -> 0 | J20: =VLOOKUP(B20,'参加申込書(NO1~30)'!$A$9:$N$38,12,FALSE) -> 0 | K20: =VLOOKUP(B20,'参加申込書(NO1~30)'!$A$9:$N$38,13,FALSE) -> 0
B21: 5 | C21: =VLOOKUP(B21,'参加申込書(NO1~30)'!$A$9:$N$38,2,FALSE) -> 0 | D21: =VLOOKUP(B21,'参加申込書(NO1~30)'!$A$9:$N$38,4,FALSE) -> 0 | I21: =VLOOKUP(B21,'参加申込書(NO1~30)'!$A$9:$N$38,6,FALSE) -> 0 | J21: =VLOOKUP(B21,'参加申込書(NO1~30)'!$A$9:$N$38,12,FALSE) -> 0 | K21: =VLOOKUP(B21,'参加申込書(NO1~30)'!$A$9:$N$38,13,FALSE) -> 0
B22: 6 | C22: =VLOOKUP(B22,'参加申込書(NO1~30)'!$A$9:$N$38,2,FALSE) -> 0 | D22: =VLOOKUP(B22,'参加申込書(NO1~30)'!$A$9:$N$38,4,FALSE) -> 0 | I22: =VLOOKUP(B22,'参加申込書(NO1~30)'!$A$9:$N$38,6,FALSE) -> 0 | J22: =VLOOKUP(B22,'参加申込書(NO1~30)'!$A$9:$N$38,12,FALSE) -> 0 | K22: =VLOOKUP(B22,'参加申込書(NO1~30)'!$A$9:$N$38,13,FALSE) -> 0
B23: 7 | C23: =VLOOKUP(B23,'参加申込書(NO1~30)'!$A$9:$N$38,2,FALSE) -> 0 | D23: =VLOOKUP(B23,'参加申込書(NO1~30)'!$A$9:$N$38,4,FALSE) -> 0 | I23: =VLOOKUP(B23,'参加申込書(NO1~30)'!$A$9:$N$38,6,FALSE) -> 0 | J23: =VLOOKUP(B23,'参加申込書(NO1~30)'!$A$9:$N$38,12,FALSE) -> 0 | K23: =VLOOKUP(B23,'参加申込書(NO1~30)'!$A$9:$N$38,13,FALSE) -> 0
B24: 8 | C24: =VLOOKUP(B24,'参加申込書(NO1~30)'!$A$9:$N$38,2,FALSE) -> 0 | D24: =VLOOKUP(B24,'参加申込書(NO1~30)'!$A$9:$N$38,4,FALSE) -> 0 | I24: =VLOOKUP(B24,'参加申込書(NO1~30)'!$A$9:$N$38,6,FALSE) -> 0 | J24: =VLOOKUP(B24,'参加申込書(NO1~30)'!$A$9:$N$38,12,FALSE) -> 0 | K24: =VLOOKUP(B24,'参加申込書(NO1~30)'!$A$9:$N$38,13,FALSE) -> 0
B25: 9 | C25: =VLOOKUP(B25,'参加申込書(NO1~30)'!$A$9:$N$38,2,FALSE) -> 0 | D25: =VLOOKUP(B25,'参加申込書(NO1~30)'!$A$9:$N$38,4,FALSE) -> 0 | I25: =VLOOKUP(B25,'参加申込書(NO1~30)'!$A$9:$N$38,6,FALSE) -> 0 | J25: =VLOOKUP(B25,'参加申込書(NO1~30)'!$A$9:$N$38,12,FALSE) -> 0 | K25: =VLOOKUP(B25,'参加申込書(NO1~30)'!$A$9:$N$38,13,FALSE) -> 0
B26: 10 | C26: =VLOOKUP(B26,'参加申込書(NO1~30)'!$A$9:$N$38,2,FALSE) -> 0 | D26: =VLOOKUP(B26,'参加申込書(NO1~30)'!$A$9:$N$38,4,FALSE) -> 0 | I26: =VLOOKUP(B26,'参加申込書(NO1~30)'!$A$9:$N$38,6,FALSE) -> 0 | J26: =VLOOKUP(B26,'参加申込書(NO1~30)'!$A$9:$N$38,12,FALSE) -> 0 | K26: =VLOOKUP(B26,'参加申込書(NO1~30)'!$A$9:$N$38,13,FALSE) -> 0
B27: 11 | C27: =VLOOKUP(B27,'参加申込書(NO1~30)'!$A$9:$N$38,2,FALSE) -> 0 | D27: =VLOOKUP(B27,'参加申込書(NO1~30)'!$A$9:$N$38,4,FALSE) -> 0 | I27: =VLOOKUP(B27,'参加申込書(NO1~30)'!$A$9:$N$38,6,FALSE) -> 0 | J27: =VLOOKUP(B27,'参加申込書(NO1~30)'!$A$9:$N$38,12,FALSE) -> 0 | K27: =VLOOKUP(B27,'参加申込書(NO1~30)'!$A$9:$N$38,13,FALSE) -> 0
B28: 12 | C28: =VLOOKUP(B28,'参加申込書(NO1~30)'!$A$9:$N$38,2,FALSE) -> 0 | D28: =VLOOKUP(B28,'参加申込書(NO1~30)'!$A$9:$N$38,4,FALSE) -> 0 | I28: =VLOOKUP(B28,'参加申込書(NO1~30)'!$A$9:$N$38,6,FALSE) -> 0 | J28: =VLOOKUP(B28,'参加申込書(NO1~30)'!$A$9:$N$38,12,FALSE) -> 0 | K28: =VLOOKUP(B28,'参加申込書(NO1~30)'!$A$9:$N$38,13,FALSE) -> 0
... B46: 30 | C46: =VLOOKUP(B46,'参加申込書(NO1~30)'!$A$9:$N$38,2,FALSE) -> 0 | D46: =VLOOKUP(B46,'参加申込書(NO1~30)'!$A$9:$N$38,4,FALSE) -> 0 | I46: =VLOOKUP(B46,'参加申込書(NO1~30)'!$A$9:$N$38,6,FALSE) -> 0 | J46: =VLOOKUP(B46,'参加申込書(NO1~30)'!$A$9:$N$38,12,FALSE) -> 0 | K46: =VLOOKUP(B46,'参加申込書(NO1~30)'!$A$9:$N$38,13,FALSE) -> 0
B48: チーム集合写真を枠内に貼り付けてください。 セルに埋め込みでなく前面に貼っていただけると、 様々なPCで作業しやすいです。 ※１．写真の余白はトリミングをして、枠内に収まるようにお願いします。 ※２．合同チームは合同で１部作成して下さい。 ※３．パンフレットは白黒で印刷されます。 ※４.表の空欄は、専門部パンフレット係で削除しますので、そのままで結構です。

Sheet パンフレット (見本)
B1: トーナメント番号【 】
B2: ☆ 校章 ☆ | C2: 沖縄県立沖縄高等学校 | L2: 〒 | M2: 901-○○○○
L3: 沖縄県○○市○○○○
B5: チームスタッフ（ベンチ） | G5: チームプロフィール | M5: ユニホーム
B6: 引率教諭 | D6: 琉球 太郎１ | G6: (チームの歴史、戦績) | N6: ﾌｨｰﾙﾄﾞﾌﾟﾚｲﾔｰ | P6: ｺﾞｰﾙｷｰﾊﾟｰ
B7: 監 督 | D7: 琉球 太郎２ | G7: 1970年 学校設立と共に創部 | N7: 正 | O7: 副 | P7: 正 | Q7: 副
B8: コーチ | D8: 琉球 太郎３ | G8: 1988年 県新人大会 ベスト４ | M8: ｼｬﾂ | N8: 青 | O8: 緑 | P8: 黄 | Q8: ピンク
B9: コーチ | D9: 琉球 太郎４ | G9: 1988年 県総合体育大会 優勝
B10: コーチ | G10: 1988年 全国総合体育大会 1回戦突破 | M10: ﾊﾟﾝﾂ | N10: 白 | O10: 緑 | P10: 黄 | Q10: ピンク
B11: マネージャー | D11: 琉球 太郎５
B12: マネージャー | M12: ｿｯｸｽ | N12: 赤 | O12: 緑 | P12: 黄 | Q12: ピンク
B14: ※通番は背番号ではありません。
B15: 通番 | C15: 位置 | D15: 氏 名 | I15: 学年 | J15: 身長 (cm) | K15: 体重 (kg) | L15: 前所属（クラブチームはクラブ名）
L16: 中学校 | O16: 小学校
B17: 1 | C17: GK | D17: 沖縄 太郎１ | I17: 3 | J17: 180 | K17: 78 | L17: 琉沖中学校A | O17: 琉球沖小チームA
B18: 2 | C18: DF | D18: 沖縄 太郎２ | I18: 3 | J18: 176 | K18: 77 | L18: 琉沖中学校B | O18: 琉球沖小チームA
B19: 3 | C19: DF | D19: 沖縄 太郎３ | I19: 3 | J19: 172 | K19: 68 | L19: 琉沖中学校A | O19: 琉球沖小チームA
B20: 4 | C20: DF | D20: 沖縄 太郎４ | I20: 3 | J20: 183 | K20: 79 | L20: 琉沖中学校B | O20: 琉球沖小チームA
B21: 5 | C21: DF | D21: 沖縄 太郎５ | I21: 2 | J21: 165 | K21: 60 | L21: 琉沖中学校A | O21: 琉球沖小チームA
B22: 6 | C22: MF | D22: 沖縄 太郎６ | I22: 3 | J22: 178 | K22: 76 | L22: 琉沖中学校B | O22: 琉球沖小チームA
B23: 7 | C23: MF | D23: 沖縄 太郎７ | I23: 3 | J23: 170 | K23: 63 | L23: 琉沖中学校A | O23: 琉球沖小チームA
B24: 8 | C24: MF | D24: 沖縄 太郎８ | I24: 3 | J24: 169 | K24: 67 | L24: 琉沖中学校B | O24: 琉球沖小チームA
B25: 9 | C25: MF | D25: 沖縄 太郎９ | I25: 1 | J25: 173 | K25: 70 | L25: 琉沖中学校A | O25: 琉球沖小チームA
B26: 10 | C26: FW | D26: 沖縄 太郎１０ | I26: 3 | J26: 190 | K26: 75 | L26: 琉沖中学校B | O26: 琉球沖小チームA
B27: 11 | C27: FW | D27: 沖縄 太郎１１ | I27: 2 | J27: 155 | K27: 58 | L27: 琉沖中学校A | O27: 琉球沖小チームA
B28: 12 | C28: GK | D28: 沖縄 太郎１２ | I28: 3 | J28: 173 | K28: 64 | L28: 琉沖中学校B | O28: 琉球沖小チームA
... B30: 14 | C30: DF | D30: 沖縄 太郎１４ | I30: 3 | J30: 168 | K30: 60 | L30: 琉沖中学校B | O30: 琉球沖小チームA
B31: 15 | C31: DF | D31: 沖縄 太郎１５ | I31: 3 | J31: 165 | K31: 60 | L31: 琉沖中学校A
B32: 16 | C32: DF | D32: 沖縄 太郎１６ | I32: 2 | J32: 170 | K32: 66 | L32: 琉沖中学校B | O32: 琉球沖小チームA
B33: 17 | C33: DF | D33: 沖縄 太郎１７ | I33: 2 | J33: 181 | K33: 80 | L33: 琉沖中学校A
B34: 18 | C34: DF | D34: 沖縄 太郎１８ | I34: 1 | J34: 164 | K34: 70 | L34: 琉沖中学校B | O34: 琉球沖小チームA
B35: 19 | C35: DF | D35: 沖縄 太郎１９ | I35: 1 | J35: 158 | K35: 60 | L35: 琉沖中学校A | O35: 琉球沖小チームA
B36: 20 | C36: DF | D36: 沖縄 太郎２０ | I36: 1 | J36: 167 | K36: 70 | L36: 琉沖中学校B
B37: 21 | C37: MF | D37: 沖縄 太郎２１ | I37: 3 | J37: 189 | K37: 79 | L37: 琉沖中学校A | O37: 琉球沖小チームA
B38: 22 | C38: MF | D38: 沖縄 太郎２２ | I38: 3 | J38: 176 | K38: 70 | L38: 琉沖中学校B | O38: 琉球沖小チームA
B39: 23 | C39: MF | D39: 沖縄 太郎２３ | I39: 3 | J39: 159 | K39: 55 | L39: 琉沖中学校A | O39: リュウオキクラブチーム
B40: 24 | C40: MF | D40: 沖縄 太郎２４ | I40: 3 | J40: 160 | K40: 60 | L40: 琉沖中学校B | O40: リュウオキクラブチーム
B41: 25 | C41: MF | D41: 沖縄 太郎２５ | I41: 2 | J41: 167 | K41: 62 | L41: リュウオキクラブチーム | O41: リュウオキクラブチーム
B42: 26 | C42: FW | D42: 沖縄 太郎２６ | I42: 3 | J42: 171 | K42: 65 | L42: リュウオキクラブチーム | O42: リュウオキクラブチーム
B43: 27 | C43: FW | D43: 沖縄 太郎２７ | I43: 1 | J43: 157 | K43: 59 | L43: リュウオキクラブチーム
...

Sheet ﾒﾝﾊﾞｰ及び交代用紙
A1: 2026年 第105回全国高校サッカー選手権大会沖縄県大会メンバー用紙及び交代用紙
B2: 学校名 | E2: =IF('参加申込書(NO1~30)'!C3="","",'参加申込書(NO1~30)'!C3)
A4: 通番 | B4: 背番号 | C4: 位置 | D4: ふりがな | E4: 学年 | F4: 先発 | G4: 交代 要員 | H4: 選手交代 （IN→〇 OUT→×）（交代する場面に〇つける） | N4: 脳震盪 | P4: 延長 | R4: R 8 年 月 日
D5: 氏名 | H5: 1人目 前・HT・後・IV・ (延長) | I5: 2人目 前・HT・後・IV・ (延長) | J5: 3人目 前・HT・後・IV・ (延長) | L5: 4人目 前・HT・後・IV・ (延長) | M5: 5人目 前・HT・後・IV・ (延長) | N5: 自 | O5: 相 | P5: ６人目
R6: 自チーム | T6: 対戦チーム
B7: 1 | C7: =IF(A7="","",VLOOKUP(A7,'パンフレット (30名用)'!$B$17:$H$46,2,FALSE)) | E7: =IF(A7="","",VLOOKUP(A7,'パンフレット (30名用)'!$B$17:$I$46,8,FALSE))
D8: =IF(A7="","",VLOOKUP(A7,'パンフレット (30名用)'!$B$17:$H$46,3,FALSE))
B9: 2 | C9: =IF(A9="","",VLOOKUP(A9,'パンフレット (30名用)'!$B$17:$H$46,2,FALSE)) | E9: =IF(A9="","",VLOOKUP(A9,'パンフレット (30名用)'!$B$17:$I$46,8,FALSE)) | R9: ユニフォームの色
D10: =IF(A9="","",VLOOKUP(A9,'パンフレット (30名用)'!$B$17:$H$46,3,FALSE))
B11: 3 | C11: =IF(A11="","",VLOOKUP(A11,'パンフレット (30名用)'!$B$17:$H$46,2,FALSE)) | E11: =IF(A11="","",VLOOKUP(A11,'パンフレット (30名用)'!$B$17:$I$46,8,FALSE))
D12: =IF(A11="","",VLOOKUP(A11,'パンフレット (30名用)'!$B$17:$H$46,3,FALSE)) | S12: シャツ | T12: ショーツ | U12: ソックス
B13: 4 | C13: =IF(A13="","",VLOOKUP(A13,'パンフレット (30名用)'!$B$17:$H$46,2,FALSE)) | E13: =IF(A13="","",VLOOKUP(A13,'パンフレット (30名用)'!$B$17:$I$46,8,FALSE)) | R13: FP
D14: =IF(A13="","",VLOOKUP(A13,'パンフレット (30名用)'!$B$17:$H$46,3,FALSE))
B15: 5 | C15: =IF(A15="","",VLOOKUP(A15,'パンフレット (30名用)'!$B$17:$H$46,2,FALSE)) | E15: =IF(A15="","",VLOOKUP(A15,'パンフレット (30名用)'!$B$17:$I$46,8,FALSE)) | R15: GK
D16: =IF(A15="","",VLOOKUP(A15,'パンフレット (30名用)'!$B$17:$H$46,3,FALSE))
B17: 6 | C17: =IF(A17="","",VLOOKUP(A17,'パンフレット (30名用)'!$B$17:$H$46,2,FALSE)) | E17: =IF(A17="","",VLOOKUP(A17,'パンフレット (30名用)'!$B$17:$I$46,8,FALSE))
D18: =IF(A17="","",VLOOKUP(A17,'パンフレット (30名用)'!$B$17:$H$46,3,FALSE)) | R18: 【注意事項】
B19: 7 | C19: =IF(A19="","",VLOOKUP(A19,'パンフレット (30名用)'!$B$17:$H$46,2,FALSE)) | E19: =IF(A19="","",VLOOKUP(A19,'パンフレット (30名用)'!$B$17:$I$46,8,FALSE)) | R19: ①試合開始30分前に本部記録係へ、またはMCMにて提出することとする。 ②選手交代は交代要員の内から5人までとする。脳震盪、延長については追加あり（実施要項要確認）。 ③先発の欄には先発は○、出場停止の場合は×を記入する。 ④交代要員は最大9名とする。 ⑤交代要員の欄には、交代要員は○、交代要員とならない選手には、×を記入する。 ⑥選手交代の欄には、退場の選手に×、入場の選手に○を記入する。 ⑦交代する場面に〇を記入する。(例:後半なら後、延長前半なら延長と前に〇を記入) ⑧準決勝からは、ふりがなと布陣を記入する。
D20: =IF(A19="","",VLOOKUP(A19,'パンフレット (30名用)'!$B$17:$H$46,3,FALSE))
B21: 8 | C21: =IF(A21="","",VLOOKUP(A21,'パンフレット (30名用)'!$B$17:$H$46,2,FALSE)) | E21: =IF(A21="","",VLOOKUP(A21,'パンフレット (30名用)'!$B$17:$I$46,8,FALSE))
D22: =IF(A21="","",VLOOKUP(A21,'パンフレット (30名用)'!$B$17:$H$46,3,FALSE))
B23: 9 | C23: =IF(A23="","",VLOOKUP(A23,'パンフレット (30名用)'!$B$17:$H$46,2,FALSE)) | E23: =IF(A23="","",VLOOKUP(A23,'パンフレット (30名用)'!$B$17:$I$46,8,FALSE))
D24: =IF(A23="","",VLOOKUP(A23,'パンフレット (30名用)'!$B$17:$H$46,3,FALSE))
B25: 10 | C25: =IF(A25="","",VLOOKUP(A25,'パンフレット (30名用)'!$B$17:$H$46,2,FALSE)) | E25: =IF(A25="","",VLOOKUP(A25,'パンフレット (30名用)'!$B$17:$I$46,8,FALSE))
D26: =IF(A25="","",VLOOKUP(A25,'パンフレット (30名用)'!$B$17:$H$46,3,FALSE))
B27: 11 | C27: =IF(A27="","",VLOOKUP(A27,'パンフレット (30名用)'!$B$17:$H$46,2,FALSE)) | E27: =IF(A27="","",VLOOKUP(A27,'パンフレット (30名用)'!$B$17:$I$46,8,FALSE))
D28: =IF(A27="","",VLOOKUP(A27,'パンフレット (30名用)'!$B$17:$H$46,3,FALSE))
B29: 12 | C29: =IF(A29="","",VLOOKUP(A29,'パンフレット (30名用)'!$B$17:$H$46,2,FALSE)) | E29: =IF(A29="","",VLOOKUP(A29,'パンフレット (30名用)'!$B$17:$I$46,8,FALSE))
D30: =IF(A29="","",VLOOKUP(A29,'パンフレット (30名用)'!$B$17:$H$46,3,FALSE)) | R30: ベンチ入りスタッフ氏名（5名以内)
B31: 13 | C31: =IF(A31="","",VLOOKUP(A31,'パンフレット (30名用)'!$B$17:$H$46,2,FALSE)) | E31: =IF(A31="","",VLOOKUP(A31,'パンフレット (30名用)'!$B$17:$I$46,8,FALSE))
D32: =IF(A31="","",VLOOKUP(A31,'パンフレット (30名用)'!$B$17:$H$46,3,FALSE)) | R32: NO | S32: 氏 名 | U32: 役 職
B33: 14 | C33: =IF(A33="","",VLOOKUP(A33,'パンフレット (30名用)'!$B$17:$H$46,2,FALSE)) | E33: =IF(A33="","",VLOOKUP(A33,'パンフレット (30名用)'!$B$17:$I$46,8,FALSE)) | R33: 1
D34: =IF(A33="","",VLOOKUP(A33,'パンフレット (30名用)'!$B$17:$H$46,3,FALSE))
B35: 15 | C35: =IF(A35="","",VLOOKUP(A35,'パンフレット (30名用)'!$B$17:$H$46,2,FALSE)) | E35: =IF(A35="","",VLOOKUP(A35,'パンフレット (30名用)'!$B$17:$I$46,8,FALSE)) | R35: 2
D36: =IF(A35="","",VLOOKUP(A35,'パンフレット (30名用)'!$B$17:$H$46,3,FALSE))
B37: 16 | C37: =IF(A37="","",VLOOKUP(A37,'パンフレット (30名用)'!$B$17:$H$46,2,FALSE)) | E37: =IF(A37="","",VLOOKUP(A37,'パンフレット (30名用)'!$B$17:$I$46,8,FALSE)) | R37: 3
D38: =IF(A37="","",VLOOKUP(A37,'パンフレット (30名用)'!$B$17:$H$46,3,FALSE))
B39: 17 | C39: =IF(A39="","",VLOOKUP(A39,'パンフレット (30名用)'!$B$17:$H$46,2,FALSE)) | E39: =IF(A39="","",VLOOKUP(A39,'パンフレット (30名用)'!$B$17:$I$46,8,FALSE)) | R39: 4
D40: =IF(A39="","",VLOOKUP(A39,'パンフレット (30名用)'!$B$17:$H$46,3,FALSE))
B41: 18 | C41: =IF(A41="","",VLOOKUP(A41,'パンフレット (30名用)'!$B$17:$H$46,2,FALSE)) | E41: =IF(A41="","",VLOOKUP(A41,'パンフレット (30名用)'!$B$17:$I$46,8,FALSE)) | R41: 5
...
