Workbook

Sheet 申込作成要領
A1: 参加申込書 及び パンフレット作成要領
A3: （2026年 第105回 全国高校サッカ-選手権大会 沖縄県大会）
A4: 【作成についての注意点】
A5: 1．沖縄県サッカー協会ホームページから「2026選手権申し込み・パンフレット」をダウンロードして下さい。
A6: ※人数によってデータが分かれています。各チームの人数に合ったＥｘｃｅｌデータをダウンロードして下さい。
A7: 2．『参加申込書』『パンフレット』のシートへ入力をお願いします。
A8: 3．『参加申込書』は30名ずつの記載となりシートが分かれています。
A9: 4．『参加申込書』の一部は『パンフレット』へリンクしています。※パンフレットにも入力項目はあります。
A10: 5．シートの入力箇所以外は保護がかかっています。何かあれば要領下記のﾒｰﾙｱﾄﾞﾚｽまで連絡下さい。
A11: 6．『パンフレット』の一部は『メンバー用紙及び交代用紙』へリンクしています。各チーム活用ください。
A12: 7．作成作業終了後に『申込作成要領』右のチェック欄で確認をお願いします。※印刷の必要はありません。
A13: ※『合同チームへの注意点』・・・「参加申込書」は各校で作成し、「ﾊﾟﾝﾌﾚｯﾄ」は合同で１部作成して下さい。
A15: 【作成の流れ】 参加申込書→作業1・2 パンフレット→作業3・4 印刷、確認、メール送信→作業5.6 | J15: チェック
A16: 1．『参加申込書』へ学校名、監督名、引率教諭、コーチ、マネージャー、郵便番号、住所、サッカー協会に登録したチーム番号(7ケタ)を入力してください。 | J16: 1 | N16: ○
A17: ※1．郵便番号と住所は別枠で入力して下さい。別々でパンフレットにリンクしています。 | J17: ↓
A18: ↓
A20: 2．『参加申込書』へ位置、氏名、学年、生年月日、身長、体重、サッカー協会へ登録した選手登録番号（10ケタ)を入力後、シート最下部の日付、学校名、校長名を入力し、公印を押して下さい。 | J20: 2
A21: ※1．『参加申込書』の一部は『パンフレット』へリンクしています。
A22: ※2．『参加申込書』と『パンフレット（合同チーム用）』はリンクしていません。お手数ですが入力宜しくお願いします。
A23: ※3．身長、体重は小数以下は含めずに入力して下さい。【例：身長１７２．５→１７２】
A24: ※4．申込みの人数に応じて作成枚数が異なります。『参加申込書』の右下の申込の確認欄への入力もお願いします。【例：申込み人数が１２０人（４枚必要）でありその１枚目であれば １ 枚目/ 4 枚中】
A25: ↓
A26: 3．『パンフレット』へ直接入力をして下さい。（５ヶ所） | J26: 3
A27: ※1．①校章（左上）、②チームプロフィール、③ユニホーム（色）、④前所属、⑤チーム集合写真（末尾） | J27: ↓
A28: ※2．校章やチーム集合写真の余白はトリミングをして、枠内に収まるようにお願いします。
A29: ※3．パンフレットは白黒写真になることを前提に、なるべく明るい場所で撮影して下さい。
A30: ※4．前所属チーム名が長い場合は枠の関係上小さく表示されます。
A31: ※5．合同チームは、合同でパンフレットを1部作成して下さい。
A32: ※6．『パンフレット』と『メンバー及び交代用紙』、『パンフレット（合同チーム用）』と『メンバー及び交代用紙（合同チーム用）』の一部はリンクしています。活用ください。
A33: ↓
A34: 4．申込用紙・パンフレットを印刷して確認して下さい。 | J34: 4
A35: ↓ | J35: ↓
A36: 5．『参加申込書』を1部印刷し、公印を押した上でＰＤＦ化する。【県立学校】は県サッカー協会ホームページの申込フォームもしくは下記のURLより、必要事項の入力及び作成したＰＤＦファイルのアップロード後、送信して下さい。【県立学校以外】は、作成したＰＤＦファイルを県高体連サッカー専門部(soccer.oki@as.open.ed.jp)へメールで送信して下さい。 申込フォームURL:https://forms.cloud.microsoft/r/3SqYBcrCe5 提出〆切：9/11(金)12：00 | J36: 5
A37: ※1．押印は公印のみです。監督、引率教諭は必要ありません。 | J37: ↓
A38: ※2．印刷範囲の確認をしてください。プリンターによって印刷範囲が変わる場合があります。
A39: ※3．提出の際には、その他の書類のアップロード(メールの場合は添付)も忘れないようにして下さい。
A40: ※4．『参加申込書』は申込みする人数に応じて枚数が異なります。御確認お願いします。また、参加申込書が複数枚になる場合は、１つのＰＤＦデータにまとめてアップロード(添付)して下さい。
A41: ↓
A42: 6．入力済の「2026選手権申込・パンフレット(〇〇名用)」(Excel)のデータファイル（Excel）を下記メールアドレスへ9/11 (金) 12：00までに送信。 | J42: 6
A43: ※1 メールの件名・添付ファイル名は 「学校番号学校名・2026選手権」 として下さい。 例→｢00沖縄高校・2026選手権｣
A44: ※2 メールアドレスは以下のアドレス部分をコピーして使用できます。
A45: パンフレットのデータ（Excel）の送信先メールアドレス：【 | F45: ooshmori@open.ed.jp | J45: 】
A46: ※1 5、6については時間厳守です。守られなかった場合は、参加できないことがあります。
A47: 提出締切【9月11日(金)12：00 参加申込書(formsかメール送信)、ﾊﾟﾝﾌﾚｯﾄﾃﾞｰﾀ(メール送信)
A48: ※2「参加申込書受信確認」,「ﾊﾟﾝﾌﾚｯﾄﾃﾞｰﾀ受信確認」の返信メールを行います。※受信翌日までに行いますが遅れる場合があります。
A49: ※３ 参加申込書類･パンフレットデータの送信先が異なりますので、ご注意下さい。 参加申込書類(県立学校以外)：soccer.oki@as.open.ed.jp ※県立学校は必ずformsで回答下さい。 パンフレットデータ(全学校)：ooshmori@open.ed.jp

Sheet 参加申込書(NO1~30)
A1: 2026年 第105回 全国高校サッカ-選手権大会 沖縄県大会
A2: 参 加 申 込 書
A3: 学校名 | F3: 監督名 | M3: 引率教諭
A4: コーチ | F4: コーチ
A5: コーチ | F5: マネージャー | M5: ・ | V5: GK | W5: 1 | X5: 150 | Y5: 45 | Z5: 2006 | AA5: 1 | AB5: 1
A6: 住 所 | C6: 〒 | K6: チーム番号(7ケタ) | V6: DF | W6: 2 | X6: 151 | Y6: 46 | Z6: 2007 | AA6: 2 | AB6: 2
A7: 通番 | B7: 位置 | D7: 氏 名 | F7: 学年 | G7: 生年月日(西暦) | L7: 身 長 (cm) | M7: 体 重 (kg) | N7: 選手登録番号 (10ケタ) | V7: MF | W7: 3 | X7: 152 | Y7: 47 | Z7: 2008 | AA7: 3 | AB7: 3
V8: FW | W8: 4 | X8: 153 | Y8: 48 | Z8: 2009 | AA8: 4 | AB8: 4
A9: 1 | H9: . | J9: . | W9: 5 | X9: 154 | Y9: 49 | Z9: 2010 | AA9: 5 | AB9: 5
A10: 2 | H10: . | J10: . | W10: 6 | X10: 155 | Y10: 50 | Z10: 2011 | AA10: 6 | AB10: 6
A11: 3 | H11: . | J11: . | W11: 7 | X11: 156 | Y11: 51 | AA11: 7 | AB11: 7
A12: 4 | H12: . | J12: . | W12: 8 | X12: 157 | Y12: 52 | AA12: 8 | AB12: 8
A13: 5 | H13: . | J13: . | W13: 9 | X13: 158 | Y13: 53 | AA13: 9 | AB13: 9
A14: 6 | H14: . | J14: . | W14: 10 | X14: 159 | Y14: 54 | AA14: 10 | AB14: 10
A15: 7 | H15: . | J15: . | W15: 11 | X15: 160 | Y15: 55 | AA15: 11 | AB15: 11
A16: 8 | H16: . | J16: . | W16: 12 | X16: 161 | Y16: 56 | AA16: 12 | AB16: 12
A17: 9 | H17: . | J17: . | W17: 13 | X17: 162 | Y17: 57 | AB17: 13
A18: 10 | H18: . | J18: . | W18: 14 | X18: 163 | Y18: 58 | AB18: 14
A19: 11 | H19: . | J19: . | W19: 15 | X19: 164 | Y19: 59 | AB19: 15
A20: 12 | H20: . | J20: . | W20: 16 | X20: 165 | Y20: 60 | AB20: 16
A21: 13 | H21: . | J21: . | W21: 17 | X21: 166 | Y21: 61 | AB21: 17
A22: 14 | H22: . | J22: . | W22: 18 | X22: 167 | Y22: 62 | AB22: 18
A23: 15 | H23: . | J23: . | W23: 19 | X23: 168 | Y23: 63 | AB23: 19
A24: 16 | H24: . | J24: . | W24: 20 | X24: 169 | Y24: 64 | AB24: 20
A25: 17 | H25: . | J25: . | W25: 21 | X25: 170 | Y25: 65 | AB25: 21
A26: 18 | H26: . | J26: . | W26: 22 | X26: 171 | Y26: 66 | AB26: 22
A27: 19 | H27: . | J27: . | W27: 23 | X27: 172 | Y27: 67 | AB27: 23
A28: 20 | H28: . | J28: . | W28: 24 | X28: 173 | Y28: 68 | AB28: 24
... A34: 26 | H34: . | J34: . | W34: 30 | X34: 179 | Y34: 74 | AB34: 30
A35: 27 | H35: . | J35: . | X35: 180 | Y35: 75 | AB35: 31
A36: 28 | H36: . | J36: . | X36: 181 | Y36: 76
A37: 29 | H37: . | J37: . | X37: 182 | Y37: 77
A38: 30 | H38: . | J38: . | X38: 183 | Y38: 78
A39: ※通番は背番号ではありません。 | X39: 184 | Y39: 79
X40: 185 | Y40: 80
B41: 上記の者は本校在学生徒であり、健康診断の結果異常なく標記大会に出場することを認め | X41: 186 | Y41: 81
B42: 参加申込みいたします。 | X42: 187 | Y42: 82
B43: 2026 年 月 日 | X43: 188 | Y43: 83
D44: 学校名 | H44: 校長 | N44: 印 | X44: 189 | Y44: 84
B45: （一社）沖縄県サッカー協会 | X45: 190 | Y45: 85
B46: 会 長 田平 敬志 殿 | M46: 1枚目 / 5枚中 | X46: 191 | Y46: 86
X47: 192 | Y47: 87
X48: 193 | Y48: 88
X49: 194 | Y49: 89
X50: 195 | Y50: 90
X51: 196 | Y51: 91
X52: 197 | Y52: 92
X53: 198 | Y53: 93
X54: 199 | Y54: 94
X55: 200 | Y55: 95
X56: 201 | Y56: 96
X57: 202 | Y57: 97
X58: 203 | Y58: 98
... X60: 205 | Y60: 100

Sheet 参加申込書(NO31~60)
A1: 2026年 第105回 全国高校サッカ-選手権大会 沖縄県大会
A2: 参 加 申 込 書
A3: 学校名 | C3: =IF('参加申込書(NO1~30)'!C3="","",'参加申込書(NO1~30)'!C3) | F3: 監督名 | H3: =IF('参加申込書(NO1~30)'!H3="","",'参加申込書(NO1~30)'!H3) | M3: 引率教諭 | N3: =IF('参加申込書(NO1~30)'!N3="","",'参加申込書(NO1~30)'!N3)
A4: コーチ | C4: =IF('参加申込書(NO1~30)'!C4="","",'参加申込書(NO1~30)'!C4) | F4: コーチ | H4: =IF('参加申込書(NO1~30)'!H4="","",'参加申込書(NO1~30)'!H4)
A5: コーチ | C5: =IF('参加申込書(NO1~30)'!C5="","",'参加申込書(NO1~30)'!C5) | F5: マネージャー | H5: =IF('参加申込書(NO1~30)'!H5="","",'参加申込書(NO1~30)'!H5) | M5: ・ | N5: =IF('参加申込書(NO1~30)'!N5="","",'参加申込書(NO1~30)'!N5) | V5: GK | W5: 1 | X5: 150 | Y5: 45 | Z5: 2006 | AA5: 1 | AB5: 1
A6: 住 所 | C6: 〒 | D6: =IF('参加申込書(NO1~30)'!D6="","",'参加申込書(NO1~30)'!D6) | E6: =IF('参加申込書(NO1~30)'!E6="","",'参加申込書(NO1~30)'!E6) | K6: チーム番号(7ケタ) | N6: =IF('参加申込書(NO1~30)'!N6="","",'参加申込書(NO1~30)'!N6) | V6: DF | W6: 2 | X6: 151 | Y6: 46 | Z6: 2007 | AA6: 2 | AB6: 2
A7: 通番 | B7: 位置 | D7: 氏 名 | F7: 学年 | G7: 生年月日(西暦) | L7: 身 長 (cm) | M7: 体 重 (kg) | N7: 選手登録番号 (10ケタ) | V7: MF | W7: 3 | X7: 152 | Y7: 47 | Z7: 2008 | AA7: 3 | AB7: 3
V8: FW | W8: 4 | X8: 153 | Y8: 48 | Z8: 2009 | AA8: 4 | AB8: 4
A9: 31 | H9: . | J9: . | W9: 5 | X9: 154 | Y9: 49 | Z9: 2010 | AA9: 5 | AB9: 5
A10: 32 | H10: . | J10: . | W10: 6 | X10: 155 | Y10: 50 | Z10: 2011 | AA10: 6 | AB10: 6
A11: 33 | H11: . | J11: . | W11: 7 | X11: 156 | Y11: 51 | AA11: 7 | AB11: 7
A12: 34 | H12: . | J12: . | W12: 8 | X12: 157 | Y12: 52 | AA12: 8 | AB12: 8
A13: 35 | H13: . | J13: . | W13: 9 | X13: 158 | Y13: 53 | AA13: 9 | AB13: 9
A14: 36 | H14: . | J14: . | W14: 10 | X14: 159 | Y14: 54 | AA14: 10 | AB14: 10
A15: 37 | H15: . | J15: . | W15: 11 | X15: 160 | Y15: 55 | AA15: 11 | AB15: 11
A16: 38 | H16: . | J16: . | W16: 12 | X16: 161 | Y16: 56 | AA16: 12 | AB16: 12
A17: 39 | H17: . | J17: . | W17: 13 | X17: 162 | Y17: 57 | AB17: 13
A18: 40 | H18: . | J18: . | W18: 14 | X18: 163 | Y18: 58 | AB18: 14
A19: 41 | H19: . | J19: . | W19: 15 | X19: 164 | Y19: 59 | AB19: 15
A20: 42 | H20: . | J20: . | W20: 16 | X20: 165 | Y20: 60 | AB20: 16
A21: 43 | H21: . | J21: . | W21: 17 | X21: 166 | Y21: 61 | AB21: 17
A22: 44 | H22: . | J22: . | W22: 18 | X22: 167 | Y22: 62 | AB22: 18
A23: 45 | H23: . | J23: . | W23: 19 | X23: 168 | Y23: 63 | AB23: 19
A24: 46 | H24: . | J24: . | W24: 20 | X24: 169 | Y24: 64 | AB24: 20
A25: 47 | H25: . | J25: . | W25: 21 | X25: 170 | Y25: 65 | AB25: 21
A26: 48 | H26: . | J26: . | W26: 22 | X26: 171 | Y26: 66 | AB26: 22
A27: 49 | H27: . | J27: . | W27: 23 | X27: 172 | Y27: 67 | AB27: 23
A28: 50 | H28: . | J28: . | W28: 24 | X28: 173 | Y28: 68 | AB28: 24
... A34: 56 | H34: . | J34: . | W34: 30 | X34: 179 | Y34: 74 | AB34: 30
A35: 57 | H35: . | J35: . | X35: 180 | Y35: 75 | AB35: 31
A36: 58 | H36: . | J36: . | X36: 181 | Y36: 76
A37: 59 | H37: . | J37: . | X37: 182 | Y37: 77
A38: 60 | H38: . | J38: . | X38: 183 | Y38: 78
A39: ※通番は背番号ではありません。 | X39: 184 | Y39: 79
X40: 185 | Y40: 80
B41: 上記の者は本校在学生徒であり、健康診断の結果異常なく標記大会に出場することを認め | X41: 186 | Y41: 81
B42: 参加申込みいたします。 | X42: 187 | Y42: 82
B43: =IF('参加申込書(NO1~30)'!B43="","",'参加申込書(NO1~30)'!B43) -> 2026 年 月 日 | X43: 188 | Y43: 83
D44: 学校名 | E44: =IF('参加申込書(NO1~30)'!E44="","",'参加申込書(NO1~30)'!E44) | H44: 校長 | J44: =IF('参加申込書(NO1~30)'!J44="","",'参加申込書(NO1~30)'!J44) | N44: 印 | X44: 189 | Y44: 84
B45: （一社）沖縄県サッカー協会 | X45: 190 | Y45: 85
B46: 会 長 田平 敬志 殿 | M46: 2枚目 / 5枚中 | X46: 191 | Y46: 86
X47: 192 | Y47: 87
X48: 193 | Y48: 88
X49: 194 | Y49: 89
X50: 195 | Y50: 90
X51: 196 | Y51: 91
X52: 197 | Y52: 92
X53: 198 | Y53: 93
X54: 199 | Y54: 94
X55: 200 | Y55: 95
X56: 201 | Y56: 96
X57: 202 | Y57: 97
X58: 203 | Y58: 98
... X60: 205 | Y60: 100

Sheet 参加申込書(NO61~90)
A1: 2026年 第105回 全国高校サッカ-選手権大会 沖縄県大会
A2: 参 加 申 込 書
A3: 学校名 | C3: =IF('参加申込書(NO1~30)'!C3="","",'参加申込書(NO1~30)'!C3) | F3: 監督名 | H3: =IF('参加申込書(NO1~30)'!H3:L3="","",'参加申込書(NO1~30)'!H3:L3) | M3: 引率教諭 | N3: =IF('参加申込書(NO1~30)'!N3="","",'参加申込書(NO1~30)'!N3)
A4: コーチ | C4: =IF('参加申込書(NO1~30)'!C4="","",'参加申込書(NO1~30)'!C4) | F4: コーチ | H4: =IF('参加申込書(NO1~30)'!H4:L4="","",'参加申込書(NO1~30)'!H4:L4)
A5: コーチ | C5: =IF('参加申込書(NO1~30)'!C5="","",'参加申込書(NO1~30)'!C5) | F5: マネージャー | H5: =IF('参加申込書(NO1~30)'!H5:L5="","",'参加申込書(NO1~30)'!H5:L5) | M5: ・ | N5: =IF('参加申込書(NO1~30)'!N5="","",'参加申込書(NO1~30)'!N5) | V5: GK | W5: 1 | X5: 150 | Y5: 45 | Z5: 2006 | AA5: 1 | AB5: 1
A6: 住 所 | C6: 〒 | D6: =IF('参加申込書(NO1~30)'!D6="","",'参加申込書(NO1~30)'!D6) | E6: =IF('参加申込書(NO1~30)'!E6="","",'参加申込書(NO1~30)'!E6) | K6: チーム番号(7ケタ) | N6: =IF('参加申込書(NO1~30)'!N6="","",'参加申込書(NO1~30)'!N6) | V6: DF | W6: 2 | X6: 151 | Y6: 46 | Z6: 2007 | AA6: 2 | AB6: 2
A7: 通番 | B7: 位置 | D7: 氏 名 | F7: 学年 | G7: 生年月日(西暦) | L7: 身 長 (cm) | M7: 体 重 (kg) | N7: 選手登録番号 (10ケタ) | V7: MF | W7: 3 | X7: 152 | Y7: 47 | Z7: 2008 | AA7: 3 | AB7: 3
V8: FW | W8: 4 | X8: 153 | Y8: 48 | Z8: 2009 | AA8: 4 | AB8: 4
A9: 61 | H9: . | J9: . | W9: 5 | X9: 154 | Y9: 49 | Z9: 2010 | AA9: 5 | AB9: 5
A10: 62 | H10: . | J10: . | W10: 6 | X10: 155 | Y10: 50 | Z10: 2011 | AA10: 6 | AB10: 6
A11: 63 | H11: . | J11: . | W11: 7 | X11: 156 | Y11: 51 | AA11: 7 | AB11: 7
A12: 64 | H12: . | J12: . | W12: 8 | X12: 157 | Y12: 52 | AA12: 8 | AB12: 8
A13: 65 | H13: . | J13: . | W13: 9 | X13: 158 | Y13: 53 | AA13: 9 | AB13: 9
A14: 66 | H14: . | J14: . | W14: 10 | X14: 159 | Y14: 54 | AA14: 10 | AB14: 10
A15: 67 | H15: . | J15: . | W15: 11 | X15: 160 | Y15: 55 | AA15: 11 | AB15: 11
A16: 68 | H16: . | J16: . | W16: 12 | X16: 161 | Y16: 56 | AA16: 12 | AB16: 12
A17: 69 | H17: . | J17: . | W17: 13 | X17: 162 | Y17: 57 | AB17: 13
A18: 70 | H18: . | J18: . | W18: 14 | X18: 163 | Y18: 58 | AB18: 14
A19: 71 | H19: . | J19: . | W19: 15 | X19: 164 | Y19: 59 | AB19: 15
A20: 72 | H20: . | J20: . | W20: 16 | X20: 165 | Y20: 60 | AB20: 16
A21: 73 | H21: . | J21: . | W21: 17 | X21: 166 | Y21: 61 | AB21: 17
A22: 74 | H22: . | J22: . | W22: 18 | X22: 167 | Y22: 62 | AB22: 18
A23: 75 | H23: . | J23: . | W23: 19 | X23: 168 | Y23: 63 | AB23: 19
A24: 76 | H24: . | J24: . | W24: 20 | X24: 169 | Y24: 64 | AB24: 20
A25: 77 | H25: . | J25: . | W25: 21 | X25: 170 | Y25: 65 | AB25: 21
A26: 78 | H26: . | J26: . | W26: 22 | X26: 171 | Y26: 66 | AB26: 22
A27: 79 | H27: . | J27: . | W27: 23 | X27: 172 | Y27: 67 | AB27: 23
A28: 80 | H28: . | J28: . | W28: 24 | X28: 173 | Y28: 68 | AB28: 24
... A34: 86 | H34: . | J34: . | W34: 30 | X34: 179 | Y34: 74 | AB34: 30
A35: 87 | H35: . | J35: . | X35: 180 | Y35: 75 | AB35: 31
A36: 88 | H36: . | J36: . | X36: 181 | Y36: 76
A37: 89 | H37: . | J37: . | X37: 182 | Y37: 77
A38: 90 | H38: . | J38: . | X38: 183 | Y38: 78
A39: ※通番は背番号ではありません。 | X39: 184 | Y39: 79
X40: 185 | Y40: 80
B41: 上記の者は本校在学生徒であり、健康診断の結果異常なく標記大会に出場することを認め | X41: 186 | Y41: 81
B42: 参加申込みいたします。 | X42: 187 | Y42: 82
B43: =IF('参加申込書(NO1~30)'!B43="","",'参加申込書(NO1~30)'!B43) -> 2026 年 月 日 | X43: 188 | Y43: 83
D44: 学校名 | E44: =IF('参加申込書(NO1~30)'!E44="","",'参加申込書(NO1~30)'!E44) | H44: 校長 | J44: ='参加申込書(NO31~60)'!J44 | N44: 印 | X44: 189 | Y44: 84
B45: （一社）沖縄県サッカー協会 | X45: 190 | Y45: 85
B46: 会 長 田平 敬志 殿 | M46: 3枚目 / 5枚中 | X46: 191 | Y46: 86
X47: 192 | Y47: 87
X48: 193 | Y48: 88
X49: 194 | Y49: 89
X50: 195 | Y50: 90
X51: 196 | Y51: 91
X52: 197 | Y52: 92
X53: 198 | Y53: 93
X54: 199 | Y54: 94
X55: 200 | Y55: 95
X56: 201 | Y56: 96
X57: 202 | Y57: 97
X58: 203 | Y58: 98
... X60: 205 | Y60: 100

Sheet 参加申込書(NO91~120)
A1: 2026年 第105回 全国高校サッカ-選手権大会 沖縄県大会
A2: 参 加 申 込 書
A3: 学校名 | C3: =IF('参加申込書(NO1~30)'!C3="","",'参加申込書(NO1~30)'!C3) | F3: 監督名 | H3: =IF('参加申込書(NO1~30)'!H3:L3="","",'参加申込書(NO1~30)'!H3:L3) | M3: 引率教諭 | N3: =IF('参加申込書(NO1~30)'!N3="","",'参加申込書(NO1~30)'!N3)
A4: コーチ | C4: =IF('参加申込書(NO1~30)'!C4="","",'参加申込書(NO1~30)'!C4) | F4: コーチ | H4: =IF('参加申込書(NO1~30)'!H4:L4="","",'参加申込書(NO1~30)'!H4:L4)
A5: コーチ | C5: =IF('参加申込書(NO1~30)'!C5="","",'参加申込書(NO1~30)'!C5) | F5: マネージャー | H5: =IF('参加申込書(NO1~30)'!H5:L5="","",'参加申込書(NO1~30)'!H5:L5) | M5: ・ | N5: =IF('参加申込書(NO1~30)'!N5="","",'参加申込書(NO1~30)'!N5) | V5: GK | W5: 1 | X5: 150 | Y5: 45 | Z5: 2006 | AA5: 1 | AB5: 1
A6: 住 所 | C6: 〒 | D6: =IF('参加申込書(NO1~30)'!D6="","",'参加申込書(NO1~30)'!D6) | E6: =IF('参加申込書(NO1~30)'!E6="","",'参加申込書(NO1~30)'!E6) | K6: チーム番号(7ケタ) | N6: =IF('参加申込書(NO1~30)'!N6="","",'参加申込書(NO1~30)'!N6) | V6: DF | W6: 2 | X6: 151 | Y6: 46 | Z6: 2007 | AA6: 2 | AB6: 2
A7: 通番 | B7: 位置 | D7: 氏 名 | F7: 学年 | G7: 生年月日(西暦) | L7: 身 長 (cm) | M7: 体 重 (kg) | N7: 選手登録番号 (10ケタ) | V7: MF | W7: 3 | X7: 152 | Y7: 47 | Z7: 2008 | AA7: 3 | AB7: 3
V8: FW | W8: 4 | X8: 153 | Y8: 48 | Z8: 2009 | AA8: 4 | AB8: 4
A9: 91 | H9: . | J9: . | W9: 5 | X9: 154 | Y9: 49 | Z9: 2010 | AA9: 5 | AB9: 5
A10: 92 | H10: . | J10: . | W10: 6 | X10: 155 | Y10: 50 | Z10: 2011 | AA10: 6 | AB10: 6
A11: 93 | H11: . | J11: . | W11: 7 | X11: 156 | Y11: 51 | AA11: 7 | AB11: 7
A12: 94 | H12: . | J12: . | W12: 8 | X12: 157 | Y12: 52 | AA12: 8 | AB12: 8
A13: 95 | H13: . | J13: . | W13: 9 | X13: 158 | Y13: 53 | AA13: 9 | AB13: 9
A14: 96 | H14: . | J14: . | W14: 10 | X14: 159 | Y14: 54 | AA14: 10 | AB14: 10
A15: 97 | H15: . | J15: . | W15: 11 | X15: 160 | Y15: 55 | AA15: 11 | AB15: 11
A16: 98 | H16: . | J16: . | W16: 12 | X16: 161 | Y16: 56 | AA16: 12 | AB16: 12
A17: 99 | H17: . | J17: . | W17: 13 | X17: 162 | Y17: 57 | AB17: 13
A18: 100 | H18: . | J18: . | W18: 14 | X18: 163 | Y18: 58 | AB18: 14
A19: 101 | H19: . | J19: . | W19: 15 | X19: 164 | Y19: 59 | AB19: 15
A20: 102 | H20: . | J20: . | W20: 16 | X20: 165 | Y20: 60 | AB20: 16
A21: 103 | H21: . | J21: . | W21: 17 | X21: 166 | Y21: 61 | AB21: 17
A22: 104 | H22: . | J22: . | W22: 18 | X22: 167 | Y22: 62 | AB22: 18
A23: 105 | H23: . | J23: . | W23: 19 | X23: 168 | Y23: 63 | AB23: 19
A24: 106 | H24: . | J24: . | W24: 20 | X24: 169 | Y24: 64 | AB24: 20
A25: 107 | H25: . | J25: . | W25: 21 | X25: 170 | Y25: 65 | AB25: 21
A26: 108 | H26: . | J26: . | W26: 22 | X26: 171 | Y26: 66 | AB26: 22
A27: 109 | H27: . | J27: . | W27: 23 | X27: 172 | Y27: 67 | AB27: 23
A28: 110 | H28: . | J28: . | W28: 24 | X28: 173 | Y28: 68 | AB28: 24
... A34: 116 | H34: . | J34: . | W34: 30 | X34: 179 | Y34: 74 | AB34: 30
A35: 117 | H35: . | J35: . | X35: 180 | Y35: 75 | AB35: 31
A36: 118 | H36: . | J36: . | X36: 181 | Y36: 76
A37: 119 | H37: . | J37: . | X37: 182 | Y37: 77
A38: 120 | H38: . | J38: . | X38: 183 | Y38: 78
A39: ※通番は背番号ではありません。 | X39: 184 | Y39: 79
X40: 185 | Y40: 80
B41: 上記の者は本校在学生徒であり、健康診断の結果異常なく標記大会に出場することを認め | X41: 186 | Y41: 81
B42: 参加申込みいたします。 | X42: 187 | Y42: 82
B43: =IF('参加申込書(NO1~30)'!B43="","",'参加申込書(NO1~30)'!B43) -> 2026 年 月 日 | X43: 188 | Y43: 83
D44: 学校名 | E44: =IF('参加申込書(NO1~30)'!E44="","",'参加申込書(NO1~30)'!E44) | H44: 校長 | J44: ='参加申込書(NO61~90)'!J44 | N44: 印 | X44: 189 | Y44: 84
B45: （一社）沖縄県サッカー協会 | X45: 190 | Y45: 85
B46: 会 長 田平 敬志 殿 | M46: 4枚目 / 5枚中 | X46: 191 | Y46: 86
X47: 192 | Y47: 87
X48: 193 | Y48: 88
X49: 194 | Y49: 89
X50: 195 | Y50: 90
X51: 196 | Y51: 91
X52: 197 | Y52: 92
X53: 198 | Y53: 93
X54: 199 | Y54: 94
X55: 200 | Y55: 95
X56: 201 | Y56: 96
X57: 202 | Y57: 97
X58: 203 | Y58: 98
... X60: 205 | Y60: 100

Sheet 参加申込書(NO121~150)
A1: 2026年 第105回 全国高校サッカ-選手権大会 沖縄県大会
A2: 参 加 申 込 書
A3: 学校名 | C3: =IF('参加申込書(NO1~30)'!C3="","",'参加申込書(NO1~30)'!C3) | F3: 監督名 | H3: =IF('参加申込書(NO1~30)'!H3:L3="","",'参加申込書(NO1~30)'!H3:L3) | M3: 引率教諭 | N3: =IF('参加申込書(NO1~30)'!N3="","",'参加申込書(NO1~30)'!N3)
A4: コーチ | C4: =IF('参加申込書(NO1~30)'!C4="","",'参加申込書(NO1~30)'!C4) | F4: コーチ | H4: =IF('参加申込書(NO1~30)'!H4:L4="","",'参加申込書(NO1~30)'!H4:L4)
A5: コーチ | C5: =IF('参加申込書(NO1~30)'!C5="","",'参加申込書(NO1~30)'!C5) | F5: マネージャー | H5: =IF('参加申込書(NO1~30)'!H5:L5="","",'参加申込書(NO1~30)'!H5:L5) | M5: ・ | N5: =IF('参加申込書(NO1~30)'!N5="","",'参加申込書(NO1~30)'!N5) | V5: GK | W5: 1 | X5: 150 | Y5: 45 | Z5: 2006 | AA5: 1 | AB5: 1
A6: 住 所 | C6: 〒 | D6: =IF('参加申込書(NO1~30)'!D6="","",'参加申込書(NO1~30)'!D6) | E6: =IF('参加申込書(NO1~30)'!E6="","",'参加申込書(NO1~30)'!E6) | K6: チーム番号(7ケタ) | N6: =IF('参加申込書(NO1~30)'!N6="","",'参加申込書(NO1~30)'!N6) | V6: DF | W6: 2 | X6: 151 | Y6: 46 | Z6: 2007 | AA6: 2 | AB6: 2
A7: 通番 | B7: 位置 | D7: 氏 名 | F7: 学年 | G7: 生年月日(西暦) | L7: 身 長 (cm) | M7: 体 重 (kg) | N7: 選手登録番号 (10ケタ) | V7: MF | W7: 3 | X7: 152 | Y7: 47 | Z7: 2008 | AA7: 3 | AB7: 3
V8: FW | W8: 4 | X8: 153 | Y8: 48 | Z8: 2009 | AA8: 4 | AB8: 4
A9: 121 | H9: . | J9: . | W9: 5 | X9: 154 | Y9: 49 | Z9: 2010 | AA9: 5 | AB9: 5
A10: 122 | H10: . | J10: . | W10: 6 | X10: 155 | Y10: 50 | Z10: 2011 | AA10: 6 | AB10: 6
A11: 123 | H11: . | J11: . | W11: 7 | X11: 156 | Y11: 51 | AA11: 7 | AB11: 7
A12: 124 | H12: . | J12: . | W12: 8 | X12: 157 | Y12: 52 | AA12: 8 | AB12: 8
A13: 125 | H13: . | J13: . | W13: 9 | X13: 158 | Y13: 53 | AA13: 9 | AB13: 9
A14: 126 | H14: . | J14: . | W14: 10 | X14: 159 | Y14: 54 | AA14: 10 | AB14: 10
A15: 127 | H15: . | J15: . | W15: 11 | X15: 160 | Y15: 55 | AA15: 11 | AB15: 11
A16: 128 | H16: . | J16: . | W16: 12 | X16: 161 | Y16: 56 | AA16: 12 | AB16: 12
A17: 129 | H17: . | J17: . | W17: 13 | X17: 162 | Y17: 57 | AB17: 13
A18: 130 | H18: . | J18: . | W18: 14 | X18: 163 | Y18: 58 | AB18: 14
A19: 131 | H19: . | J19: . | W19: 15 | X19: 164 | Y19: 59 | AB19: 15
A20: 132 | H20: . | J20: . | W20: 16 | X20: 165 | Y20: 60 | AB20: 16
A21: 133 | H21: . | J21: . | W21: 17 | X21: 166 | Y21: 61 | AB21: 17
A22: 134 | H22: . | J22: . | W22: 18 | X22: 167 | Y22: 62 | AB22: 18
A23: 135 | H23: . | J23: . | W23: 19 | X23: 168 | Y23: 63 | AB23: 19
A24: 136 | H24: . | J24: . | W24: 20 | X24: 169 | Y24: 64 | AB24: 20
A25: 137 | H25: . | J25: . | W25: 21 | X25: 170 | Y25: 65 | AB25: 21
A26: 138 | H26: . | J26: . | W26: 22 | X26: 171 | Y26: 66 | AB26: 22
A27: 139 | H27: . | J27: . | W27: 23 | X27: 172 | Y27: 67 | AB27: 23
A28: 140 | H28: . | J28: . | W28: 24 | X28: 173 | Y28: 68 | AB28: 24
... A34: 146 | H34: . | J34: . | W34: 30 | X34: 179 | Y34: 74 | AB34: 30
A35: 147 | H35: . | J35: . | X35: 180 | Y35: 75 | AB35: 31
A36: 148 | H36: . | J36: . | X36: 181 | Y36: 76
A37: 149 | H37: . | J37: . | X37: 182 | Y37: 77
A38: 150 | H38: . | J38: . | X38: 183 | Y38: 78
A39: ※通番は背番号ではありません。 | X39: 184 | Y39: 79
X40: 185 | Y40: 80
B41: 上記の者は本校在学生徒であり、健康診断の結果異常なく標記大会に出場することを認め | X41: 186 | Y41: 81
B42: 参加申込みいたします。 | X42: 187 | Y42: 82
B43: =IF('参加申込書(NO1~30)'!B43="","",'参加申込書(NO1~30)'!B43) -> 2026 年 月 日 | X43: 188 | Y43: 83
D44: 学校名 | E44: =IF('参加申込書(NO1~30)'!E44="","",'参加申込書(NO1~30)'!E44) | H44: 校長 | J44: ='参加申込書(NO91~120)'!J44 | N44: 印 | X44: 189 | Y44: 84
B45: （一社）沖縄県サッカー協会 | X45: 190 | Y45: 85
B46: 会 長 田平 敬志 殿 | M46: 5枚目 / 5枚中 | X46: 191 | Y46: 86
X47: 192 | Y47: 87
X48: 193 | Y48: 88
X49: 194 | Y49: 89
X50: 195 | Y50: 90
X51: 196 | Y51: 91
X52: 197 | Y52: 92
X53: 198 | Y53: 93
X54: 199 | Y54: 94
X55: 200 | Y55: 95
X56: 201 | Y56: 96
X57: 202 | Y57: 97
X58: 203 | Y58: 98
... X60: 205 | Y60: 100

Sheet パンフレット (100名以上用)
B1: トーナメント番号【 】
B2: ☆ 校章 ☆ | E2: =IF('参加申込書(NO1~30)'!C3="","",'参加申込書(NO1~30)'!C3) | U2: 〒 | V2: =IF('参加申込書(NO1~30)'!D6="","",'参加申込書(NO1~30)'!D6)
U3: =IF('参加申込書(NO1~30)'!E6="","",'参加申込書(NO1~30)'!E6)
B5: チームスタッフ（ベンチ） | L5: チームプロフィール | V5: ユニホーム
B6: 引率教諭 | F6: =IF('参加申込書(NO1~30)'!N3="","",'参加申込書(NO1~30)'!N3) | L6: (チームの歴史、戦績) | W6: ﾌｨｰﾙﾄﾞﾌﾟﾚｲﾔｰ | AC6: ｺﾞｰﾙｷｰﾊﾟｰ
B7: 監 督 | F7: =IF('参加申込書(NO1~30)'!H3="","",'参加申込書(NO1~30)'!H3) | W7: 正 | Z7: 副 | AC7: 正 | AF7: 副
B8: コーチ | F8: =IF('参加申込書(NO1~30)'!C4="","",'参加申込書(NO1~30)'!C4) | V8: ｼｬﾂ
B9: コーチ | F9: =IF('参加申込書(NO1~30)'!H4="","",'参加申込書(NO1~30)'!H4)
B10: コーチ | F10: =IF('参加申込書(NO1~30)'!C5="","",'参加申込書(NO1~30)'!C5) | V10: ﾊﾟﾝﾂ
B11: マネージャー | F11: =IF('参加申込書(NO1~30)'!H5="","",'参加申込書(NO1~30)'!H5)
B12: マネージャー | F12: =IF('参加申込書(NO1~30)'!N5="","",'参加申込書(NO1~30)'!N5) | V12: ｿｯｸｽ
B14: ※通番は背番号ではありません。
B15: 通番 | C15: 位置 | D15: 氏 名 | I15: 学年 | J15: 身長 (cm) | K15: 体重 (kg) | L15: 前所属 （クラブチームはクラブ名） | S15: 通番 | T15: 位置 | U15: 氏 名 | Z15: 学年 | AA15: 身長 (cm) | AB15: 体重 (kg) | AC15: 前所属 （クラブチームはクラブ名） | AK15: 通番 | AL15: 位置 | AM15: 氏 名 | AR15: 学年 | AS15: 身長 (cm) | AT15: 体重 (kg)
L16: 中学校 | O16: 小学校 | AC16: 中学校 | AF16: 小学校
B17: 1 | C17: =VLOOKUP(B17,'参加申込書(NO1~30)'!$A$9:$N$38,2,FALSE) -> 0 | D17: =VLOOKUP(B17,'参加申込書(NO1~30)'!$A$9:$N$38,4,FALSE) -> 0 | I17: =VLOOKUP(B17,'参加申込書(NO1~30)'!$A$9:$N$38,6,FALSE) -> 0 | J17: =VLOOKUP(B17,'参加申込書(NO1~30)'!$A$9:$N$38,12,FALSE) -> 0 | K17: =VLOOKUP(B17,'参加申込書(NO1~30)'!$A$9:$N$38,13,FALSE) -> 0 | S17: 26 | T17: =VLOOKUP(S17,'参加申込書(NO1~30)'!$A$9:$N$38,2,FALSE) -> 0 | U17: =VLOOKUP(S17,'参加申込書(NO1~30)'!$A$9:$N$38,4,FALSE) -> 0 | Z17: =VLOOKUP(S17,'参加申込書(NO1~30)'!$A$9:$N$38,6,FALSE) -> 0 | AA17: =VLOOKUP(S17,'参加申込書(NO1~30)'!$A$9:$N$38,12,FALSE) -> 0 | AB17: =VLOOKUP(S17,'参加申込書(NO1~30)'!$A$9:$N$38,13,FALSE) -> 0 | AK17: =B17 -> 1 | AL17: =C17 -> 0 | AM17: =D17 -> 0 | AN17: =E17 -> 0 | AO17: =F17 -> 0 | AP17: =G17 -> 0 | AQ17: =H17 -> 0 | AR17: =I17 -> 0 | ... AT17: =K17 -> 0
B18: 2 | C18: =VLOOKUP(B18,'参加申込書(NO1~30)'!$A$9:$N$38,2,FALSE) -> 0 | D18: =VLOOKUP(B18,'参加申込書(NO1~30)'!$A$9:$N$38,4,FALSE) -> 0 | I18: =VLOOKUP(B18,'参加申込書(NO1~30)'!$A$9:$N$38,6,FALSE) -> 0 | J18: =VLOOKUP(B18,'参加申込書(NO1~30)'!$A$9:$N$38,12,FALSE) -> 0 | K18: =VLOOKUP(B18,'参加申込書(NO1~30)'!$A$9:$N$38,13,FALSE) -> 0 | S18: 27 | T18: =VLOOKUP(S18,'参加申込書(NO1~30)'!$A$9:$N$38,2,FALSE) -> 0 | U18: =VLOOKUP(S18,'参加申込書(NO1~30)'!$A$9:$N$38,4,FALSE) -> 0 | Z18: =VLOOKUP(S18,'参加申込書(NO1~30)'!$A$9:$N$38,6,FALSE) -> 0 | AA18: =VLOOKUP(S18,'参加申込書(NO1~30)'!$A$9:$N$38,12,FALSE) -> 0 | AB18: =VLOOKUP(S18,'参加申込書(NO1~30)'!$A$9:$N$38,13,FALSE) -> 0 | AK18: =B18 -> 2 | AL18: =C18 -> 0 | AM18: =D18 -> 0 | AN18: =E18 -> 0 | AO18: =F18 -> 0 | AP18: =G18 -> 0 | AQ18: =H18 -> 0 | AR18: =I18 -> 0 | ... AT18: =K18 -> 0
B19: 3 | C19: =VLOOKUP(B19,'参加申込書(NO1~30)'!$A$9:$N$38,2,FALSE) -> 0 | D19: =VLOOKUP(B19,'参加申込書(NO1~30)'!$A$9:$N$38,4,FALSE) -> 0 | I19: =VLOOKUP(B19,'参加申込書(NO1~30)'!$A$9:$N$38,6,FALSE) -> 0 | J19: =VLOOKUP(B19,'参加申込書(NO1~30)'!$A$9:$N$38,12,FALSE) -> 0 | K19: =VLOOKUP(B19,'参加申込書(NO1~30)'!$A$9:$N$38,13,FALSE) -> 0 | S19: 28 | T19: =VLOOKUP(S19,'参加申込書(NO1~30)'!$A$9:$N$38,2,FALSE) -> 0 | U19: =VLOOKUP(S19,'参加申込書(NO1~30)'!$A$9:$N$38,4,FALSE) -> 0 | Z19: =VLOOKUP(S19,'参加申込書(NO1~30)'!$A$9:$N$38,6,FALSE) -> 0 | AA19: =VLOOKUP(S19,'参加申込書(NO1~30)'!$A$9:$N$38,12,FALSE) -> 0 | AB19: =VLOOKUP(S19,'参加申込書(NO1~30)'!$A$9:$N$38,13,FALSE) -> 0 | AK19: =B19 -> 3 | AL19: =C19 -> 0 | AM19: =D19 -> 0 | AN19: =E19 -> 0 | AO19: =F19 -> 0 | AP19: =G19 -> 0 | AQ19: =H19 -> 0 | AR19: =I19 -> 0 | ... AT19: =K19 -> 0
B20: 4 | C20: =VLOOKUP(B20,'参加申込書(NO1~30)'!$A$9:$N$38,2,FALSE) -> 0 | D20: =VLOOKUP(B20,'参加申込書(NO1~30)'!$A$9:$N$38,4,FALSE) -> 0 | I20: =VLOOKUP(B20,'参加申込書(NO1~30)'!$A$9:$N$38,6,FALSE) -> 0 | J20: =VLOOKUP(B20,'参加申込書(NO1~30)'!$A$9:$N$38,12,FALSE) -> 0 | K20: =VLOOKUP(B20,'参加申込書(NO1~30)'!$A$9:$N$38,13,FALSE) -> 0 | S20: 29 | T20: =VLOOKUP(S20,'参加申込書(NO1~30)'!$A$9:$N$38,2,FALSE) -> 0 | U20: =VLOOKUP(S20,'参加申込書(NO1~30)'!$A$9:$N$38,4,FALSE) -> 0 | Z20: =VLOOKUP(S20,'参加申込書(NO1~30)'!$A$9:$N$38,6,FALSE) -> 0 | AA20: =VLOOKUP(S20,'参加申込書(NO1~30)'!$A$9:$N$38,12,FALSE) -> 0 | AB20: =VLOOKUP(S20,'参加申込書(NO1~30)'!$A$9:$N$38,13,FALSE) -> 0 | AK20: =B20 -> 4 | AL20: =C20 -> 0 | AM20: =D20 -> 0 | AN20: =E20 -> 0 | AO20: =F20 -> 0 | AP20: =G20 -> 0 | AQ20: =H20 -> 0 | AR20: =I20 -> 0 | ... AT20: =K20 -> 0
B21: 5 | C21: =VLOOKUP(B21,'参加申込書(NO1~30)'!$A$9:$N$38,2,FALSE) -> 0 | D21: =VLOOKUP(B21,'参加申込書(NO1~30)'!$A$9:$N$38,4,FALSE) -> 0 | I21: =VLOOKUP(B21,'参加申込書(NO1~30)'!$A$9:$N$38,6,FALSE) -> 0 | J21: =VLOOKUP(B21,'参加申込書(NO1~30)'!$A$9:$N$38,12,FALSE) -> 0 | K21: =VLOOKUP(B21,'参加申込書(NO1~30)'!$A$9:$N$38,13,FALSE) -> 0 | S21: 30 | T21: =VLOOKUP(S21,'参加申込書(NO1~30)'!$A$9:$N$38,2,FALSE) -> 0 | U21: =VLOOKUP(S21,'参加申込書(NO1~30)'!$A$9:$N$38,4,FALSE) -> 0 | Z21: =VLOOKUP(S21,'参加申込書(NO1~30)'!$A$9:$N$38,6,FALSE) -> 0 | AA21: =VLOOKUP(S21,'参加申込書(NO1~30)'!$A$9:$N$38,12,FALSE) -> 0 | AB21: =VLOOKUP(S21,'参加申込書(NO1~30)'!$A$9:$N$38,13,FALSE) -> 0 | AK21: =B21 -> 5 | AL21: =C21 -> 0 | AM21: =D21 -> 0 | AN21: =E21 -> 0 | AO21: =F21 -> 0 | AP21: =G21 -> 0 | AQ21: =H21 -> 0 | AR21: =I21 -> 0 | ... AT21: =K21 -> 0
B22: 6 | C22: =VLOOKUP(B22,'参加申込書(NO1~30)'!$A$9:$N$38,2,FALSE) -> 0 | D22: =VLOOKUP(B22,'参加申込書(NO1~30)'!$A$9:$N$38,4,FALSE) -> 0 | I22: =VLOOKUP(B22,'参加申込書(NO1~30)'!$A$9:$N$38,6,FALSE) -> 0 | J22: =VLOOKUP(B22,'参加申込書(NO1~30)'!$A$9:$N$38,12,FALSE) -> 0 | K22: =VLOOKUP(B22,'参加申込書(NO1~30)'!$A$9:$N$38,13,FALSE) -> 0 | S22: 31 | T22: =VLOOKUP(S22,'参加申込書(NO31~60)'!$A$9:$N$38,2,FALSE) -> 0 | U22: =VLOOKUP(S22,'参加申込書(NO31~60)'!$A$9:$N$38,4,FALSE) -> 0 | Z22: =VLOOKUP(S22,'参加申込書(NO31~60)'!$A$9:$N$38,6,FALSE) -> 0 | AA22: =VLOOKUP(S22,'参加申込書(NO31~60)'!$A$9:$N$38,12,FALSE) -> 0 | AB22: =VLOOKUP(S22,'参加申込書(NO31~60)'!$A$9:$N$38,13,FALSE) -> 0 | AK22: =B22 -> 6 | AL22: =C22 -> 0 | AM22: =D22 -> 0 | AN22: =E22 -> 0 | AO22: =F22 -> 0 | AP22: =G22 -> 0 | AQ22: =H22 -> 0 | AR22: =I22 -> 0 | ... AT22: =K22 -> 0
B23: 7 | C23: =VLOOKUP(B23,'参加申込書(NO1~30)'!$A$9:$N$38,2,FALSE) -> 0 | D23: =VLOOKUP(B23,'参加申込書(NO1~30)'!$A$9:$N$38,4,FALSE) -> 0 | I23: =VLOOKUP(B23,'参加申込書(NO1~30)'!$A$9:$N$38,6,FALSE) -> 0 | J23: =VLOOKUP(B23,'参加申込書(NO1~30)'!$A$9:$N$38,12,FALSE) -> 0 | K23: =VLOOKUP(B23,'参加申込書(NO1~30)'!$A$9:$N$38,13,FALSE) -> 0 | S23: 32 | T23: =VLOOKUP(S23,'参加申込書(NO31~60)'!$A$9:$N$38,2,FALSE) -> 0 | U23: =VLOOKUP(S23,'参加申込書(NO31~60)'!$A$9:$N$38,4,FALSE) -> 0 | Z23: =VLOOKUP(S23,'参加申込書(NO31~60)'!$A$9:$N$38,6,FALSE) -> 0 | AA23: =VLOOKUP(S23,'参加申込書(NO31~60)'!$A$9:$N$38,12,FALSE) -> 0 | AB23: =VLOOKUP(S23,'参加申込書(NO31~60)'!$A$9:$N$38,13,FALSE) -> 0 | AK23: =B23 -> 7 | AL23: =C23 -> 0 | AM23: =D23 -> 0 | AN23: =E23 -> 0 | AO23: =F23 -> 0 | AP23: =G23 -> 0 | AQ23: =H23 -> 0 | AR23: =I23 -> 0 | ... AT23: =K23 -> 0
B24: 8 | C24: =VLOOKUP(B24,'参加申込書(NO1~30)'!$A$9:$N$38,2,FALSE) -> 0 | D24: =VLOOKUP(B24,'参加申込書(NO1~30)'!$A$9:$N$38,4,FALSE) -> 0 | I24: =VLOOKUP(B24,'参加申込書(NO1~30)'!$A$9:$N$38,6,FALSE) -> 0 | J24: =VLOOKUP(B24,'参加申込書(NO1~30)'!$A$9:$N$38,12,FALSE) -> 0 | K24: =VLOOKUP(B24,'参加申込書(NO1~30)'!$A$9:$N$38,13,FALSE) -> 0 | S24: 33 | T24: =VLOOKUP(S24,'参加申込書(NO31~60)'!$A$9:$N$38,2,FALSE) -> 0 | U24: =VLOOKUP(S24,'参加申込書(NO31~60)'!$A$9:$N$38,4,FALSE) -> 0 | Z24: =VLOOKUP(S24,'参加申込書(NO31~60)'!$A$9:$N$38,6,FALSE) -> 0 | AA24: =VLOOKUP(S24,'参加申込書(NO31~60)'!$A$9:$N$38,12,FALSE) -> 0 | AB24: =VLOOKUP(S24,'参加申込書(NO31~60)'!$A$9:$N$38,13,FALSE) -> 0 | AK24: =B24 -> 8 | AL24: =C24 -> 0 | AM24: =D24 -> 0 | AN24: =E24 -> 0 | AO24: =F24 -> 0 | AP24: =G24 -> 0 | AQ24: =H24 -> 0 | AR24: =I24 -> 0 | ... AT24: =K24 -> 0
B25: 9 | C25: =VLOOKUP(B25,'参加申込書(NO1~30)'!$A$9:$N$38,2,FALSE) -> 0 | D25: =VLOOKUP(B25,'参加申込書(NO1~30)'!$A$9:$N$38,4,FALSE) -> 0 | I25: =VLOOKUP(B25,'参加申込書(NO1~30)'!$A$9:$N$38,6,FALSE) -> 0 | J25: =VLOOKUP(B25,'参加申込書(NO1~30)'!$A$9:$N$38,12,FALSE) -> 0 | K25: =VLOOKUP(B25,'参加申込書(NO1~30)'!$A$9:$N$38,13,FALSE) -> 0 | S25: 34 | T25: =VLOOKUP(S25,'参加申込書(NO31~60)'!$A$9:$N$38,2,FALSE) -> 0 | U25: =VLOOKUP(S25,'参加申込書(NO31~60)'!$A$9:$N$38,4,FALSE) -> 0 | Z25: =VLOOKUP(S25,'参加申込書(NO31~60)'!$A$9:$N$38,6,FALSE) -> 0 | AA25: =VLOOKUP(S25,'参加申込書(NO31~60)'!$A$9:$N$38,12,FALSE) -> 0 | AB25: =VLOOKUP(S25,'参加申込書(NO31~60)'!$A$9:$N$38,13,FALSE) -> 0 | AK25: =B25 -> 9 | AL25: =C25 -> 0 | AM25: =D25 -> 0 | AN25: =E25 -> 0 | AO25: =F25 -> 0 | AP25: =G25 -> 0 | AQ25: =H25 -> 0 | AR25: =I25 -> 0 | ... AT25: =K25 -> 0
B26: 10 | C26: =VLOOKUP(B26,'参加申込書(NO1~30)'!$A$9:$N$38,2,FALSE) -> 0 | D26: =VLOOKUP(B26,'参加申込書(NO1~30)'!$A$9:$N$38,4,FALSE) -> 0 | I26: =VLOOKUP(B26,'参加申込書(NO1~30)'!$A$9:$N$38,6,FALSE) -> 0 | J26: =VLOOKUP(B26,'参加申込書(NO1~30)'!$A$9:$N$38,12,FALSE) -> 0 | K26: =VLOOKUP(B26,'参加申込書(NO1~30)'!$A$9:$N$38,13,FALSE) -> 0 | S26: 35 | T26: =VLOOKUP(S26,'参加申込書(NO31~60)'!$A$9:$N$38,2,FALSE) -> 0 | U26: =VLOOKUP(S26,'参加申込書(NO31~60)'!$A$9:$N$38,4,FALSE) -> 0 | Z26: =VLOOKUP(S26,'参加申込書(NO31~60)'!$A$9:$N$38,6,FALSE) -> 0 | AA26: =VLOOKUP(S26,'参加申込書(NO31~60)'!$A$9:$N$38,12,FALSE) -> 0 | AB26: =VLOOKUP(S26,'参加申込書(NO31~60)'!$A$9:$N$38,13,FALSE) -> 0 | AK26: =B26 -> 10 | AL26: =C26 -> 0 | AM26: =D26 -> 0 | AN26: =E26 -> 0 | AO26: =F26 -> 0 | AP26: =G26 -> 0 | AQ26: =H26 -> 0 | AR26: =I26 -> 0 | ... AT26: =K26 -> 0
B27: 11 | C27: =VLOOKUP(B27,'参加申込書(NO1~30)'!$A$9:$N$38,2,FALSE) -> 0 | D27: =VLOOKUP(B27,'参加申込書(NO1~30)'!$A$9:$N$38,4,FALSE) -> 0 | I27: =VLOOKUP(B27,'参加申込書(NO1~30)'!$A$9:$N$38,6,FALSE) -> 0 | J27: =VLOOKUP(B27,'参加申込書(NO1~30)'!$A$9:$N$38,12,FALSE) -> 0 | K27: =VLOOKUP(B27,'参加申込書(NO1~30)'!$A$9:$N$38,13,FALSE) -> 0 | S27: 36 | T27: =VLOOKUP(S27,'参加申込書(NO31~60)'!$A$9:$N$38,2,FALSE) -> 0 | U27: =VLOOKUP(S27,'参加申込書(NO31~60)'!$A$9:$N$38,4,FALSE) -> 0 | Z27: =VLOOKUP(S27,'参加申込書(NO31~60)'!$A$9:$N$38,6,FALSE) -> 0 | AA27: =VLOOKUP(S27,'参加申込書(NO31~60)'!$A$9:$N$38,12,FALSE) -> 0 | AB27: =VLOOKUP(S27,'参加申込書(NO31~60)'!$A$9:$N$38,13,FALSE) -> 0 | AK27: =B27 -> 11 | AL27: =C27 -> 0 | AM27: =D27 -> 0 | AN27: =E27 -> 0 | AO27: =F27 -> 0 | AP27: =G27 -> 0 | AQ27: =H27 -> 0 | AR27: =I27 -> 0 | ... AT27: =K27 -> 0
B28: 12 | C28: =VLOOKUP(B28,'参加申込書(NO1~30)'!$A$9:$N$38,2,FALSE) -> 0 | D28: =VLOOKUP(B28,'参加申込書(NO1~30)'!$A$9:$N$38,4,FALSE) -> 0 | I28: =VLOOKUP(B28,'参加申込書(NO1~30)'!$A$9:$N$38,6,FALSE) -> 0 | J28: =VLOOKUP(B28,'参加申込書(NO1~30)'!$A$9:$N$38,12,FALSE) -> 0 | K28: =VLOOKUP(B28,'参加申込書(NO1~30)'!$A$9:$N$38,13,FALSE) -> 0 | S28: 37 | T28: =VLOOKUP(S28,'参加申込書(NO31~60)'!$A$9:$N$38,2,FALSE) -> 0 | U28: =VLOOKUP(S28,'参加申込書(NO31~60)'!$A$9:$N$38,4,FALSE) -> 0 | Z28: =VLOOKUP(S28,'参加申込書(NO31~60)'!$A$9:$N$38,6,FALSE) -> 0 | AA28: =VLOOKUP(S28,'参加申込書(NO31~60)'!$A$9:$N$38,12,FALSE) -> 0 | AB28: =VLOOKUP(S28,'参加申込書(NO31~60)'!$A$9:$N$38,13,FALSE) -> 0 | AK28: =B28 -> 12 | AL28: =C28 -> 0 | AM28: =D28 -> 0 | AN28: =E28 -> 0 | AO28: =F28 -> 0 | AP28: =G28 -> 0 | AQ28: =H28 -> 0 | AR28: =I28 -> 0 | ... AT28: =K28 -> 0
B29: 13 | C29: =VLOOKUP(B29,'参加申込書(NO1~30)'!$A$9:$N$38,2,FALSE) -> 0 | D29: =VLOOKUP(B29,'参加申込書(NO1~30)'!$A$9:$N$38,4,FALSE) -> 0 | I29: =VLOOKUP(B29,'参加申込書(NO1~30)'!$A$9:$N$38,6,FALSE) -> 0 | J29: =VLOOKUP(B29,'参加申込書(NO1~30)'!$A$9:$N$38,12,FALSE) -> 0 | K29: =VLOOKUP(B29,'参加申込書(NO1~30)'!$A$9:$N$38,13,FALSE) -> 0 | S29: 38 | T29: =VLOOKUP(S29,'参加申込書(NO31~60)'!$A$9:$N$38,2,FALSE) -> 0 | U29: =VLOOKUP(S29,'参加申込書(NO31~60)'!$A$9:$N$38,4,FALSE) -> 0 | Z29: =VLOOKUP(S29,'参加申込書(NO31~60)'!$A$9:$N$38,6,FALSE) -> 0 | AA29: =VLOOKUP(S29,'参加申込書(NO31~60)'!$A$9:$N$38,12,FALSE) -> 0 | AB29: =VLOOKUP(S29,'参加申込書(NO31~60)'!$A$9:$N$38,13,FALSE) -> 0 | AK29: =B29 -> 13 | AL29: =C29 -> 0 | AM29: =D29 -> 0 | AN29: =E29 -> 0 | AO29: =F29 -> 0 | AP29: =G29 -> 0 | AQ29: =H29 -> 0 | AR29: =I29 -> 0 | ... AT29: =K29 -> 0
B30: 14 | C30: =VLOOKUP(B30,'参加申込書(NO1~30)'!$A$9:$N$38,2,FALSE) -> 0 | D30: =VLOOKUP(B30,'参加申込書(NO1~30)'!$A$9:$N$38,4,FALSE) -> 0 | I30: =VLOOKUP(B30,'参加申込書(NO1~30)'!$A$9:$N$38,6,FALSE) -> 0 | J30: =VLOOKUP(B30,'参加申込書(NO1~30)'!$A$9:$N$38,12,FALSE) -> 0 | K30: =VLOOKUP(B30,'参加申込書(NO1~30)'!$A$9:$N$38,13,FALSE) -> 0 | S30: 39 | T30: =VLOOKUP(S30,'参加申込書(NO31~60)'!$A$9:$N$38,2,FALSE) -> 0 | U30: =VLOOKUP(S30,'参加申込書(NO31~60)'!$A$9:$N$38,4,FALSE) -> 0 | Z30: =VLOOKUP(S30,'参加申込書(NO31~60)'!$A$9:$N$38,6,FALSE) -> 0 | AA30: =VLOOKUP(S30,'参加申込書(NO31~60)'!$A$9:$N$38,12,FALSE) -> 0 | AB30: =VLOOKUP(S30,'参加申込書(NO31~60)'!$A$9:$N$38,13,FALSE) -> 0 | AK30: =B30 -> 14 | AL30: =C30 -> 0 | AM30: =D30 -> 0 | AN30: =E30 -> 0 | AO30: =F30 -> 0 | AP30: =G30 -> 0 | AQ30: =H30 -> 0 | AR30: =I30 -> 0 | ... AT30: =K30 -> 0
B31: 15 | C31: =VLOOKUP(B31,'参加申込書(NO1~30)'!$A$9:$N$38,2,FALSE) -> 0 | D31: =VLOOKUP(B31,'参加申込書(NO1~30)'!$A$9:$N$38,4,FALSE) -> 0 | I31: =VLOOKUP(B31,'参加申込書(NO1~30)'!$A$9:$N$38,6,FALSE) -> 0 | J31: =VLOOKUP(B31,'参加申込書(NO1~30)'!$A$9:$N$38,12,FALSE) -> 0 | K31: =VLOOKUP(B31,'参加申込書(NO1~30)'!$A$9:$N$38,13,FALSE) -> 0 | S31: 40 | T31: =VLOOKUP(S31,'参加申込書(NO31~60)'!$A$9:$N$38,2,FALSE) -> 0 | U31: =VLOOKUP(S31,'参加申込書(NO31~60)'!$A$9:$N$38,4,FALSE) -> 0 | Z31: =VLOOKUP(S31,'参加申込書(NO31~60)'!$A$9:$N$38,6,FALSE) -> 0 | AA31: =VLOOKUP(S31,'参加申込書(NO31~60)'!$A$9:$N$38,12,FALSE) -> 0 | AB31: =VLOOKUP(S31,'参加申込書(NO31~60)'!$A$9:$N$38,13,FALSE) -> 0 | AK31: =B31 -> 15 | AL31: =C31 -> 0 | AM31: =D31 -> 0 | AN31: =E31 -> 0 | AO31: =F31 -> 0 | AP31: =G31 -> 0 | AQ31: =H31 -> 0 | AR31: =I31 -> 0 | ... AT31: =K31 -> 0
B32: 16 | C32: =VLOOKUP(B32,'参加申込書(NO1~30)'!$A$9:$N$38,2,FALSE) -> 0 | D32: =VLOOKUP(B32,'参加申込書(NO1~30)'!$A$9:$N$38,4,FALSE) -> 0 | I32: =VLOOKUP(B32,'参加申込書(NO1~30)'!$A$9:$N$38,6,FALSE) -> 0 | J32: =VLOOKUP(B32,'参加申込書(NO1~30)'!$A$9:$N$38,12,FALSE) -> 0 | K32: =VLOOKUP(B32,'参加申込書(NO1~30)'!$A$9:$N$38,13,FALSE) -> 0 | S32: 41 | T32: =VLOOKUP(S32,'参加申込書(NO31~60)'!$A$9:$N$38,2,FALSE) -> 0 | U32: =VLOOKUP(S32,'参加申込書(NO31~60)'!$A$9:$N$38,4,FALSE) -> 0 | Z32: =VLOOKUP(S32,'参加申込書(NO31~60)'!$A$9:$N$38,6,FALSE) -> 0 | AA32: =VLOOKUP(S32,'参加申込書(NO31~60)'!$A$9:$N$38,12,FALSE) -> 0 | AB32: =VLOOKUP(S32,'参加申込書(NO31~60)'!$A$9:$N$38,13,FALSE) -> 0 | AK32: =B32 -> 16 | AL32: =C32 -> 0 | AM32: =D32 -> 0 | AN32: =E32 -> 0 | AO32: =F32 -> 0 | AP32: =G32 -> 0 | AQ32: =H32 -> 0 | AR32: =I32 -> 0 | ... AT32: =K32 -> 0
B33: 17 | C33: =VLOOKUP(B33,'参加申込書(NO1~30)'!$A$9:$N$38,2,FALSE) -> 0 | D33: =VLOOKUP(B33,'参加申込書(NO1~30)'!$A$9:$N$38,4,FALSE) -> 0 | I33: =VLOOKUP(B33,'参加申込書(NO1~30)'!$A$9:$N$38,6,FALSE) -> 0 | J33: =VLOOKUP(B33,'参加申込書(NO1~30)'!$A$9:$N$38,12,FALSE) -> 0 | K33: =VLOOKUP(B33,'参加申込書(NO1~30)'!$A$9:$N$38,13,FALSE) -> 0 | S33: 42 | T33: =VLOOKUP(S33,'参加申込書(NO31~60)'!$A$9:$N$38,2,FALSE) -> 0 | U33: =VLOOKUP(S33,'参加申込書(NO31~60)'!$A$9:$N$38,4,FALSE) -> 0 | Z33: =VLOOKUP(S33,'参加申込書(NO31~60)'!$A$9:$N$38,6,FALSE) -> 0 | AA33: =VLOOKUP(S33,'参加申込書(NO31~60)'!$A$9:$N$38,12,FALSE) -> 0 | AB33: =VLOOKUP(S33,'参加申込書(NO31~60)'!$A$9:$N$38,13,FALSE) -> 0 | AK33: =B33 -> 17 | AL33: =C33 -> 0 | AM33: =D33 -> 0 | AN33: =E33 -> 0 | AO33: =F33 -> 0 | AP33: =G33 -> 0 | AQ33: =H33 -> 0 | AR33: =I33 -> 0 | ... AT33: =K33 -> 0
... B41: 25 | C41: =VLOOKUP(B41,'参加申込書(NO1~30)'!$A$9:$N$38,2,FALSE) -> 0 | D41: =VLOOKUP(B41,'参加申込書(NO1~30)'!$A$9:$N$38,4,FALSE) -> 0 | I41: =VLOOKUP(B41,'参加申込書(NO1~30)'!$A$9:$N$38,6,FALSE) -> 0 | J41: =VLOOKUP(B41,'参加申込書(NO1~30)'!$A$9:$N$38,12,FALSE) -> 0 | K41: =VLOOKUP(B41,'参加申込書(NO1~30)'!$A$9:$N$38,13,FALSE) -> 0 | S41: 50 | T41: =VLOOKUP(S41,'参加申込書(NO31~60)'!$A$9:$N$38,2,FALSE) -> 0 | U41: =VLOOKUP(S41,'参加申込書(NO31~60)'!$A$9:$N$38,4,FALSE) -> 0 | Z41: =VLOOKUP(S41,'参加申込書(NO31~60)'!$A$9:$N$38,6,FALSE) -> 0 | AA41: =VLOOKUP(S41,'参加申込書(NO31~60)'!$A$9:$N$38,12,FALSE) -> 0 | AB41: =VLOOKUP(S41,'参加申込書(NO31~60)'!$A$9:$N$38,13,FALSE) -> 0 | AK41: =B41 -> 25 | AL41: =C41 -> 0 | AM41: =D41 -> 0 | AN41: =E41 -> 0 | AO41: =F41 -> 0 | AP41: =G41 -> 0 | AQ41: =H41 -> 0 | AR41: =I41 -> 0 | ... AT41: =K41 -> 0
AK42: =S17 -> 26 | AL42: =T17 -> 0 | AM42: =U17 -> 0 | AN42: =V17 -> 0 | AO42: =W17 -> 0 | AP42: =X17 -> 0 | AQ42: =Y17 -> 0 | AR42: =Z17 -> 0 | ... AT42: =AB17 -> 0
B43: チーム集合写真を枠内に貼り付けてください セルに埋め込みでなく前面に貼っていただけると、 様々なPCで作業しやすいです。 ※１．写真の余白はトリミングをして、枠内に収まるようにお願いします。 ※２．合同チームは合同で１部作成して下さい。 ※３．パンフレットは白黒で印刷されます。 ※４.表の空欄は、専門部パンフレット係で削除しますので、そのままで結構です。 | AK43: =S18 -> 27 | AL43: =T18 -> 0 | AM43: =U18 -> 0 | AN43: =V18 -> 0 | AO43: =W18 -> 0 | AP43: =X18 -> 0 | AQ43: =Y18 -> 0 | AR43: =Z18 -> 0 | ... AT43: =AB18 -> 0
AK44: =S19 -> 28 | AL44: =T19 -> 0 | AM44: =U19 -> 0 | AN44: =V19 -> 0 | AO44: =W19 -> 0 | AP44: =X19 -> 0 | AQ44: =Y19 -> 0 | AR44: =Z19 -> 0 | ... AT44: =AB19 -> 0
AK45: =S20 -> 29 | AL45: =T20 -> 0 | AM45: =U20 -> 0 | AN45: =V20 -> 0 | AO45: =W20 -> 0 | AP45: =X20 -> 0 | AQ45: =Y20 -> 0 | AR45: =Z20 -> 0 | ... AT45: =AB20 -> 0
AK46: =S21 -> 30 | AL46: =T21 -> 0 | AM46: =U21 -> 0 | AN46: =V21 -> 0 | AO46: =W21 -> 0 | AP46: =X21 -> 0 | AQ46: =Y21 -> 0 | AR46: =Z21 -> 0 | ... AT46: =AB21 -> 0
AK47: =S22 -> 31 | AL47: =T22 -> 0 | AM47: =U22 -> 0 | AN47: =V22 -> 0 | AO47: =W22 -> 0 | AP47: =X22 -> 0 | AQ47: =Y22 -> 0 | AR47: =Z22 -> 0 | ... AT47: =AB22 -> 0
AK48: =S23 -> 32 | AL48: =T23 -> 0 | AM48: =U23 -> 0 | AN48: =V23 -> 0 | AO48: =W23 -> 0 | AP48: =X23 -> 0 | AQ48: =Y23 -> 0 | AR48: =Z23 -> 0 | ... AT48: =AB23 -> 0
AK49: =S24 -> 33 | AL49: =T24 -> 0 | AM49: =U24 -> 0 | AN49: =V24 -> 0 | AO49: =W24 -> 0 | AP49: =X24 -> 0 | AQ49: =Y24 -> 0 | AR49: =Z24 -> 0 | ... AT49: =AB24 -> 0
AK50: =S25 -> 34 | AL50: =T25 -> 0 | AM50: =U25 -> 0 | AN50: =V25 -> 0 | AO50: =W25 -> 0 | AP50: =X25 -> 0 | AQ50: =Y25 -> 0 | AR50: =Z25 -> 0 | ... AT50: =AB25 -> 0
AK51: =S26 -> 35 | AL51: =T26 -> 0 | AM51: =U26 -> 0 | AN51: =V26 -> 0 | AO51: =W26 -> 0 | AP51: =X26 -> 0 | AQ51: =Y26 -> 0 | AR51: =Z26 -> 0 | ... AT51: =AB26 -> 0
AK52: =S27 -> 36 | AL52: =T27 -> 0 | AM52: =U27 -> 0 | AN52: =V27 -> 0 | AO52: =W27 -> 0 | AP52: =X27 -> 0 | AQ52: =Y27 -> 0 | AR52: =Z27 -> 0 | ... AT52: =AB27 -> 0
AK53: =S28 -> 37 | AL53: =T28 -> 0 | AM53: =U28 -> 0 | AN53: =V28 -> 0 | AO53: =W28 -> 0 | AP53: =X28 -> 0 | AQ53: =Y28 -> 0 | AR53: =Z28 -> 0 | ... AT53: =AB28 -> 0
AK54: =S29 -> 38 | AL54: =T29 -> 0 | AM54: =U29 -> 0 | AN54: =V29 -> 0 | AO54: =W29 -> 0 | AP54: =X29 -> 0 | AQ54: =Y29 -> 0 | AR54: =Z29 -> 0 | ... AT54: =AB29 -> 0
AK55: =S30 -> 39 | AL55: =T30 -> 0 | AM55: =U30 -> 0 | AN55: =V30 -> 0 | AO55: =W30 -> 0 | AP55: =X30 -> 0 | AQ55: =Y30 -> 0 | AR55: =Z30 -> 0 | ... AT55: =AB30 -> 0
AD56: １枚目/２枚目中 | AK56: =S31 -> 40 | AL56: =T31 -> 0 | AM56: =U31 -> 0 | AN56: =V31 -> 0 | AO56: =W31 -> 0 | AP56: =X31 -> 0 | AQ56: =Y31 -> 0 | AR56: =Z31 -> 0 | ... AT56: =AB31 -> 0
B58: ☆ 校章 ☆ | E58: =E2 | U58: 〒 | V58: =V2 | AK58: =S32 -> 41 | AL58: =T32 -> 0 | AM58: =U32 -> 0 | AN58: =V32 -> 0 | AO58: =W32 -> 0 | AP58: =X32 -> 0 | AQ58: =Y32 -> 0 | AR58: =Z32 -> 0 | ... AT58: =AB32 -> 0
U59: =U3 | AK59: =S33 -> 42 | AL59: =T33 -> 0 | AM59: =U33 -> 0 | AN59: =V33 -> 0 | AO59: =W33 -> 0 | AP59: =X33 -> 0 | AQ59: =Y33 -> 0 | AR59: =Z33 -> 0 | ... AT59: =AB33 -> 0
AK60: =S34 -> 43 | AL60: =T34 -> 0 | AM60: =U34 -> 0 | AN60: =V34 -> 0 | AO60: =W34 -> 0 | AP60: =X34 -> 0 | AQ60: =Y34 -> 0 | AR60: =Z34 -> 0 | ... AT60: =AB34 -> 0
B61: 51 | C61: =VLOOKUP(B61,'参加申込書(NO31~60)'!$A$9:$N$38,2,FALSE) -> 0 | D61: =VLOOKUP(B61,'参加申込書(NO31~60)'!$A$9:$N$38,4,FALSE) -> 0 | I61: =VLOOKUP(B61,'参加申込書(NO31~60)'!$A$9:$N$38,6,FALSE) -> 0 | J61: =VLOOKUP(B61,'参加申込書(NO31~60)'!$A$9:$N$38,12,FALSE) -> 0 | K61: =VLOOKUP(B61,'参加申込書(NO31~60)'!$A$9:$N$38,13,FALSE) -> 0 | S61: 101 | T61: =VLOOKUP(S61,'参加申込書(NO91~120)'!$A$9:$N$38,2,FALSE) -> 0 | U61: =VLOOKUP(S61,'参加申込書(NO91~120)'!$A$9:$N$38,4,FALSE) -> 0 | Z61: =VLOOKUP(S61,'参加申込書(NO91~120)'!$A$9:$N$38,6,FALSE) -> 0 | AA61: =VLOOKUP(S61,'参加申込書(NO91~120)'!$A$9:$N$38,12,FALSE) -> 0 | AB61: =VLOOKUP(S61,'参加申込書(NO91~120)'!$A$9:$N$38,13,FALSE) -> 0 | AK61: =S35 -> 44 | AL61: =T35 -> 0 | AM61: =U35 -> 0 | AN61: =V35 -> 0 | AO61: =W35 -> 0 | AP61: =X35 -> 0 | AQ61: =Y35 -> 0 | AR61: =Z35 -> 0 | ... AT61: =AB35 -> 0
B62: 52 | C62: =VLOOKUP(B62,'参加申込書(NO31~60)'!$A$9:$N$38,2,FALSE) -> 0 | D62: =VLOOKUP(B62,'参加申込書(NO31~60)'!$A$9:$N$38,4,FALSE) -> 0 | I62: =VLOOKUP(B62,'参加申込書(NO31~60)'!$A$9:$N$38,6,FALSE) -> 0 | J62: =VLOOKUP(B62,'参加申込書(NO31~60)'!$A$9:$N$38,12,FALSE) -> 0 | K62: =VLOOKUP(B62,'参加申込書(NO31~60)'!$A$9:$N$38,13,FALSE) -> 0 | S62: 102 | T62: =VLOOKUP(S62,'参加申込書(NO91~120)'!$A$9:$N$38,2,FALSE) -> 0 | U62: =VLOOKUP(S62,'参加申込書(NO91~120)'!$A$9:$N$38,4,FALSE) -> 0 | Z62: =VLOOKUP(S62,'参加申込書(NO91~120)'!$A$9:$N$38,6,FALSE) -> 0 | AA62: =VLOOKUP(S62,'参加申込書(NO91~120)'!$A$9:$N$38,12,FALSE) -> 0 | AB62: =VLOOKUP(S62,'参加申込書(NO91~120)'!$A$9:$N$38,13,FALSE) -> 0 | AK62: =S36 -> 45 | AL62: =T36 -> 0 | AM62: =U36 -> 0 | AN62: =V36 -> 0 | AO62: =W36 -> 0 | AP62: =X36 -> 0 | AQ62: =Y36 -> 0 | AR62: =Z36 -> 0 | ... AT62: =AB36 -> 0
B63: 53 | C63: =VLOOKUP(B63,'参加申込書(NO31~60)'!$A$9:$N$38,2,FALSE) -> 0 | D63: =VLOOKUP(B63,'参加申込書(NO31~60)'!$A$9:$N$38,4,FALSE) -> 0 | I63: =VLOOKUP(B63,'参加申込書(NO31~60)'!$A$9:$N$38,6,FALSE) -> 0 | J63: =VLOOKUP(B63,'参加申込書(NO31~60)'!$A$9:$N$38,12,FALSE) -> 0 | K63: =VLOOKUP(B63,'参加申込書(NO31~60)'!$A$9:$N$38,13,FALSE) -> 0 | S63: 103 | T63: =VLOOKUP(S63,'参加申込書(NO91~120)'!$A$9:$N$38,2,FALSE) -> 0 | U63: =VLOOKUP(S63,'参加申込書(NO91~120)'!$A$9:$N$38,4,FALSE) -> 0 | Z63: =VLOOKUP(S63,'参加申込書(NO91~120)'!$A$9:$N$38,6,FALSE) -> 0 | AA63: =VLOOKUP(S63,'参加申込書(NO91~120)'!$A$9:$N$38,12,FALSE) -> 0 | AB63: =VLOOKUP(S63,'参加申込書(NO91~120)'!$A$9:$N$38,13,FALSE) -> 0 | AK63: =S37 -> 46 | AL63: =T37 -> 0 | AM63: =U37 -> 0 | AN63: =V37 -> 0 | AO63: =W37 -> 0 | AP63: =X37 -> 0 | AQ63: =Y37 -> 0 | AR63: =Z37 -> 0 | ... AT63: =AB37 -> 0
B64: 54 | C64: =VLOOKUP(B64,'参加申込書(NO31~60)'!$A$9:$N$38,2,FALSE) -> 0 | D64: =VLOOKUP(B64,'参加申込書(NO31~60)'!$A$9:$N$38,4,FALSE) -> 0 | I64: =VLOOKUP(B64,'参加申込書(NO31~60)'!$A$9:$N$38,6,FALSE) -> 0 | J64: =VLOOKUP(B64,'参加申込書(NO31~60)'!$A$9:$N$38,12,FALSE) -> 0 | K64: =VLOOKUP(B64,'参加申込書(NO31~60)'!$A$9:$N$38,13,FALSE) -> 0 | S64: 104 | T64: =VLOOKUP(S64,'参加申込書(NO91~120)'!$A$9:$N$38,2,FALSE) -> 0 | U64: =VLOOKUP(S64,'参加申込書(NO91~120)'!$A$9:$N$38,4,FALSE) -> 0 | Z64: =VLOOKUP(S64,'参加申込書(NO91~120)'!$A$9:$N$38,6,FALSE) -> 0 | AA64: =VLOOKUP(S64,'参加申込書(NO91~120)'!$A$9:$N$38,12,FALSE) -> 0 | AB64: =VLOOKUP(S64,'参加申込書(NO91~120)'!$A$9:$N$38,13,FALSE) -> 0 | AK64: =S38 -> 47 | AL64: =T38 -> 0 | AM64: =U38 -> 0 | AN64: =V38 -> 0 | AO64: =W38 -> 0 | AP64: =X38 -> 0 | AQ64: =Y38 -> 0 | AR64: =Z38 -> 0 | ... AT64: =AB38 -> 0
B65: 55 | C65: =VLOOKUP(B65,'参加申込書(NO31~60)'!$A$9:$N$38,2,FALSE) -> 0 | D65: =VLOOKUP(B65,'参加申込書(NO31~60)'!$A$9:$N$38,4,FALSE) -> 0 | I65: =VLOOKUP(B65,'参加申込書(NO31~60)'!$A$9:$N$38,6,FALSE) -> 0 | J65: =VLOOKUP(B65,'参加申込書(NO31~60)'!$A$9:$N$38,12,FALSE) -> 0 | K65: =VLOOKUP(B65,'参加申込書(NO31~60)'!$A$9:$N$38,13,FALSE) -> 0 | S65: 105 | T65: =VLOOKUP(S65,'参加申込書(NO91~120)'!$A$9:$N$38,2,FALSE) -> 0 | U65: =VLOOKUP(S65,'参加申込書(NO91~120)'!$A$9:$N$38,4,FALSE) -> 0 | Z65: =VLOOKUP(S65,'参加申込書(NO91~120)'!$A$9:$N$38,6,FALSE) -> 0 | AA65: =VLOOKUP(S65,'参加申込書(NO91~120)'!$A$9:$N$38,12,FALSE) -> 0 | AB65: =VLOOKUP(S65,'参加申込書(NO91~120)'!$A$9:$N$38,13,FALSE) -> 0 | AK65: =S39 -> 48 | AL65: =T39 -> 0 | AM65: =U39 -> 0 | AN65: =V39 -> 0 | AO65: =W39 -> 0 | AP65: =X39 -> 0 | AQ65: =Y39 -> 0 | AR65: =Z39 -> 0 | ... AT65: =AB39 -> 0
B66: 56 | C66: =VLOOKUP(B66,'参加申込書(NO31~60)'!$A$9:$N$38,2,FALSE) -> 0 | D66: =VLOOKUP(B66,'参加申込書(NO31~60)'!$A$9:$N$38,4,FALSE) -> 0 | I66: =VLOOKUP(B66,'参加申込書(NO31~60)'!$A$9:$N$38,6,FALSE) -> 0 | J66: =VLOOKUP(B66,'参加申込書(NO31~60)'!$A$9:$N$38,12,FALSE) -> 0 | K66: =VLOOKUP(B66,'参加申込書(NO31~60)'!$A$9:$N$38,13,FALSE) -> 0 | S66: 106 | T66: =VLOOKUP(S66,'参加申込書(NO91~120)'!$A$9:$N$38,2,FALSE) -> 0 | U66: =VLOOKUP(S66,'参加申込書(NO91~120)'!$A$9:$N$38,4,FALSE) -> 0 | Z66: =VLOOKUP(S66,'参加申込書(NO91~120)'!$A$9:$N$38,6,FALSE) -> 0 | AA66: =VLOOKUP(S66,'参加申込書(NO91~120)'!$A$9:$N$38,12,FALSE) -> 0 | AB66: =VLOOKUP(S66,'参加申込書(NO91~120)'!$A$9:$N$38,13,FALSE) -> 0 | AK66: =S40 -> 49 | AL66: =T40 -> 0 | AM66: =U40 -> 0 | AN66: =V40 -> 0 | AO66: =W40 -> 0 | AP66: =X40 -> 0 | AQ66: =Y40 -> 0 | AR66: =Z40 -> 0 | ... AT66: =AB40 -> 0
B67: 57 | C67: =VLOOKUP(B67,'参加申込書(NO31~60)'!$A$9:$N$38,2,FALSE) -> 0 | D67: =VLOOKUP(B67,'参加申込書(NO31~60)'!$A$9:$N$38,4,FALSE) -> 0 | I67: =VLOOKUP(B67,'参加申込書(NO31~60)'!$A$9:$N$38,6,FALSE) -> 0 | J67: =VLOOKUP(B67,'参加申込書(NO31~60)'!$A$9:$N$38,12,FALSE) -> 0 | K67: =VLOOKUP(B67,'参加申込書(NO31~60)'!$A$9:$N$38,13,FALSE) -> 0 | S67: 107 | T67: =VLOOKUP(S67,'参加申込書(NO91~120)'!$A$9:$N$38,2,FALSE) -> 0 | U67: =VLOOKUP(S67,'参加申込書(NO91~120)'!$A$9:$N$38,4,FALSE) -> 0 | Z67: =VLOOKUP(S67,'参加申込書(NO91~120)'!$A$9:$N$38,6,FALSE) -> 0 | AA67: =VLOOKUP(S67,'参加申込書(NO91~120)'!$A$9:$N$38,12,FALSE) -> 0 | AB67: =VLOOKUP(S67,'参加申込書(NO91~120)'!$A$9:$N$38,13,FALSE) -> 0 | AK67: =S41 -> 50 | AL67: =T41 -> 0 | AM67: =U41 -> 0 | AN67: =V41 -> 0 | AO67: =W41 -> 0 | AP67: =X41 -> 0 | AQ67: =Y41 -> 0 | AR67: =Z41 -> 0 | ... AT67: =AB41 -> 0
B68: 58 | C68: =VLOOKUP(B68,'参加申込書(NO31~60)'!$A$9:$N$38,2,FALSE) -> 0 | D68: =VLOOKUP(B68,'参加申込書(NO31~60)'!$A$9:$N$38,4,FALSE) -> 0 | I68: =VLOOKUP(B68,'参加申込書(NO31~60)'!$A$9:$N$38,6,FALSE) -> 0 | J68: =VLOOKUP(B68,'参加申込書(NO31~60)'!$A$9:$N$38,12,FALSE) -> 0 | K68: =VLOOKUP(B68,'参加申込書(NO31~60)'!$A$9:$N$38,13,FALSE) -> 0 | S68: 108 | T68: =VLOOKUP(S68,'参加申込書(NO91~120)'!$A$9:$N$38,2,FALSE) -> 0 | U68: =VLOOKUP(S68,'参加申込書(NO91~120)'!$A$9:$N$38,4,FALSE) -> 0 | Z68: =VLOOKUP(S68,'参加申込書(NO91~120)'!$A$9:$N$38,6,FALSE) -> 0 | AA68: =VLOOKUP(S68,'参加申込書(NO91~120)'!$A$9:$N$38,12,FALSE) -> 0 | AB68: =VLOOKUP(S68,'参加申込書(NO91~120)'!$A$9:$N$38,13,FALSE) -> 0 | AK68: =B61 -> 51 | AL68: =C61 -> 0 | AM68: =D61 -> 0 | AN68: =E61 -> 0 | AO68: =F61 -> 0 | AP68: =G61 -> 0 | AQ68: =H61 -> 0 | AR68: =I61 -> 0 | ... AT68: =K61 -> 0
B69: 59 | C69: =VLOOKUP(B69,'参加申込書(NO31~60)'!$A$9:$N$38,2,FALSE) -> 0 | D69: =VLOOKUP(B69,'参加申込書(NO31~60)'!$A$9:$N$38,4,FALSE) -> 0 | I69: =VLOOKUP(B69,'参加申込書(NO31~60)'!$A$9:$N$38,6,FALSE) -> 0 | J69: =VLOOKUP(B69,'参加申込書(NO31~60)'!$A$9:$N$38,12,FALSE) -> 0 | K69: =VLOOKUP(B69,'参加申込書(NO31~60)'!$A$9:$N$38,13,FALSE) -> 0 | S69: 109 | T69: =VLOOKUP(S69,'参加申込書(NO91~120)'!$A$9:$N$38,2,FALSE) -> 0 | U69: =VLOOKUP(S69,'参加申込書(NO91~120)'!$A$9:$N$38,4,FALSE) -> 0 | Z69: =VLOOKUP(S69,'参加申込書(NO91~120)'!$A$9:$N$38,6,FALSE) -> 0 | AA69: =VLOOKUP(S69,'参加申込書(NO91~120)'!$A$9:$N$38,12,FALSE) -> 0 | AB69: =VLOOKUP(S69,'参加申込書(NO91~120)'!$A$9:$N$38,13,FALSE) -> 0 | AK69: =B62 -> 52 | AL69: =C62 -> 0 | AM69: =D62 -> 0 | AN69: =E62 -> 0 | AO69: =F62 -> 0 | AP69: =G62 -> 0 | AQ69: =H62 -> 0 | AR69: =I62 -> 0 | ... AT69: =K62 -> 0
B70: 60 | C70: =VLOOKUP(B70,'参加申込書(NO31~60)'!$A$9:$N$38,2,FALSE) -> 0 | D70: =VLOOKUP(B70,'参加申込書(NO31~60)'!$A$9:$N$38,4,FALSE) -> 0 | I70: =VLOOKUP(B70,'参加申込書(NO31~60)'!$A$9:$N$38,6,FALSE) -> 0 | J70: =VLOOKUP(B70,'参加申込書(NO31~60)'!$A$9:$N$38,12,FALSE) -> 0 | K70: =VLOOKUP(B70,'参加申込書(NO31~60)'!$A$9:$N$38,13,FALSE) -> 0 | S70: 110 | T70: =VLOOKUP(S70,'参加申込書(NO91~120)'!$A$9:$N$38,2,FALSE) -> 0 | U70: =VLOOKUP(S70,'参加申込書(NO91~120)'!$A$9:$N$38,4,FALSE) -> 0 | Z70: =VLOOKUP(S70,'参加申込書(NO91~120)'!$A$9:$N$38,6,FALSE) -> 0 | AA70: =VLOOKUP(S70,'参加申込書(NO91~120)'!$A$9:$N$38,12,FALSE) -> 0 | AB70: =VLOOKUP(S70,'参加申込書(NO91~120)'!$A$9:$N$38,13,FALSE) -> 0 | AK70: =B63 -> 53 | AL70: =C63 -> 0 | AM70: =D63 -> 0 | AN70: =E63 -> 0 | AO70: =F63 -> 0 | AP70: =G63 -> 0 | AQ70: =H63 -> 0 | AR70: =I63 -> 0 | ... AT70: =K63 -> 0
B71: 61 | C71: =VLOOKUP(B71,'参加申込書(NO61~90)'!$A$9:$N$38,2,FALSE) -> 0 | D71: =VLOOKUP(B71,'参加申込書(NO61~90)'!$A$9:$N$38,4,FALSE) -> 0 | I71: =VLOOKUP(B71,'参加申込書(NO61~90)'!$A$9:$N$38,6,FALSE) -> 0 | J71: =VLOOKUP(B71,'参加申込書(NO61~90)'!$A$9:$N$38,12,FALSE) -> 0 | K71: =VLOOKUP(B71,'参加申込書(NO61~90)'!$A$9:$N$38,13,FALSE) -> 0 | S71: 111 | T71: =VLOOKUP(S71,'参加申込書(NO91~120)'!$A$9:$N$38,2,FALSE) -> 0 | U71: =VLOOKUP(S71,'参加申込書(NO91~120)'!$A$9:$N$38,4,FALSE) -> 0 | Z71: =VLOOKUP(S71,'参加申込書(NO91~120)'!$A$9:$N$38,6,FALSE) -> 0 | AA71: =VLOOKUP(S71,'参加申込書(NO91~120)'!$A$9:$N$38,12,FALSE) -> 0 | AB71: =VLOOKUP(S71,'参加申込書(NO91~120)'!$A$9:$N$38,13,FALSE) -> 0 | AK71: =B64 -> 54 | AL71: =C64 -> 0 | AM71: =D64 -> 0 | AN71: =E64 -> 0 | AO71: =F64 -> 0 | AP71: =G64 -> 0 | AQ71: =H64 -> 0 | AR71: =I64 -> 0 | ... AT71: =K64 -> 0
B72: 62 | C72: =VLOOKUP(B72,'参加申込書(NO61~90)'!$A$9:$N$38,2,FALSE) -> 0 | D72: =VLOOKUP(B72,'参加申込書(NO61~90)'!$A$9:$N$38,4,FALSE) -> 0 | I72: =VLOOKUP(B72,'参加申込書(NO61~90)'!$A$9:$N$38,6,FALSE) -> 0 | J72: =VLOOKUP(B72,'参加申込書(NO61~90)'!$A$9:$N$38,12,FALSE) -> 0 | K72: =VLOOKUP(B72,'参加申込書(NO61~90)'!$A$9:$N$38,13,FALSE) -> 0 | S72: 112 | T72: =VLOOKUP(S72,'参加申込書(NO91~120)'!$A$9:$N$38,2,FALSE) -> 0 | U72: =VLOOKUP(S72,'参加申込書(NO91~120)'!$A$9:$N$38,4,FALSE) -> 0 | Z72: =VLOOKUP(S72,'参加申込書(NO91~120)'!$A$9:$N$38,6,FALSE) -> 0 | AA72: =VLOOKUP(S72,'参加申込書(NO91~120)'!$A$9:$N$38,12,FALSE) -> 0 | AB72: =VLOOKUP(S72,'参加申込書(NO91~120)'!$A$9:$N$38,13,FALSE) -> 0 | AK72: =B65 -> 55 | AL72: =C65 -> 0 | AM72: =D65 -> 0 | AN72: =E65 -> 0 | AO72: =F65 -> 0 | AP72: =G65 -> 0 | AQ72: =H65 -> 0 | AR72: =I65 -> 0 | ... AT72: =K65 -> 0
B73: 63 | C73: =VLOOKUP(B73,'参加申込書(NO61~90)'!$A$9:$N$38,2,FALSE) -> 0 | D73: =VLOOKUP(B73,'参加申込書(NO61~90)'!$A$9:$N$38,4,FALSE) -> 0 | I73: =VLOOKUP(B73,'参加申込書(NO61~90)'!$A$9:$N$38,6,FALSE) -> 0 | J73: =VLOOKUP(B73,'参加申込書(NO61~90)'!$A$9:$N$38,12,FALSE) -> 0 | K73: =VLOOKUP(B73,'参加申込書(NO61~90)'!$A$9:$N$38,13,FALSE) -> 0 | S73: 113 | T73: =VLOOKUP(S73,'参加申込書(NO91~120)'!$A$9:$N$38,2,FALSE) -> 0 | U73: =VLOOKUP(S73,'参加申込書(NO91~120)'!$A$9:$N$38,4,FALSE) -> 0 | Z73: =VLOOKUP(S73,'参加申込書(NO91~120)'!$A$9:$N$38,6,FALSE) -> 0 | AA73: =VLOOKUP(S73,'参加申込書(NO91~120)'!$A$9:$N$38,12,FALSE) -> 0 | AB73: =VLOOKUP(S73,'参加申込書(NO91~120)'!$A$9:$N$38,13,FALSE) -> 0 | AK73: =B66 -> 56 | AL73: =C66 -> 0 | AM73: =D66 -> 0 | AN73: =E66 -> 0 | AO73: =F66 -> 0 | AP73: =G66 -> 0 | AQ73: =H66 -> 0 | AR73: =I66 -> 0 | ... AT73: =K66 -> 0
B74: 64 | C74: =VLOOKUP(B74,'参加申込書(NO61~90)'!$A$9:$N$38,2,FALSE) -> 0 | D74: =VLOOKUP(B74,'参加申込書(NO61~90)'!$A$9:$N$38,4,FALSE) -> 0 | I74: =VLOOKUP(B74,'参加申込書(NO61~90)'!$A$9:$N$38,6,FALSE) -> 0 | J74: =VLOOKUP(B74,'参加申込書(NO61~90)'!$A$9:$N$38,12,FALSE) -> 0 | K74: =VLOOKUP(B74,'参加申込書(NO61~90)'!$A$9:$N$38,13,FALSE) -> 0 | S74: 114 | T74: =VLOOKUP(S74,'参加申込書(NO91~120)'!$A$9:$N$38,2,FALSE) -> 0 | U74: =VLOOKUP(S74,'参加申込書(NO91~120)'!$A$9:$N$38,4,FALSE) -> 0 | Z74: =VLOOKUP(S74,'参加申込書(NO91~120)'!$A$9:$N$38,6,FALSE) -> 0 | AA74: =VLOOKUP(S74,'参加申込書(NO91~120)'!$A$9:$N$38,12,FALSE) -> 0 | AB74: =VLOOKUP(S74,'参加申込書(NO91~120)'!$A$9:$N$38,13,FALSE) -> 0 | AK74: =B67 -> 57 | AL74: =C67 -> 0 | AM74: =D67 -> 0 | AN74: =E67 -> 0 | AO74: =F67 -> 0 | AP74: =G67 -> 0 | AQ74: =H67 -> 0 | AR74: =I67 -> 0 | ... AT74: =K67 -> 0
B75: 65 | C75: =VLOOKUP(B75,'参加申込書(NO61~90)'!$A$9:$N$38,2,FALSE) -> 0 | D75: =VLOOKUP(B75,'参加申込書(NO61~90)'!$A$9:$N$38,4,FALSE) -> 0 | I75: =VLOOKUP(B75,'参加申込書(NO61~90)'!$A$9:$N$38,6,FALSE) -> 0 | J75: =VLOOKUP(B75,'参加申込書(NO61~90)'!$A$9:$N$38,12,FALSE) -> 0 | K75: =VLOOKUP(B75,'参加申込書(NO61~90)'!$A$9:$N$38,13,FALSE) -> 0 | S75: 115 | T75: =VLOOKUP(S75,'参加申込書(NO91~120)'!$A$9:$N$38,2,FALSE) -> 0 | U75: =VLOOKUP(S75,'参加申込書(NO91~120)'!$A$9:$N$38,4,FALSE) -> 0 | Z75: =VLOOKUP(S75,'参加申込書(NO91~120)'!$A$9:$N$38,6,FALSE) -> 0 | AA75: =VLOOKUP(S75,'参加申込書(NO91~120)'!$A$9:$N$38,12,FALSE) -> 0 | AB75: =VLOOKUP(S75,'参加申込書(NO91~120)'!$A$9:$N$38,13,FALSE) -> 0 | AK75: =B68 -> 58 | AL75: =C68 -> 0 | AM75: =D68 -> 0 | AN75: =E68 -> 0 | AO75: =F68 -> 0 | AP75: =G68 -> 0 | AQ75: =H68 -> 0 | AR75: =I68 -> 0 | ... AT75: =K68 -> 0
B76: 66 | C76: =VLOOKUP(B76,'参加申込書(NO61~90)'!$A$9:$N$38,2,FALSE) -> 0 | D76: =VLOOKUP(B76,'参加申込書(NO61~90)'!$A$9:$N$38,4,FALSE) -> 0 | I76: =VLOOKUP(B76,'参加申込書(NO61~90)'!$A$9:$N$38,6,FALSE) -> 0 | J76: =VLOOKUP(B76,'参加申込書(NO61~90)'!$A$9:$N$38,12,FALSE) -> 0 | K76: =VLOOKUP(B76,'参加申込書(NO61~90)'!$A$9:$N$38,13,FALSE) -> 0 | S76: 116 | T76: =VLOOKUP(S76,'参加申込書(NO91~120)'!$A$9:$N$38,2,FALSE) -> 0 | U76: =VLOOKUP(S76,'参加申込書(NO91~120)'!$A$9:$N$38,4,FALSE) -> 0 | Z76: =VLOOKUP(S76,'参加申込書(NO91~120)'!$A$9:$N$38,6,FALSE) -> 0 | AA76: =VLOOKUP(S76,'参加申込書(NO91~120)'!$A$9:$N$38,12,FALSE) -> 0 | AB76: =VLOOKUP(S76,'参加申込書(NO91~120)'!$A$9:$N$38,13,FALSE) -> 0 | AK76: =B69 -> 59 | AL76: =C69 -> 0 | AM76: =D69 -> 0 | AN76: =E69 -> 0 | AO76: =F69 -> 0 | AP76: =G69 -> 0 | AQ76: =H69 -> 0 | AR76: =I69 -> 0 | ... AT76: =K69 -> 0
B77: 67 | C77: =VLOOKUP(B77,'参加申込書(NO61~90)'!$A$9:$N$38,2,FALSE) -> 0 | D77: =VLOOKUP(B77,'参加申込書(NO61~90)'!$A$9:$N$38,4,FALSE) -> 0 | I77: =VLOOKUP(B77,'参加申込書(NO61~90)'!$A$9:$N$38,6,FALSE) -> 0 | J77: =VLOOKUP(B77,'参加申込書(NO61~90)'!$A$9:$N$38,12,FALSE) -> 0 | K77: =VLOOKUP(B77,'参加申込書(NO61~90)'!$A$9:$N$38,13,FALSE) -> 0 | S77: 117 | T77: =VLOOKUP(S77,'参加申込書(NO91~120)'!$A$9:$N$38,2,FALSE) -> 0 | U77: =VLOOKUP(S77,'参加申込書(NO91~120)'!$A$9:$N$38,4,FALSE) -> 0 | Z77: =VLOOKUP(S77,'参加申込書(NO91~120)'!$A$9:$N$38,6,FALSE) -> 0 | AA77: =VLOOKUP(S77,'参加申込書(NO91~120)'!$A$9:$N$38,12,FALSE) -> 0 | AB77: =VLOOKUP(S77,'参加申込書(NO91~120)'!$A$9:$N$38,13,FALSE) -> 0 | AK77: =B70 -> 60 | AL77: =C70 -> 0 | AM77: =D70 -> 0 | AN77: =E70 -> 0 | AO77: =F70 -> 0 | AP77: =G70 -> 0 | AQ77: =H70 -> 0 | AR77: =I70 -> 0 | ... AT77: =K70 -> 0
B78: 68 | C78: =VLOOKUP(B78,'参加申込書(NO61~90)'!$A$9:$N$38,2,FALSE) -> 0 | D78: =VLOOKUP(B78,'参加申込書(NO61~90)'!$A$9:$N$38,4,FALSE) -> 0 | I78: =VLOOKUP(B78,'参加申込書(NO61~90)'!$A$9:$N$38,6,FALSE) -> 0 | J78: =VLOOKUP(B78,'参加申込書(NO61~90)'!$A$9:$N$38,12,FALSE) -> 0 | K78: =VLOOKUP(B78,'参加申込書(NO61~90)'!$A$9:$N$38,13,FALSE) -> 0 | S78: 118 | T78: =VLOOKUP(S78,'参加申込書(NO91~120)'!$A$9:$N$38,2,FALSE) -> 0 | U78: =VLOOKUP(S78,'参加申込書(NO91~120)'!$A$9:$N$38,4,FALSE) -> 0 | Z78: =VLOOKUP(S78,'参加申込書(NO91~120)'!$A$9:$N$38,6,FALSE) -> 0 | AA78: =VLOOKUP(S78,'参加申込書(NO91~120)'!$A$9:$N$38,12,FALSE) -> 0 | AB78: =VLOOKUP(S78,'参加申込書(NO91~120)'!$A$9:$N$38,13,FALSE) -> 0 | AK78: =B71 -> 61 | AL78: =C71 -> 0 | AM78: =D71 -> 0 | AN78: =E71 -> 0 | AO78: =F71 -> 0 | AP78: =G71 -> 0 | AQ78: =H71 -> 0 | AR78: =I71 -> 0 | ... AT78: =K71 -> 0
B79: 69 | C79: =VLOOKUP(B79,'参加申込書(NO61~90)'!$A$9:$N$38,2,FALSE) -> 0 | D79: =VLOOKUP(B79,'参加申込書(NO61~90)'!$A$9:$N$38,4,FALSE) -> 0 | I79: =VLOOKUP(B79,'参加申込書(NO61~90)'!$A$9:$N$38,6,FALSE) -> 0 | J79: =VLOOKUP(B79,'参加申込書(NO61~90)'!$A$9:$N$38,12,FALSE) -> 0 | K79: =VLOOKUP(B79,'参加申込書(NO61~90)'!$A$9:$N$38,13,FALSE) -> 0 | S79: 119 | T79: =VLOOKUP(S79,'参加申込書(NO91~120)'!$A$9:$N$38,2,FALSE) -> 0 | U79: =VLOOKUP(S79,'参加申込書(NO91~120)'!$A$9:$N$38,4,FALSE) -> 0 | Z79: =VLOOKUP(S79,'参加申込書(NO91~120)'!$A$9:$N$38,6,FALSE) -> 0 | AA79: =VLOOKUP(S79,'参加申込書(NO91~120)'!$A$9:$N$38,12,FALSE) -> 0 | AB79: =VLOOKUP(S79,'参加申込書(NO91~120)'!$A$9:$N$38,13,FALSE) -> 0 | AK79: =B72 -> 62 | AL79: =C72 -> 0 | AM79: =D72 -> 0 | AN79: =E72 -> 0 | AO79: =F72 -> 0 | AP79: =G72 -> 0 | AQ79: =H72 -> 0 | AR79: =I72 -> 0 | ... AT79: =K72 -> 0
B80: 70 | C80: =VLOOKUP(B80,'参加申込書(NO61~90)'!$A$9:$N$38,2,FALSE) -> 0 | D80: =VLOOKUP(B80,'参加申込書(NO61~90)'!$A$9:$N$38,4,FALSE) -> 0 | I80: =VLOOKUP(B80,'参加申込書(NO61~90)'!$A$9:$N$38,6,FALSE) -> 0 | J80: =VLOOKUP(B80,'参加申込書(NO61~90)'!$A$9:$N$38,12,FALSE) -> 0 | K80: =VLOOKUP(B80,'参加申込書(NO61~90)'!$A$9:$N$38,13,FALSE) -> 0 | S80: 120 | T80: =VLOOKUP(S80,'参加申込書(NO91~120)'!$A$9:$N$38,2,FALSE) -> 0 | U80: =VLOOKUP(S80,'参加申込書(NO91~120)'!$A$9:$N$38,4,FALSE) -> 0 | Z80: =VLOOKUP(S80,'参加申込書(NO91~120)'!$A$9:$N$38,6,FALSE) -> 0 | AA80: =VLOOKUP(S80,'参加申込書(NO91~120)'!$A$9:$N$38,12,FALSE) -> 0 | AB80: =VLOOKUP(S80,'参加申込書(NO91~120)'!$A$9:$N$38,13,FALSE) -> 0 | AK80: =B73 -> 63 | AL80: =C73 -> 0 | AM80: =D73 -> 0 | AN80: =E73 -> 0 | AO80: =F73 -> 0 | AP80: =G73 -> 0 | AQ80: =H73 -> 0 | AR80: =I73 -> 0 | ... AT80: =K73 -> 0
B81: 71 | C81: =VLOOKUP(B81,'参加申込書(NO61~90)'!$A$9:$N$38,2,FALSE) -> 0 | D81: =VLOOKUP(B81,'参加申込書(NO61~90)'!$A$9:$N$38,4,FALSE) -> 0 | I81: =VLOOKUP(B81,'参加申込書(NO61~90)'!$A$9:$N$38,6,FALSE) -> 0 | J81: =VLOOKUP(B81,'参加申込書(NO61~90)'!$A$9:$N$38,12,FALSE) -> 0 | K81: =VLOOKUP(B81,'参加申込書(NO61~90)'!$A$9:$N$38,13,FALSE) -> 0 | S81: 121 | T81: =VLOOKUP(S81,'参加申込書(NO121~150)'!$A$9:$N$38,2,FALSE) -> 0 | U81: =VLOOKUP(S81,'参加申込書(NO121~150)'!$A$9:$N$38,4,FALSE) -> 0 | Z81: =VLOOKUP(S81,'参加申込書(NO121~150)'!$A$9:$N$38,6,FALSE) -> 0 | AA81: =VLOOKUP(S81,'参加申込書(NO121~150)'!$A$9:$N$38,12,FALSE) -> 0 | AB81: =VLOOKUP(S81,'参加申込書(NO121~150)'!$A$9:$N$38,13,FALSE) -> 0 | AK81: =B74 -> 64 | AL81: =C74 -> 0 | AM81: =D74 -> 0 | AN81: =E74 -> 0 | AO81: =F74 -> 0 | AP81: =G74 -> 0 | AQ81: =H74 -> 0 | AR81: =I74 -> 0 | ... AT81: =K74 -> 0
B82: 72 | C82: =VLOOKUP(B82,'参加申込書(NO61~90)'!$A$9:$N$38,2,FALSE) -> 0 | D82: =VLOOKUP(B82,'参加申込書(NO61~90)'!$A$9:$N$38,4,FALSE) -> 0 | I82: =VLOOKUP(B82,'参加申込書(NO61~90)'!$A$9:$N$38,6,FALSE) -> 0 | J82: =VLOOKUP(B82,'参加申込書(NO61~90)'!$A$9:$N$38,12,FALSE) -> 0 | K82: =VLOOKUP(B82,'参加申込書(NO61~90)'!$A$9:$N$38,13,FALSE) -> 0 | S82: 122 | T82: =VLOOKUP(S82,'参加申込書(NO121~150)'!$A$9:$N$38,2,FALSE) -> 0 | U82: =VLOOKUP(S82,'参加申込書(NO121~150)'!$A$9:$N$38,4,FALSE) -> 0 | Z82: =VLOOKUP(S82,'参加申込書(NO121~150)'!$A$9:$N$38,6,FALSE) -> 0 | AA82: =VLOOKUP(S82,'参加申込書(NO121~150)'!$A$9:$N$38,12,FALSE) -> 0 | AB82: =VLOOKUP(S82,'参加申込書(NO121~150)'!$A$9:$N$38,13,FALSE) -> 0 | AK82: =B75 -> 65 | AL82: =C75 -> 0 | AM82: =D75 -> 0 | AN82: =E75 -> 0 | AO82: =F75 -> 0 | AP82: =G75 -> 0 | AQ82: =H75 -> 0 | AR82: =I75 -> 0 | ... AT82: =K75 -> 0
B83: 73 | C83: =VLOOKUP(B83,'参加申込書(NO61~90)'!$A$9:$N$38,2,FALSE) -> 0 | D83: =VLOOKUP(B83,'参加申込書(NO61~90)'!$A$9:$N$38,4,FALSE) -> 0 | I83: =VLOOKUP(B83,'参加申込書(NO61~90)'!$A$9:$N$38,6,FALSE) -> 0 | J83: =VLOOKUP(B83,'参加申込書(NO61~90)'!$A$9:$N$38,12,FALSE) -> 0 | K83: =VLOOKUP(B83,'参加申込書(NO61~90)'!$A$9:$N$38,13,FALSE) -> 0 | S83: 123 | T83: =VLOOKUP(S83,'参加申込書(NO121~150)'!$A$9:$N$38,2,FALSE) -> 0 | U83: =VLOOKUP(S83,'参加申込書(NO121~150)'!$A$9:$N$38,4,FALSE) -> 0 | Z83: =VLOOKUP(S83,'参加申込書(NO121~150)'!$A$9:$N$38,6,FALSE) -> 0 | AA83: =VLOOKUP(S83,'参加申込書(NO121~150)'!$A$9:$N$38,12,FALSE) -> 0 | AB83: =VLOOKUP(S83,'参加申込書(NO121~150)'!$A$9:$N$38,13,FALSE) -> 0 | AK83: =B76 -> 66 | AL83: =C76 -> 0 | AM83: =D76 -> 0 | AN83: =E76 -> 0 | AO83: =F76 -> 0 | AP83: =G76 -> 0 | AQ83: =H76 -> 0 | AR83: =I76 -> 0 | ... AT83: =K76 -> 0
B84: 74 | C84: =VLOOKUP(B84,'参加申込書(NO61~90)'!$A$9:$N$38,2,FALSE) -> 0 | D84: =VLOOKUP(B84,'参加申込書(NO61~90)'!$A$9:$N$38,4,FALSE) -> 0 | I84: =VLOOKUP(B84,'参加申込書(NO61~90)'!$A$9:$N$38,6,FALSE) -> 0 | J84: =VLOOKUP(B84,'参加申込書(NO61~90)'!$A$9:$N$38,12,FALSE) -> 0 | K84: =VLOOKUP(B84,'参加申込書(NO61~90)'!$A$9:$N$38,13,FALSE) -> 0 | S84: 124 | T84: =VLOOKUP(S84,'参加申込書(NO121~150)'!$A$9:$N$38,2,FALSE) -> 0 | U84: =VLOOKUP(S84,'参加申込書(NO121~150)'!$A$9:$N$38,4,FALSE) -> 0 | Z84: =VLOOKUP(S84,'参加申込書(NO121~150)'!$A$9:$N$38,6,FALSE) -> 0 | AA84: =VLOOKUP(S84,'参加申込書(NO121~150)'!$A$9:$N$38,12,FALSE) -> 0 | AB84: =VLOOKUP(S84,'参加申込書(NO121~150)'!$A$9:$N$38,13,FALSE) -> 0 | AK84: =B77 -> 67 | AL84: =C77 -> 0 | AM84: =D77 -> 0 | AN84: =E77 -> 0 | AO84: =F77 -> 0 | AP84: =G77 -> 0 | AQ84: =H77 -> 0 | AR84: =I77 -> 0 | ... AT84: =K77 -> 0
B85: 75 | C85: =VLOOKUP(B85,'参加申込書(NO61~90)'!$A$9:$N$38,2,FALSE) -> 0 | D85: =VLOOKUP(B85,'参加申込書(NO61~90)'!$A$9:$N$38,4,FALSE) -> 0 | I85: =VLOOKUP(B85,'参加申込書(NO61~90)'!$A$9:$N$38,6,FALSE) -> 0 | J85: =VLOOKUP(B85,'参加申込書(NO61~90)'!$A$9:$N$38,12,FALSE) -> 0 | K85: =VLOOKUP(B85,'参加申込書(NO61~90)'!$A$9:$N$38,13,FALSE) -> 0 | S85: 125 | T85: =VLOOKUP(S85,'参加申込書(NO121~150)'!$A$9:$N$38,2,FALSE) -> 0 | U85: =VLOOKUP(S85,'参加申込書(NO121~150)'!$A$9:$N$38,4,FALSE) -> 0 | Z85: =VLOOKUP(S85,'参加申込書(NO121~150)'!$A$9:$N$38,6,FALSE) -> 0 | AA85: =VLOOKUP(S85,'参加申込書(NO121~150)'!$A$9:$N$38,12,FALSE) -> 0 | AB85: =VLOOKUP(S85,'参加申込書(NO121~150)'!$A$9:$N$38,13,FALSE) -> 0 | AK85: =B78 -> 68 | AL85: =C78 -> 0 | AM85: =D78 -> 0 | AN85: =E78 -> 0 | AO85: =F78 -> 0 | AP85: =G78 -> 0 | AQ85: =H78 -> 0 | AR85: =I78 -> 0 | ... AT85: =K78 -> 0
B86: 76 | C86: =VLOOKUP(B86,'参加申込書(NO61~90)'!$A$9:$N$38,2,FALSE) -> 0 | D86: =VLOOKUP(B86,'参加申込書(NO61~90)'!$A$9:$N$38,4,FALSE) -> 0 | I86: =VLOOKUP(B86,'参加申込書(NO61~90)'!$A$9:$N$38,6,FALSE) -> 0 | J86: =VLOOKUP(B86,'参加申込書(NO61~90)'!$A$9:$N$38,12,FALSE) -> 0 | K86: =VLOOKUP(B86,'参加申込書(NO61~90)'!$A$9:$N$38,13,FALSE) -> 0 | S86: 126 | T86: =VLOOKUP(S86,'参加申込書(NO121~150)'!$A$9:$N$38,2,FALSE) -> 0 | U86: =VLOOKUP(S86,'参加申込書(NO121~150)'!$A$9:$N$38,4,FALSE) -> 0 | Z86: =VLOOKUP(S86,'参加申込書(NO121~150)'!$A$9:$N$38,6,FALSE) -> 0 | AA86: =VLOOKUP(S86,'参加申込書(NO121~150)'!$A$9:$N$38,12,FALSE) -> 0 | AB86: =VLOOKUP(S86,'参加申込書(NO121~150)'!$A$9:$N$38,13,FALSE) -> 0 | AK86: =B79 -> 69 | AL86: =C79 -> 0 | AM86: =D79 -> 0 | AN86: =E79 -> 0 | AO86: =F79 -> 0 | AP86: =G79 -> 0 | AQ86: =H79 -> 0 | AR86: =I79 -> 0 | ... AT86: =K79 -> 0
B87: 77 | C87: =VLOOKUP(B87,'参加申込書(NO61~90)'!$A$9:$N$38,2,FALSE) -> 0 | D87: =VLOOKUP(B87,'参加申込書(NO61~90)'!$A$9:$N$38,4,FALSE) -> 0 | I87: =VLOOKUP(B87,'参加申込書(NO61~90)'!$A$9:$N$38,6,FALSE) -> 0 | J87: =VLOOKUP(B87,'参加申込書(NO61~90)'!$A$9:$N$38,12,FALSE) -> 0 | K87: =VLOOKUP(B87,'参加申込書(NO61~90)'!$A$9:$N$38,13,FALSE) -> 0 | S87: 127 | T87: =VLOOKUP(S87,'参加申込書(NO121~150)'!$A$9:$N$38,2,FALSE) -> 0 | U87: =VLOOKUP(S87,'参加申込書(NO121~150)'!$A$9:$N$38,4,FALSE) -> 0 | Z87: =VLOOKUP(S87,'参加申込書(NO121~150)'!$A$9:$N$38,6,FALSE) -> 0 | AA87: =VLOOKUP(S87,'参加申込書(NO121~150)'!$A$9:$N$38,12,FALSE) -> 0 | AB87: =VLOOKUP(S87,'参加申込書(NO121~150)'!$A$9:$N$38,13,FALSE) -> 0 | AK87: =B80 -> 70 | AL87: =C80 -> 0 | AM87: =D80 -> 0 | AN87: =E80 -> 0 | AO87: =F80 -> 0 | AP87: =G80 -> 0 | AQ87: =H80 -> 0 | AR87: =I80 -> 0 | ... AT87: =K80 -> 0
B88: 78 | C88: =VLOOKUP(B88,'参加申込書(NO61~90)'!$A$9:$N$38,2,FALSE) -> 0 | D88: =VLOOKUP(B88,'参加申込書(NO61~90)'!$A$9:$N$38,4,FALSE) -> 0 | I88: =VLOOKUP(B88,'参加申込書(NO61~90)'!$A$9:$N$38,6,FALSE) -> 0 | J88: =VLOOKUP(B88,'参加申込書(NO61~90)'!$A$9:$N$38,12,FALSE) -> 0 | K88: =VLOOKUP(B88,'参加申込書(NO61~90)'!$A$9:$N$38,13,FALSE) -> 0 | S88: 128 | T88: =VLOOKUP(S88,'参加申込書(NO121~150)'!$A$9:$N$38,2,FALSE) -> 0 | U88: =VLOOKUP(S88,'参加申込書(NO121~150)'!$A$9:$N$38,4,FALSE) -> 0 | Z88: =VLOOKUP(S88,'参加申込書(NO121~150)'!$A$9:$N$38,6,FALSE) -> 0 | AA88: =VLOOKUP(S88,'参加申込書(NO121~150)'!$A$9:$N$38,12,FALSE) -> 0 | AB88: =VLOOKUP(S88,'参加申込書(NO121~150)'!$A$9:$N$38,13,FALSE) -> 0 | AK88: =B81 -> 71 | AL88: =C81 -> 0 | AM88: =D81 -> 0 | AN88: =E81 -> 0 | AO88: =F81 -> 0 | AP88: =G81 -> 0 | AQ88: =H81 -> 0 | AR88: =I81 -> 0 | ... AT88: =K81 -> 0
B89: 79 | C89: =VLOOKUP(B89,'参加申込書(NO61~90)'!$A$9:$N$38,2,FALSE) -> 0 | D89: =VLOOKUP(B89,'参加申込書(NO61~90)'!$A$9:$N$38,4,FALSE) -> 0 | I89: =VLOOKUP(B89,'参加申込書(NO61~90)'!$A$9:$N$38,6,FALSE) -> 0 | J89: =VLOOKUP(B89,'参加申込書(NO61~90)'!$A$9:$N$38,12,FALSE) -> 0 | K89: =VLOOKUP(B89,'参加申込書(NO61~90)'!$A$9:$N$38,13,FALSE) -> 0 | S89: 129 | T89: =VLOOKUP(S89,'参加申込書(NO121~150)'!$A$9:$N$38,2,FALSE) -> 0 | U89: =VLOOKUP(S89,'参加申込書(NO121~150)'!$A$9:$N$38,4,FALSE) -> 0 | Z89: =VLOOKUP(S89,'参加申込書(NO121~150)'!$A$9:$N$38,6,FALSE) -> 0 | AA89: =VLOOKUP(S89,'参加申込書(NO121~150)'!$A$9:$N$38,12,FALSE) -> 0 | AB89: =VLOOKUP(S89,'参加申込書(NO121~150)'!$A$9:$N$38,13,FALSE) -> 0 | AK89: =B82 -> 72 | AL89: =C82 -> 0 | AM89: =D82 -> 0 | AN89: =E82 -> 0 | AO89: =F82 -> 0 | AP89: =G82 -> 0 | AQ89: =H82 -> 0 | AR89: =I82 -> 0 | ... AT89: =K82 -> 0
B90: 80 | C90: =VLOOKUP(B90,'参加申込書(NO61~90)'!$A$9:$N$38,2,FALSE) -> 0 | D90: =VLOOKUP(B90,'参加申込書(NO61~90)'!$A$9:$N$38,4,FALSE) -> 0 | I90: =VLOOKUP(B90,'参加申込書(NO61~90)'!$A$9:$N$38,6,FALSE) -> 0 | J90: =VLOOKUP(B90,'参加申込書(NO61~90)'!$A$9:$N$38,12,FALSE) -> 0 | K90: =VLOOKUP(B90,'参加申込書(NO61~90)'!$A$9:$N$38,13,FALSE) -> 0 | S90: 130 | T90: =VLOOKUP(S90,'参加申込書(NO121~150)'!$A$9:$N$38,2,FALSE) -> 0 | U90: =VLOOKUP(S90,'参加申込書(NO121~150)'!$A$9:$N$38,4,FALSE) -> 0 | Z90: =VLOOKUP(S90,'参加申込書(NO121~150)'!$A$9:$N$38,6,FALSE) -> 0 | AA90: =VLOOKUP(S90,'参加申込書(NO121~150)'!$A$9:$N$38,12,FALSE) -> 0 | AB90: =VLOOKUP(S90,'参加申込書(NO121~150)'!$A$9:$N$38,13,FALSE) -> 0 | AK90: =B83 -> 73 | AL90: =C83 -> 0 | AM90: =D83 -> 0 | AN90: =E83 -> 0 | AO90: =F83 -> 0 | AP90: =G83 -> 0 | AQ90: =H83 -> 0 | AR90: =I83 -> 0 | ... AT90: =K83 -> 0
B91: 81 | C91: =VLOOKUP(B91,'参加申込書(NO61~90)'!$A$9:$N$38,2,FALSE) -> 0 | D91: =VLOOKUP(B91,'参加申込書(NO61~90)'!$A$9:$N$38,4,FALSE) -> 0 | I91: =VLOOKUP(B91,'参加申込書(NO61~90)'!$A$9:$N$38,6,FALSE) -> 0 | J91: =VLOOKUP(B91,'参加申込書(NO61~90)'!$A$9:$N$38,12,FALSE) -> 0 | K91: =VLOOKUP(B91,'参加申込書(NO61~90)'!$A$9:$N$38,13,FALSE) -> 0 | S91: 131 | T91: =VLOOKUP(S91,'参加申込書(NO121~150)'!$A$9:$N$38,2,FALSE) -> 0 | U91: =VLOOKUP(S91,'参加申込書(NO121~150)'!$A$9:$N$38,4,FALSE) -> 0 | Z91: =VLOOKUP(S91,'参加申込書(NO121~150)'!$A$9:$N$38,6,FALSE) -> 0 | AA91: =VLOOKUP(S91,'参加申込書(NO121~150)'!$A$9:$N$38,12,FALSE) -> 0 | AB91: =VLOOKUP(S91,'参加申込書(NO121~150)'!$A$9:$N$38,13,FALSE) -> 0 | AK91: =B84 -> 74 | AL91: =C84 -> 0 | AM91: =D84 -> 0 | AN91: =E84 -> 0 | AO91: =F84 -> 0 | AP91: =G84 -> 0 | AQ91: =H84 -> 0 | AR91: =I84 -> 0 | ... AT91: =K84 -> 0
B92: 82 | C92: =VLOOKUP(B92,'参加申込書(NO61~90)'!$A$9:$N$38,2,FALSE) -> 0 | D92: =VLOOKUP(B92,'参加申込書(NO61~90)'!$A$9:$N$38,4,FALSE) -> 0 | I92: =VLOOKUP(B92,'参加申込書(NO61~90)'!$A$9:$N$38,6,FALSE) -> 0 | J92: =VLOOKUP(B92,'参加申込書(NO61~90)'!$A$9:$N$38,12,FALSE) -> 0 | K92: =VLOOKUP(B92,'参加申込書(NO61~90)'!$A$9:$N$38,13,FALSE) -> 0 | S92: 132 | T92: =VLOOKUP(S92,'参加申込書(NO121~150)'!$A$9:$N$38,2,FALSE) -> 0 | U92: =VLOOKUP(S92,'参加申込書(NO121~150)'!$A$9:$N$38,4,FALSE) -> 0 | Z92: =VLOOKUP(S92,'参加申込書(NO121~150)'!$A$9:$N$38,6,FALSE) -> 0 | AA92: =VLOOKUP(S92,'参加申込書(NO121~150)'!$A$9:$N$38,12,FALSE) -> 0 | AB92: =VLOOKUP(S92,'参加申込書(NO121~150)'!$A$9:$N$38,13,FALSE) -> 0 | AK92: =B85 -> 75 | AL92: =C85 -> 0 | AM92: =D85 -> 0 | AN92: =E85 -> 0 | AO92: =F85 -> 0 | AP92: =G85 -> 0 | AQ92: =H85 -> 0 | AR92: =I85 -> 0 | ... AT92: =K85 -> 0
... B100: 90 | C100: =VLOOKUP(B100,'参加申込書(NO61~90)'!$A$9:$N$38,2,FALSE) -> 0 | D100: =VLOOKUP(B100,'参加申込書(NO61~90)'!$A$9:$N$38,4,FALSE) -> 0 | I100: =VLOOKUP(B100,'参加申込書(NO61~90)'!$A$9:$N$38,6,FALSE) -> 0 | J100: =VLOOKUP(B100,'参加申込書(NO61~90)'!$A$9:$N$38,12,FALSE) -> 0 | K100: =VLOOKUP(B100,'参加申込書(NO61~90)'!$A$9:$N$38,13,FALSE) -> 0 | S100: 140 | T100: =VLOOKUP(S100,'参加申込書(NO121~150)'!$A$9:$N$38,2,FALSE) -> 0 | U100: =VLOOKUP(S100,'参加申込書(NO121~150)'!$A$9:$N$38,4,FALSE) -> 0 | Z100: =VLOOKUP(S100,'参加申込書(NO121~150)'!$A$9:$N$38,6,FALSE) -> 0 | AA100: =VLOOKUP(S100,'参加申込書(NO121~150)'!$A$9:$N$38,12,FALSE) -> 0 | AB100: =VLOOKUP(S100,'参加申込書(NO121~150)'!$A$9:$N$38,13,FALSE) -> 0 | AK100: =B93 -> 83 | AL100: =C93 -> 0 | AM100: =D93 -> 0 | AN100: =E93 -> 0 | AO100: =F93 -> 0 | AP100: =G93 -> 0 | AQ100: =H93 -> 0 | AR100: =I93 -> 0 | ... AT100: =K93 -> 0
B101: 91 | C101: =VLOOKUP(B101,'参加申込書(NO91~120)'!$A$9:$N$38,2,FALSE) -> 0 | D101: =VLOOKUP(B101,'参加申込書(NO91~120)'!$A$9:$N$38,4,FALSE) -> 0 | I101: =VLOOKUP(B101,'参加申込書(NO91~120)'!$A$9:$N$38,6,FALSE) -> 0 | J101: =VLOOKUP(B101,'参加申込書(NO91~120)'!$A$9:$N$38,12,FALSE) -> 0 | K101: =VLOOKUP(B101,'参加申込書(NO91~120)'!$A$9:$N$38,13,FALSE) -> 0 | S101: 141 | T101: =VLOOKUP(S101,'参加申込書(NO121~150)'!$A$9:$N$38,2,FALSE) -> 0 | U101: =VLOOKUP(S101,'参加申込書(NO121~150)'!$A$9:$N$38,4,FALSE) -> 0 | Z101: =VLOOKUP(S101,'参加申込書(NO121~150)'!$A$9:$N$38,6,FALSE) -> 0 | AA101: =VLOOKUP(S101,'参加申込書(NO121~150)'!$A$9:$N$38,12,FALSE) -> 0 | AB101: =VLOOKUP(S101,'参加申込書(NO121~150)'!$A$9:$N$38,13,FALSE) -> 0 | AK101: =B94 -> 84 | AL101: =C94 -> 0 | AM101: =D94 -> 0 | AN101: =E94 -> 0 | AO101: =F94 -> 0 | AP101: =G94 -> 0 | AQ101: =H94 -> 0 | AR101: =I94 -> 0 | ... AT101: =K94 -> 0
B102: 92 | C102: =VLOOKUP(B102,'参加申込書(NO91~120)'!$A$9:$N$38,2,FALSE) -> 0 | D102: =VLOOKUP(B102,'参加申込書(NO91~120)'!$A$9:$N$38,4,FALSE) -> 0 | I102: =VLOOKUP(B102,'参加申込書(NO91~120)'!$A$9:$N$38,6,FALSE) -> 0 | J102: =VLOOKUP(B102,'参加申込書(NO91~120)'!$A$9:$N$38,12,FALSE) -> 0 | K102: =VLOOKUP(B102,'参加申込書(NO91~120)'!$A$9:$N$38,13,FALSE) -> 0 | S102: 142 | T102: =VLOOKUP(S102,'参加申込書(NO121~150)'!$A$9:$N$38,2,FALSE) -> 0 | U102: =VLOOKUP(S102,'参加申込書(NO121~150)'!$A$9:$N$38,4,FALSE) -> 0 | Z102: =VLOOKUP(S102,'参加申込書(NO121~150)'!$A$9:$N$38,6,FALSE) -> 0 | AA102: =VLOOKUP(S102,'参加申込書(NO121~150)'!$A$9:$N$38,12,FALSE) -> 0 | AB102: =VLOOKUP(S102,'参加申込書(NO121~150)'!$A$9:$N$38,13,FALSE) -> 0 | AK102: =B95 -> 85 | AL102: =C95 -> 0 | AM102: =D95 -> 0 | AN102: =E95 -> 0 | AO102: =F95 -> 0 | AP102: =G95 -> 0 | AQ102: =H95 -> 0 | AR102: =I95 -> 0 | ... AT102: =K95 -> 0
B103: 93 | C103: =VLOOKUP(B103,'参加申込書(NO91~120)'!$A$9:$N$38,2,FALSE) -> 0 | D103: =VLOOKUP(B103,'参加申込書(NO91~120)'!$A$9:$N$38,4,FALSE) -> 0 | I103: =VLOOKUP(B103,'参加申込書(NO91~120)'!$A$9:$N$38,6,FALSE) -> 0 | J103: =VLOOKUP(B103,'参加申込書(NO91~120)'!$A$9:$N$38,12,FALSE) -> 0 | K103: =VLOOKUP(B103,'参加申込書(NO91~120)'!$A$9:$N$38,13,FALSE) -> 0 | S103: 143 | T103: =VLOOKUP(S103,'参加申込書(NO121~150)'!$A$9:$N$38,2,FALSE) -> 0 | U103: =VLOOKUP(S103,'参加申込書(NO121~150)'!$A$9:$N$38,4,FALSE) -> 0 | Z103: =VLOOKUP(S103,'参加申込書(NO121~150)'!$A$9:$N$38,6,FALSE) -> 0 | AA103: =VLOOKUP(S103,'参加申込書(NO121~150)'!$A$9:$N$38,12,FALSE) -> 0 | AB103: =VLOOKUP(S103,'参加申込書(NO121~150)'!$A$9:$N$38,13,FALSE) -> 0 | AK103: =B96 -> 86 | AL103: =C96 -> 0 | AM103: =D96 -> 0 | AN103: =E96 -> 0 | AO103: =F96 -> 0 | AP103: =G96 -> 0 | AQ103: =H96 -> 0 | AR103: =I96 -> 0 | ... AT103: =K96 -> 0
B104: 94 | C104: =VLOOKUP(B104,'参加申込書(NO91~120)'!$A$9:$N$38,2,FALSE) -> 0 | D104: =VLOOKUP(B104,'参加申込書(NO91~120)'!$A$9:$N$38,4,FALSE) -> 0 | I104: =VLOOKUP(B104,'参加申込書(NO91~120)'!$A$9:$N$38,6,FALSE) -> 0 | J104: =VLOOKUP(B104,'参加申込書(NO91~120)'!$A$9:$N$38,12,FALSE) -> 0 | K104: =VLOOKUP(B104,'参加申込書(NO91~120)'!$A$9:$N$38,13,FALSE) -> 0 | S104: 144 | T104: =VLOOKUP(S104,'参加申込書(NO121~150)'!$A$9:$N$38,2,FALSE) -> 0 | U104: =VLOOKUP(S104,'参加申込書(NO121~150)'!$A$9:$N$38,4,FALSE) -> 0 | Z104: =VLOOKUP(S104,'参加申込書(NO121~150)'!$A$9:$N$38,6,FALSE) -> 0 | AA104: =VLOOKUP(S104,'参加申込書(NO121~150)'!$A$9:$N$38,12,FALSE) -> 0 | AB104: =VLOOKUP(S104,'参加申込書(NO121~150)'!$A$9:$N$38,13,FALSE) -> 0 | AK104: =B97 -> 87 | AL104: =C97 -> 0 | AM104: =D97 -> 0 | AN104: =E97 -> 0 | AO104: =F97 -> 0 | AP104: =G97 -> 0 | AQ104: =H97 -> 0 | AR104: =I97 -> 0 | ... AT104: =K97 -> 0
B105: 95 | C105: =VLOOKUP(B105,'参加申込書(NO91~120)'!$A$9:$N$38,2,FALSE) -> 0 | D105: =VLOOKUP(B105,'参加申込書(NO91~120)'!$A$9:$N$38,4,FALSE) -> 0 | I105: =VLOOKUP(B105,'参加申込書(NO91~120)'!$A$9:$N$38,6,FALSE) -> 0 | J105: =VLOOKUP(B105,'参加申込書(NO91~120)'!$A$9:$N$38,12,FALSE) -> 0 | K105: =VLOOKUP(B105,'参加申込書(NO91~120)'!$A$9:$N$38,13,FALSE) -> 0 | S105: 145 | T105: =VLOOKUP(S105,'参加申込書(NO121~150)'!$A$9:$N$38,2,FALSE) -> 0 | U105: =VLOOKUP(S105,'参加申込書(NO121~150)'!$A$9:$N$38,4,FALSE) -> 0 | Z105: =VLOOKUP(S105,'参加申込書(NO121~150)'!$A$9:$N$38,6,FALSE) -> 0 | AA105: =VLOOKUP(S105,'参加申込書(NO121~150)'!$A$9:$N$38,12,FALSE) -> 0 | AB105: =VLOOKUP(S105,'参加申込書(NO121~150)'!$A$9:$N$38,13,FALSE) -> 0 | AK105: =B98 -> 88 | AL105: =C98 -> 0 | AM105: =D98 -> 0 | AN105: =E98 -> 0 | AO105: =F98 -> 0 | AP105: =G98 -> 0 | AQ105: =H98 -> 0 | AR105: =I98 -> 0 | ... AT105: =K98 -> 0
B106: 96 | C106: =VLOOKUP(B106,'参加申込書(NO91~120)'!$A$9:$N$38,2,FALSE) -> 0 | D106: =VLOOKUP(B106,'参加申込書(NO91~120)'!$A$9:$N$38,4,FALSE) -> 0 | I106: =VLOOKUP(B106,'参加申込書(NO91~120)'!$A$9:$N$38,6,FALSE) -> 0 | J106: =VLOOKUP(B106,'参加申込書(NO91~120)'!$A$9:$N$38,12,FALSE) -> 0 | K106: =VLOOKUP(B106,'参加申込書(NO91~120)'!$A$9:$N$38,13,FALSE) -> 0 | S106: 146 | T106: =VLOOKUP(S106,'参加申込書(NO121~150)'!$A$9:$N$38,2,FALSE) -> 0 | U106: =VLOOKUP(S106,'参加申込書(NO121~150)'!$A$9:$N$38,4,FALSE) -> 0 | Z106: =VLOOKUP(S106,'参加申込書(NO121~150)'!$A$9:$N$38,6,FALSE) -> 0 | AA106: =VLOOKUP(S106,'参加申込書(NO121~150)'!$A$9:$N$38,12,FALSE) -> 0 | AB106: =VLOOKUP(S106,'参加申込書(NO121~150)'!$A$9:$N$38,13,FALSE) -> 0 | AK106: =B99 -> 89 | AL106: =C99 -> 0 | AM106: =D99 -> 0 | AN106: =E99 -> 0 | AO106: =F99 -> 0 | AP106: =G99 -> 0 | AQ106: =H99 -> 0 | AR106: =I99 -> 0 | ... AT106: =K99 -> 0
B107: 97 | C107: =VLOOKUP(B107,'参加申込書(NO91~120)'!$A$9:$N$38,2,FALSE) -> 0 | D107: =VLOOKUP(B107,'参加申込書(NO91~120)'!$A$9:$N$38,4,FALSE) -> 0 | I107: =VLOOKUP(B107,'参加申込書(NO91~120)'!$A$9:$N$38,6,FALSE) -> 0 | J107: =VLOOKUP(B107,'参加申込書(NO91~120)'!$A$9:$N$38,12,FALSE) -> 0 | K107: =VLOOKUP(B107,'参加申込書(NO91~120)'!$A$9:$N$38,13,FALSE) -> 0 | S107: 147 | T107: =VLOOKUP(S107,'参加申込書(NO121~150)'!$A$9:$N$38,2,FALSE) -> 0 | U107: =VLOOKUP(S107,'参加申込書(NO121~150)'!$A$9:$N$38,4,FALSE) -> 0 | Z107: =VLOOKUP(S107,'参加申込書(NO121~150)'!$A$9:$N$38,6,FALSE) -> 0 | AA107: =VLOOKUP(S107,'参加申込書(NO121~150)'!$A$9:$N$38,12,FALSE) -> 0 | AB107: =VLOOKUP(S107,'参加申込書(NO121~150)'!$A$9:$N$38,13,FALSE) -> 0 | AK107: =B100 -> 90 | AL107: =C100 -> 0 | AM107: =D100 -> 0 | AN107: =E100 -> 0 | AO107: =F100 -> 0 | AP107: =G100 -> 0 | AQ107: =H100 -> 0 | AR107: =I100 -> 0 | ... AT107: =K100 -> 0
B108: 98 | C108: =VLOOKUP(B108,'参加申込書(NO91~120)'!$A$9:$N$38,2,FALSE) -> 0 | D108: =VLOOKUP(B108,'参加申込書(NO91~120)'!$A$9:$N$38,4,FALSE) -> 0 | I108: =VLOOKUP(B108,'参加申込書(NO91~120)'!$A$9:$N$38,6,FALSE) -> 0 | J108: =VLOOKUP(B108,'参加申込書(NO91~120)'!$A$9:$N$38,12,FALSE) -> 0 | K108: =VLOOKUP(B108,'参加申込書(NO91~120)'!$A$9:$N$38,13,FALSE) -> 0 | S108: 148 | T108: =VLOOKUP(S108,'参加申込書(NO121~150)'!$A$9:$N$38,2,FALSE) -> 0 | U108: =VLOOKUP(S108,'参加申込書(NO121~150)'!$A$9:$N$38,4,FALSE) -> 0 | Z108: =VLOOKUP(S108,'参加申込書(NO121~150)'!$A$9:$N$38,6,FALSE) -> 0 | AA108: =VLOOKUP(S108,'参加申込書(NO121~150)'!$A$9:$N$38,12,FALSE) -> 0 | AB108: =VLOOKUP(S108,'参加申込書(NO121~150)'!$A$9:$N$38,13,FALSE) -> 0 | AK108: =B101 -> 91 | AL108: =C101 -> 0 | AM108: =D101 -> 0 | AN108: =E101 -> 0 | AO108: =F101 -> 0 | AP108: =G101 -> 0 | AQ108: =H101 -> 0 | AR108: =I101 -> 0 | ... AT108: =K101 -> 0
B109: 99 | C109: =VLOOKUP(B109,'参加申込書(NO91~120)'!$A$9:$N$38,2,FALSE) -> 0 | D109: =VLOOKUP(B109,'参加申込書(NO91~120)'!$A$9:$N$38,4,FALSE) -> 0 | I109: =VLOOKUP(B109,'参加申込書(NO91~120)'!$A$9:$N$38,6,FALSE) -> 0 | J109: =VLOOKUP(B109,'参加申込書(NO91~120)'!$A$9:$N$38,12,FALSE) -> 0 | K109: =VLOOKUP(B109,'参加申込書(NO91~120)'!$A$9:$N$38,13,FALSE) -> 0 | S109: 149 | T109: =VLOOKUP(S109,'参加申込書(NO121~150)'!$A$9:$N$38,2,FALSE) -> 0 | U109: =VLOOKUP(S109,'参加申込書(NO121~150)'!$A$9:$N$38,4,FALSE) -> 0 | Z109: =VLOOKUP(S109,'参加申込書(NO121~150)'!$A$9:$N$38,6,FALSE) -> 0 | AA109: =VLOOKUP(S109,'参加申込書(NO121~150)'!$A$9:$N$38,12,FALSE) -> 0 | AB109: =VLOOKUP(S109,'参加申込書(NO121~150)'!$A$9:$N$38,13,FALSE) -> 0 | AK109: =B102 -> 92 | AL109: =C102 -> 0 | AM109: =D102 -> 0 | AN109: =E102 -> 0 | AO109: =F102 -> 0 | AP109: =G102 -> 0 | AQ109: =H102 -> 0 | AR109: =I102 -> 0 | ... AT109: =K102 -> 0
B110: 100 | C110: =VLOOKUP(B110,'参加申込書(NO91~120)'!$A$9:$N$38,2,FALSE) -> 0 | D110: =VLOOKUP(B110,'参加申込書(NO91~120)'!$A$9:$N$38,4,FALSE) -> 0 | I110: =VLOOKUP(B110,'参加申込書(NO91~120)'!$A$9:$N$38,6,FALSE) -> 0 | J110: =VLOOKUP(B110,'参加申込書(NO91~120)'!$A$9:$N$38,12,FALSE) -> 0 | K110: =VLOOKUP(B110,'参加申込書(NO91~120)'!$A$9:$N$38,13,FALSE) -> 0 | S110: 150 | T110: =VLOOKUP(S110,'参加申込書(NO121~150)'!$A$9:$N$38,2,FALSE) -> 0 | U110: =VLOOKUP(S110,'参加申込書(NO121~150)'!$A$9:$N$38,4,FALSE) -> 0 | Z110: =VLOOKUP(S110,'参加申込書(NO121~150)'!$A$9:$N$38,6,FALSE) -> 0 | AA110: =VLOOKUP(S110,'参加申込書(NO121~150)'!$A$9:$N$38,12,FALSE) -> 0 | AB110: =VLOOKUP(S110,'参加申込書(NO121~150)'!$A$9:$N$38,13,FALSE) -> 0 | AK110: =B103 -> 93 | AL110: =C103 -> 0 | AM110: =D103 -> 0 | AN110: =E103 -> 0 | AO110: =F103 -> 0 | AP110: =G103 -> 0 | AQ110: =H103 -> 0 | AR110: =I103 -> 0 | ... AT110: =K103 -> 0
AK111: =B104 -> 94 | AL111: =C104 -> 0 | AM111: =D104 -> 0 | AN111: =E104 -> 0 | AO111: =F104 -> 0 | AP111: =G104 -> 0 | AQ111: =H104 -> 0 | AR111: =I104 -> 0 | ... AT111: =K104 -> 0
AD112: ２枚目/２枚目中 | AK112: =B105 -> 95 | AL112: =C105 -> 0 | AM112: =D105 -> 0 | AN112: =E105 -> 0 | AO112: =F105 -> 0 | AP112: =G105 -> 0 | AQ112: =H105 -> 0 | AR112: =I105 -> 0 | ... AT112: =K105 -> 0
AK113: =B106 -> 96 | AL113: =C106 -> 0 | AM113: =D106 -> 0 | AN113: =E106 -> 0 | AO113: =F106 -> 0 | AP113: =G106 -> 0 | AQ113: =H106 -> 0 | AR113: =I106 -> 0 | ... AT113: =K106 -> 0
AK114: =B107 -> 97 | AL114: =C107 -> 0 | AM114: =D107 -> 0 | AN114: =E107 -> 0 | AO114: =F107 -> 0 | AP114: =G107 -> 0 | AQ114: =H107 -> 0 | AR114: =I107 -> 0 | ... AT114: =K107 -> 0
AK115: =B108 -> 98 | AL115: =C108 -> 0 | AM115: =D108 -> 0 | AN115: =E108 -> 0 | AO115: =F108 -> 0 | AP115: =G108 -> 0 | AQ115: =H108 -> 0 | AR115: =I108 -> 0 | ... AT115: =K108 -> 0
AK116: =B109 -> 99 | AL116: =C109 -> 0 | AM116: =D109 -> 0 | AN116: =E109 -> 0 | AO116: =F109 -> 0 | AP116: =G109 -> 0 | AQ116: =H109 -> 0 | AR116: =I109 -> 0 | ... AT116: =K109 -> 0
AK117: =B110 -> 100 | AL117: =C110 -> 0 | AM117: =D110 -> 0 | AN117: =E110 -> 0 | AO117: =F110 -> 0 | AP117: =G110 -> 0 | AQ117: =H110 -> 0 | AR117: =I110 -> 0 | ... AT117: =K110 -> 0
...

Sheet パンフレット (見本)
B1: トーナメント番号【 】
B2: ☆ 校章 ☆ | C2: 沖縄県立沖縄高等学校 | L2: 〒 | M2: 901-○○○○
L3: 沖縄県○○市○○○○
B5: チームスタッフ（ベンチ） | G5: チームプロフィール | M5: ユニホーム
B6: 引率教諭 | D6: 琉球 太郎１ | G6: (チームの歴史、戦績) | N6: ﾌｨｰﾙﾄﾞﾌﾟﾚｲﾔｰ | P6: ｺﾞｰﾙｷｰﾊﾟｰ
B7: 監 督 | D7: 琉球 太郎２ | G7: 1970年 学校設立と共に創部 | N7: 正 | O7: 副 | P7: 正 | Q7: 副
B8: コーチ | D8: 琉球 太郎３ | G8: 1988年 県新人大会 ベスト４ | M8: ｼｬﾂ | N8: 青 | O8: 緑 | P8: 黄 | Q8: ピンク
B9: コーチ | D9: 琉球 太郎４ | G9: 1988年 県総合体育大会 優勝
B10: コーチ | G10: 1988年 全国総合体育大会 1回戦突破 | M10: ﾊﾟﾝﾂ | N10: 白 | O10: 緑 | P10: 黄 | Q10: ピンク
B11: マネージャー | D11: 琉球 太郎５
B12: マネージャー | M12: ｿｯｸｽ | N12: 赤 | O12: 緑 | P12: 黄 | Q12: ピンク
B14: ※通番は背番号ではありません。
B15: 通番 | C15: 位置 | D15: 氏 名 | I15: 学年 | J15: 身長 (cm) | K15: 体重 (kg) | L15: 前所属（クラブチームはクラブ名）
L16: 中学校 | O16: 小学校
B17: 1 | C17: GK | D17: 沖縄 太郎１ | I17: 3 | J17: 180 | K17: 78 | L17: 琉沖中学校A | O17: 琉球沖小チームA
B18: 2 | C18: DF | D18: 沖縄 太郎２ | I18: 3 | J18: 176 | K18: 77 | L18: 琉沖中学校B | O18: 琉球沖小チームA
B19: 3 | C19: DF | D19: 沖縄 太郎３ | I19: 3 | J19: 172 | K19: 68 | L19: 琉沖中学校A | O19: 琉球沖小チームA
B20: 4 | C20: DF | D20: 沖縄 太郎４ | I20: 3 | J20: 183 | K20: 79 | L20: 琉沖中学校B | O20: 琉球沖小チームA
B21: 5 | C21: DF | D21: 沖縄 太郎５ | I21: 2 | J21: 165 | K21: 60 | L21: 琉沖中学校A | O21: 琉球沖小チームA
B22: 6 | C22: MF | D22: 沖縄 太郎６ | I22: 3 | J22: 178 | K22: 76 | L22: 琉沖中学校B | O22: 琉球沖小チームA
B23: 7 | C23: MF | D23: 沖縄 太郎７ | I23: 3 | J23: 170 | K23: 63 | L23: 琉沖中学校A | O23: 琉球沖小チームA
B24: 8 | C24: MF | D24: 沖縄 太郎８ | I24: 3 | J24: 169 | K24: 67 | L24: 琉沖中学校B | O24: 琉球沖小チームA
B25: 9 | C25: MF | D25: 沖縄 太郎９ | I25: 1 | J25: 173 | K25: 70 | L25: 琉沖中学校A | O25: 琉球沖小チームA
B26: 10 | C26: FW | D26: 沖縄 太郎１０ | I26: 3 | J26: 190 | K26: 75 | L26: 琉沖中学校B | O26: 琉球沖小チームA
B27: 11 | C27: FW | D27: 沖縄 太郎１１ | I27: 2 | J27: 155 | K27: 58 | L27: 琉沖中学校A | O27: 琉球沖小チームA
B28: 12 | C28: GK | D28: 沖縄 太郎１２ | I28: 3 | J28: 173 | K28: 64 | L28: 琉沖中学校B | O28: 琉球沖小チームA
... B30: 14 | C30: DF | D30: 沖縄 太郎１４ | I30: 3 | J30: 168 | K30: 60 | L30: 琉沖中学校B | O30: 琉球沖小チームA
B31: 15 | C31: DF | D31: 沖縄 太郎１５ | I31: 3 | J31: 165 | K31: 60 | L31: 琉沖中学校A
B32: 16 | C32: DF | D32: 沖縄 太郎１６ | I32: 2 | J32: 170 | K32: 66 | L32: 琉沖中学校B | O32: 琉球沖小チームA
B33: 17 | C33: DF | D33: 沖縄 太郎１７ | I33: 2 | J33: 181 | K33: 80 | L33: 琉沖中学校A
B34: 18 | C34: DF | D34: 沖縄 太郎１８ | I34: 1 | J34: 164 | K34: 70 | L34: 琉沖中学校B | O34: 琉球沖小チームA
B35: 19 | C35: DF | D35: 沖縄 太郎１９ | I35: 1 | J35: 158 | K35: 60 | L35: 琉沖中学校A | O35: 琉球沖小チームA
B36: 20 | C36: DF | D36: 沖縄 太郎２０ | I36: 1 | J36: 167 | K36: 70 | L36: 琉沖中学校B
B37: 21 | C37: MF | D37: 沖縄 太郎２１ | I37: 3 | J37: 189 | K37: 79 | L37: 琉沖中学校A | O37: 琉球沖小チームA
B38: 22 | C38: MF | D38: 沖縄 太郎２２ | I38: 3 | J38: 176 | K38: 70 | L38: 琉沖中学校B | O38: 琉球沖小チームA
B39: 23 | C39: MF | D39: 沖縄 太郎２３ | I39: 3 | J39: 159 | K39: 55 | L39: 琉沖中学校A | O39: リュウオキクラブチーム
B40: 24 | C40: MF | D40: 沖縄 太郎２４ | I40: 3 | J40: 160 | K40: 60 | L40: 琉沖中学校B | O40: リュウオキクラブチーム
B41: 25 | C41: MF | D41: 沖縄 太郎２５ | I41: 2 | J41: 167 | K41: 62 | L41: リュウオキクラブチーム | O41: リュウオキクラブチーム
B42: 26 | C42: FW | D42: 沖縄 太郎２６ | I42: 3 | J42: 171 | K42: 65 | L42: リュウオキクラブチーム | O42: リュウオキクラブチーム
B43: 27 | C43: FW | D43: 沖縄 太郎２７ | I43: 1 | J43: 157 | K43: 59 | L43: リュウオキクラブチーム
B44: 28 | C44: 0 | D44: 0 | I44: 0 | J44: 0 | K44: 0
B45: 29 | C45: 0 | D45: 0 | I45: 0 | J45: 0 | K45: 0
B46: 30 | C46: 0 | D46: 0 | I46: 0 | J46: 0 | K46: 0

Sheet ﾒﾝﾊﾞｰ及び交代用紙
A1: 2026年 第105回全国高校サッカー選手権大会沖縄県大会メンバー用紙及び交代用紙
B2: 学校名 | E2: =IF('参加申込書(NO1~30)'!C3="","",'参加申込書(NO1~30)'!C3)
A4: 通番 | B4: 背番号 | C4: 位置 | D4: ふりがな | E4: 学年 | F4: 先発 | G4: 交代 要員 | H4: 選手交代（IN→〇 OUT→×）（交代する場面に〇つける） | N4: 脳震盪 | P4: 延長 | R4: R 8 年 月 日
D5: 氏名 | H5: 1人目 前・HT・後・IV・ (延長) | I5: 2人目 前・HT・後・IV・ (延長) | J5: 3人目 前・HT・後・IV・ (延長) | L5: 4人目 前・HT・後・IV・ (延長) | M5: 5人目 前・HT・後・IV・ (延長) | N5: 自 | O5: 相 | P5: ６人目
R6: 自チーム | T6: 対戦チーム
B7: 1 | C7: =IF(A7="","",VLOOKUP(A7,'パンフレット (100名以上用)'!$AK$17:$AT$167,2,FALSE)) | E7: =IF(A7="","",VLOOKUP(A7,'パンフレット (100名以上用)'!$AK$17:$AT$167,8,FALSE))
D8: =IF(A7="","",VLOOKUP(A7,'パンフレット (100名以上用)'!$AK$17:$AT$167,3,FALSE))
B9: 2 | C9: =IF(A9="","",VLOOKUP(A9,'パンフレット (100名以上用)'!$AK$17:$AT$167,2,FALSE)) | E9: =IF(A9="","",VLOOKUP(A9,'パンフレット (100名以上用)'!$AK$17:$AT$167,8,FALSE)) | R9: ユニフォームの色
D10: =IF(A9="","",VLOOKUP(A9,'パンフレット (100名以上用)'!$AK$17:$AT$167,3,FALSE))
B11: 3 | C11: =IF(A11="","",VLOOKUP(A11,'パンフレット (100名以上用)'!$AK$17:$AT$167,2,FALSE)) | E11: =IF(A11="","",VLOOKUP(A11,'パンフレット (100名以上用)'!$AK$17:$AT$167,8,FALSE))
D12: =IF(A11="","",VLOOKUP(A11,'パンフレット (100名以上用)'!$AK$17:$AT$167,3,FALSE)) | S12: シャツ | T12: ショーツ | U12: ソックス
B13: 4 | C13: =IF(A13="","",VLOOKUP(A13,'パンフレット (100名以上用)'!$AK$17:$AT$167,2,FALSE)) | E13: =IF(A13="","",VLOOKUP(A13,'パンフレット (100名以上用)'!$AK$17:$AT$167,8,FALSE)) | R13: FP
D14: =IF(A13="","",VLOOKUP(A13,'パンフレット (100名以上用)'!$AK$17:$AT$167,3,FALSE))
B15: 5 | C15: =IF(A15="","",VLOOKUP(A15,'パンフレット (100名以上用)'!$AK$17:$AT$167,2,FALSE)) | E15: =IF(A15="","",VLOOKUP(A15,'パンフレット (100名以上用)'!$AK$17:$AT$167,8,FALSE)) | R15: GK
D16: =IF(A15="","",VLOOKUP(A15,'パンフレット (100名以上用)'!$AK$17:$AT$167,3,FALSE))
B17: 6 | C17: =IF(A17="","",VLOOKUP(A17,'パンフレット (100名以上用)'!$AK$17:$AT$167,2,FALSE)) | E17: =IF(A17="","",VLOOKUP(A17,'パンフレット (100名以上用)'!$AK$17:$AT$167,8,FALSE))
D18: =IF(A17="","",VLOOKUP(A17,'パンフレット (100名以上用)'!$AK$17:$AT$167,3,FALSE)) | R18: 【注意事項】
B19: 7 | C19: =IF(A19="","",VLOOKUP(A19,'パンフレット (100名以上用)'!$AK$17:$AT$167,2,FALSE)) | E19: =IF(A19="","",VLOOKUP(A19,'パンフレット (100名以上用)'!$AK$17:$AT$167,8,FALSE)) | R19: ①試合開始30分前に本部記録係へ、またはMCMにて提出することとする。 ②選手交代は交代要員の内から5人までとする。脳震盪、延長については追加あり（実施要項要確認）。 ③先発の欄には先発は○、出場停止の場合は×を記入する。 ④交代要員は最大9名とする。 ⑤交代要員の欄には、交代要員は○、交代要員とならない選手には、×を記入する。 ⑥選手交代の欄には、退場の選手に×、入場の選手に○を記入する。 ⑦交代する場面に〇を記入する。(例:後半なら後、延長前半なら延長と前に〇を記入) ⑧準決勝からは、ふりがなと布陣を記入する。
D20: =IF(A19="","",VLOOKUP(A19,'パンフレット (100名以上用)'!$AK$17:$AT$167,3,FALSE))
B21: 8 | C21: =IF(A21="","",VLOOKUP(A21,'パンフレット (100名以上用)'!$AK$17:$AT$167,2,FALSE)) | E21: =IF(A21="","",VLOOKUP(A21,'パンフレット (100名以上用)'!$AK$17:$AT$167,8,FALSE))
D22: =IF(A21="","",VLOOKUP(A21,'パンフレット (100名以上用)'!$AK$17:$AT$167,3,FALSE))
B23: 9 | C23: =IF(A23="","",VLOOKUP(A23,'パンフレット (100名以上用)'!$AK$17:$AT$167,2,FALSE)) | E23: =IF(A23="","",VLOOKUP(A23,'パンフレット (100名以上用)'!$AK$17:$AT$167,8,FALSE))
D24: =IF(A23="","",VLOOKUP(A23,'パンフレット (100名以上用)'!$AK$17:$AT$167,3,FALSE))
B25: 10 | C25: =IF(A25="","",VLOOKUP(A25,'パンフレット (100名以上用)'!$AK$17:$AT$167,2,FALSE)) | E25: =IF(A25="","",VLOOKUP(A25,'パンフレット (100名以上用)'!$AK$17:$AT$167,8,FALSE))
D26: =IF(A25="","",VLOOKUP(A25,'パンフレット (100名以上用)'!$AK$17:$AT$167,3,FALSE))
B27: 11 | C27: =IF(A27="","",VLOOKUP(A27,'パンフレット (100名以上用)'!$AK$17:$AT$167,2,FALSE)) | E27: =IF(A27="","",VLOOKUP(A27,'パンフレット (100名以上用)'!$AK$17:$AT$167,8,FALSE))
D28: =IF(A27="","",VLOOKUP(A27,'パンフレット (100名以上用)'!$AK$17:$AT$167,3,FALSE))
B29: 12 | C29: =IF(A29="","",VLOOKUP(A29,'パンフレット (100名以上用)'!$AK$17:$AT$167,2,FALSE)) | E29: =IF(A29="","",VLOOKUP(A29,'パンフレット (100名以上用)'!$AK$17:$AT$167,8,FALSE))
D30: =IF(A29="","",VLOOKUP(A29,'パンフレット (100名以上用)'!$AK$17:$AT$167,3,FALSE)) | R30: ベンチ入りスタッフ氏名（5名以内)
B31: 13 | C31: =IF(A31="","",VLOOKUP(A31,'パンフレット (100名以上用)'!$AK$17:$AT$167,2,FALSE)) | E31: =IF(A31="","",VLOOKUP(A31,'パンフレット (100名以上用)'!$AK$17:$AT$167,8,FALSE))
D32: =IF(A31="","",VLOOKUP(A31,'パンフレット (100名以上用)'!$AK$17:$AT$167,3,FALSE)) | R32: NO | S32: 氏 名 | U32: 役 職
B33: 14 | C33: =IF(A33="","",VLOOKUP(A33,'パンフレット (100名以上用)'!$AK$17:$AT$167,2,FALSE)) | E33: =IF(A33="","",VLOOKUP(A33,'パンフレット (100名以上用)'!$AK$17:$AT$167,8,FALSE)) | R33: 1
D34: =IF(A33="","",VLOOKUP(A33,'パンフレット (100名以上用)'!$AK$17:$AT$167,3,FALSE))
B35: 15 | C35: =IF(A35="","",VLOOKUP(A35,'パンフレット (100名以上用)'!$AK$17:$AT$167,2,FALSE)) | E35: =IF(A35="","",VLOOKUP(A35,'パンフレット (100名以上用)'!$AK$17:$AT$167,8,FALSE)) | R35: 2
D36: =IF(A35="","",VLOOKUP(A35,'パンフレット (100名以上用)'!$AK$17:$AT$167,3,FALSE))
B37: 16 | C37: =IF(A37="","",VLOOKUP(A37,'パンフレット (100名以上用)'!$AK$17:$AT$167,2,FALSE)) | E37: =IF(A37="","",VLOOKUP(A37,'パンフレット (100名以上用)'!$AK$17:$AT$167,8,FALSE)) | R37: 3
D38: =IF(A37="","",VLOOKUP(A37,'パンフレット (100名以上用)'!$AK$17:$AT$167,3,FALSE))
B39: 17 | C39: =IF(A39="","",VLOOKUP(A39,'パンフレット (100名以上用)'!$AK$17:$AT$167,2,FALSE)) | E39: =IF(A39="","",VLOOKUP(A39,'パンフレット (100名以上用)'!$AK$17:$AT$167,8,FALSE)) | R39: 4
D40: =IF(A39="","",VLOOKUP(A39,'パンフレット (100名以上用)'!$AK$17:$AT$167,3,FALSE))
B41: 18 | C41: =IF(A41="","",VLOOKUP(A41,'パンフレット (100名以上用)'!$AK$17:$AT$167,2,FALSE)) | E41: =IF(A41="","",VLOOKUP(A41,'パンフレット (100名以上用)'!$AK$17:$AT$167,8,FALSE)) | R41: 5
D42: =IF(A41="","",VLOOKUP(A41,'パンフレット (100名以上用)'!$AK$17:$AT$167,3,FALSE))
B43: 19 | C43: =IF(A43="","",VLOOKUP(A43,'パンフレット (100名以上用)'!$AK$17:$AT$167,2,FALSE)) | E43: =IF(A43="","",VLOOKUP(A43,'パンフレット (100名以上用)'!$AK$17:$AT$167,8,FALSE))
D44: =IF(A43="","",VLOOKUP(A43,'パンフレット (100名以上用)'!$AK$17:$AT$167,3,FALSE)) | R44: 監督署名
B45: 20 | C45: =IF(A45="","",VLOOKUP(A45,'パンフレット (100名以上用)'!$AK$17:$AT$167,2,FALSE)) | E45: =IF(A45="","",VLOOKUP(A45,'パンフレット (100名以上用)'!$AK$17:$AT$167,8,FALSE))
D46: =IF(A45="","",VLOOKUP(A45,'パンフレット (100名以上用)'!$AK$17:$AT$167,3,FALSE))
B47: 21 | C47: =IF(A47="","",VLOOKUP(A47,'パンフレット (100名以上用)'!$AK$17:$AT$167,2,FALSE)) | E47: =IF(A47="","",VLOOKUP(A47,'パンフレット (100名以上用)'!$AK$17:$AT$167,8,FALSE))
D48: =IF(A47="","",VLOOKUP(A47,'パンフレット (100名以上用)'!$AK$17:$AT$167,3,FALSE)) | R48: 出場選手は全員、日本サッカー協会登録済みの選手であることを確認しています。
B49: 22 | C49: =IF(A49="","",VLOOKUP(A49,'パンフレット (100名以上用)'!$AK$17:$AT$167,2,FALSE)) | E49: =IF(A49="","",VLOOKUP(A49,'パンフレット (100名以上用)'!$AK$17:$AT$167,8,FALSE))
D50: =IF(A49="","",VLOOKUP(A49,'パンフレット (100名以上用)'!$AK$17:$AT$167,3,FALSE))
B51: 23 | C51: =IF(A51="","",VLOOKUP(A51,'パンフレット (100名以上用)'!$AK$17:$AT$167,2,FALSE)) | E51: =IF(A51="","",VLOOKUP(A51,'パンフレット (100名以上用)'!$AK$17:$AT$167,8,FALSE))
D52: =IF(A51="","",VLOOKUP(A51,'パンフレット (100名以上用)'!$AK$17:$AT$167,3,FALSE)) | R52: 署名：
B53: 24 | C53: =IF(A53="","",VLOOKUP(A53,'パンフレット (100名以上用)'!$AK$17:$AT$167,2,FALSE)) | E53: =IF(A53="","",VLOOKUP(A53,'パンフレット (100名以上用)'!$AK$17:$AT$167,8,FALSE))
D54: =IF(A53="","",VLOOKUP(A53,'パンフレット (100名以上用)'!$AK$17:$AT$167,3,FALSE)) | R54: 布陣
B55: 25 | C55: =IF(A55="","",VLOOKUP(A55,'パンフレット (100名以上用)'!$AK$17:$AT$167,2,FALSE)) | E55: =IF(A55="","",VLOOKUP(A55,'パンフレット (100名以上用)'!$AK$17:$AT$167,8,FALSE))
D56: =IF(A55="","",VLOOKUP(A55,'パンフレット (100名以上用)'!$AK$17:$AT$167,3,FALSE))
B57: 26 | C57: =IF(A57="","",VLOOKUP(A57,'パンフレット (100名以上用)'!$AK$17:$AT$167,2,FALSE)) | E57: =IF(A57="","",VLOOKUP(A57,'パンフレット (100名以上用)'!$AK$17:$AT$167,8,FALSE))
D58: =IF(A57="","",VLOOKUP(A57,'パンフレット (100名以上用)'!$AK$17:$AT$167,3,FALSE))
B59: 27 | C59: =IF(A59="","",VLOOKUP(A59,'パンフレット (100名以上用)'!$AK$17:$AT$167,2,FALSE)) | E59: =IF(A59="","",VLOOKUP(A59,'パンフレット (100名以上用)'!$AK$17:$AT$167,8,FALSE))
D60: =IF(A59="","",VLOOKUP(A59,'パンフレット (100名以上用)'!$AK$17:$AT$167,3,FALSE))
B61: 28 | C61: =IF(A61="","",VLOOKUP(A61,'パンフレット (100名以上用)'!$AK$17:$AT$167,2,FALSE)) | E61: =IF(A61="","",VLOOKUP(A61,'パンフレット (100名以上用)'!$AK$17:$AT$167,8,FALSE))
D62: =IF(A61="","",VLOOKUP(A61,'パンフレット (100名以上用)'!$AK$17:$AT$167,3,FALSE))
B63: 29 | C63: =IF(A63="","",VLOOKUP(A63,'パンフレット (100名以上用)'!$AK$17:$AT$167,2,FALSE)) | E63: =IF(A63="","",VLOOKUP(A63,'パンフレット (100名以上用)'!$AK$17:$AT$167,8,FALSE))
D64: =IF(A63="","",VLOOKUP(A63,'パンフレット (100名以上用)'!$AK$17:$AT$167,3,FALSE))
B65: 30 | C65: =IF(A65="","",VLOOKUP(A65,'パンフレット (100名以上用)'!$AK$17:$AT$167,2,FALSE)) | E65: =IF(A65="","",VLOOKUP(A65,'パンフレット (100名以上用)'!$AK$17:$AT$167,8,FALSE))
D66: =IF(A65="","",VLOOKUP(A65,'パンフレット (100名以上用)'!$AK$17:$AT$167,3,FALSE))
C67: 補助マネージャー氏名(5名以内) | R67: 選手登録確認欄（本部用）
C68: 1 | F68: 2 | J68: 3 | R68: 済 ・ 未
C69: 4 | F69: 5
